Workbook

Sheet 2016
F6: Spiele | N6: Spiel | O6: Spiel | P6: Spiel | Q6: Spiel | R6: Spiel | S6: Spiel | T6: Spiel | U6: Spiel | V6: Spiel | W6: Spiel | X6: Spiel | Y6: Spiel | Z6: Spiel | AA6: Spiel | AB6: Spiel | AC6: Spiel | AD6: Spiel | AE6: Spiel | AF6: Spiel | AG6: Spiel | AH6: Spiel | AI6: Spiel | AJ6: Spiel | AK6: Spiel | AL6: Spiel | AM6: Spiel | AN6: Spiel | AO6: Spiel | AP6: Spiel | AQ6: Spiel | AR6: Spiel | AS6: Spiel | AT6: Spiel | AU6: Spiel | AV6: Spiel | AW6: Spiel | AX6: Spiel | AY6: Spiel | AZ6: Spiel | BA6: Spiel | BB6: Spiel | BC6: Spiel | BD6: Spiel | BE6: Spiel | BF6: Spiel | BG6: Spiel | BH6: Spiel | BI6: Spiel | BJ6: Spiel | BK6: Spiel | BL6: Spiel | BM6: Spiel | BN6: Spiel | BO6: Spiel | BP6: Spiel | BQ6: Spiel | BR6: Spiel | BS6: Spiel | BT6: Spiel | BU6: Spiel | BV6: Spiel | BW6: Spiel | BX6: Spiel | BY6: Spiel | BZ6: Spiel | CA6: Spiel | CB6: Spiel | CC6: Spiel | CD6: Spiel | CE6: Spiel | CF6: Spiel | CG6: Spiel | CH6: Spiel | CI6: Spiel | CJ6: Spiel | CK6: Spiel | CL6: Spiel | CM6: Spiel | CN6: Spiel | CO6: Spiel | CP6: Spiel | CQ6: Spiel | CR6: Spiel | CS6: Spiel | CT6: Spiel | CU6: Spiel | CV6: Spiel | CW6: Spiel | CX6: Spiel | CY6: Spiel | CZ6: Spiel | DA6: Spiel | DB6: Spiel | DC6: Spiel | DD6: Spiel | DE6: Spiel | DF6: Spiel | DG6: Spiel | DH6: Spiel | DI6: Spiel | DJ6: Spiel | DK6: Spiel | DL6: Spiel | DM6: Spiel | DN6: Spiel | DO6: Spiel | DP6: Spiel | DQ6: Spiel | DR6: Spiel | DS6: Spiel | DT6: Spiel | DU6: Spiel | DV6: Spiel | DW6: Spiel | DX6: Spiel | DY6: Spiel | DZ6: Spiel | EA6: Spiel | EB6: Spiel | EC6: Spiel | ED6: Spiel | EE6: Spiel | EF6: Spiel | EG6: Spiel | EH6: Spiel | EI6: Spiel | EJ6: Spiel | EK6: Spiel | EL6: Spiel | EM6: Spiel | EN6: Spiel | EO6: Spiel | EP6: Spiel | EQ6: Spiel | ER6: Spiel | ES6: Spiel | ET6: Spiel | EU6: Spiel | EV6: Spiel | EW6: Spiel | EX6: Spiel | EY6: Spiel | EZ6: Spiel | FA6: Spiel | FB6: Spiel | FC6: Spiel | FD6: Spiel | FE6: Spiel | FF6: Spiel | FG6: Spiel | FH6: Spiel | FI6: Spiel | FJ6: Spiel | FK6: Spiel | FL6: Spiel | FM6: Spiel | FN6: Spiel | FO6: Spiel | FP6: Spiel | FQ6: Spiel | FR6: Spiel | FS6: Spiel | FT6: Spiel | FU6: Spiel | FV6: Spiel | FW6: Spiel | FX6: Spiel | FY6: Spiel | FZ6: Spiel | GA6: Spiel
A7: Platz | B7: Tipper(in) | D7: Punkte | F7: getippt | H7: 1. Pl. | I7: 2. Pl. | J7: 3. Pl. | K7: 4. Pl. | L7: 5. Pl. | N7: =O7+1 -> 170 | O7: =P7+1 -> 169 | P7: =Q7+1 -> 168 | Q7: =R7+1 -> 167 | R7: =S7+1 -> 166 | S7: =T7+1 -> 165 | T7: =U7+1 -> 164 | U7: =V7+1 -> 163 | ... FZ7: =GA7+1 -> 2 | GA7: 1
A9: =A8+1 -> 1 | B9: Claude D. | D9: =(H9*5+I9*3+J9*1) -> 26 | F9: =COUNTIF(AI9:GA9,"<>") -> 17 | H9: =COUNTIF(N9:GA9,"=1") -> 4 | I9: =COUNTIF(N9:GA9,"=2") -> 2 | J9: =COUNTIF(N9:GA9,"=3") -> 0 | K9: =COUNTIF(N9:GA9,"=4") -> 0 | L9: =COUNTIF(N9:GA9,"=5") -> 2 | FK9: x | FL9: x | FM9: x | FN9: 1 | FO9: x | FP9: x | FQ9: x | FR9: 1 | FS9: x | FT9: 5 | FU9: 2 | FV9: x | FW9: 2 | FX9: 1 | FY9: 1 | FZ9: x | GA9: 5
A10: =A9+1 -> 2 | B10: kartenhai | D10: =(H10*5+I10*3+J10*1) -> 22 | F10: =COUNTIF(AI10:GA10,"<>") -> 12 | H10: =COUNTIF(N10:GA10,"=1") -> 4 | I10: =COUNTIF(N10:GA10,"=2") -> 0 | J10: =COUNTIF(N10:GA10,"=3") -> 2 | K10: =COUNTIF(N10:GA10,"=4") -> 0 | L10: =COUNTIF(N10:GA10,"=5") -> 0 | FK10: 1 | FL10: x | FM10: 1 | FN10: 3 | FO10: x | FP10: 1 | FS10: x | FU10: 1 | FV10: x | FX10: 3 | FY10: x | GA10: x
A11: =A10+1 -> 3 | B11: hallerc4 | D11: =(H11*5+I11*3+J11*1) -> 15 | F11: =COUNTIF(AI11:GA11,"<>") -> 17 | H11: =COUNTIF(N11:GA11,"=1") -> 1 | I11: =COUNTIF(N11:GA11,"=2") -> 3 | J11: =COUNTIF(N11:GA11,"=3") -> 1 | K11: =COUNTIF(N11:GA11,"=4") -> 1 | L11: =COUNTIF(N11:GA11,"=5") -> 1 | FK11: x | FL11: 2 | FM11: 2 | FN11: x | FO11: x | FP11: 5 | FQ11: 2 | FR11: x | FS11: 1 | FT11: 3 | FU11: x | FV11: x | FW11: x | FX11: x | FY11: x | FZ11: 4 | GA11: x
A12: =A11+1 -> 4 | B12: Wolffi | D12: =(H12*5+I12*3+J12*1) -> 11 | F12: =COUNTIF(AI12:GA12,"<>") -> 17 | H12: =COUNTIF(N12:GA12,"=1") -> 1 | I12: =COUNTIF(N12:GA12,"=2") -> 1 | J12: =COUNTIF(N12:GA12,"=3") -> 3 | K12: =COUNTIF(N12:GA12,"=4") -> 2 | L12: =COUNTIF(N12:GA12,"=5") -> 0 | FK12: 3 | FL12: x | FM12: x | FN12: x | FO12: x | FP12: 2 | FQ12: x | FR12: x | FS12: x | FT12: 1 | FU12: 4 | FV12: x | FW12: 3 | FX12: x | FY12: 4 | FZ12: 3 | GA12: x
A13: =A12+1 -> 5 | B13: KArnoldBln | D13: =(H13*5+I13*3+J13*1) -> 10 | F13: =COUNTIF(AI13:GA13,"<>") -> 12 | H13: =COUNTIF(N13:GA13,"=1") -> 2 | I13: =COUNTIF(N13:GA13,"=2") -> 0 | J13: =COUNTIF(N13:GA13,"=3") -> 0 | K13: =COUNTIF(N13:GA13,"=4") -> 0 | L13: =COUNTIF(N13:GA13,"=5") -> 2 | FL13: x | FM13: x | FN13: x | FO13: 5 | FR13: x | FU13: x | FV13: 5 | FW13: 1 | FX13: x | FY13: x | FZ13: 1 | GA13: x
A14: =A13+1 -> 6 | B14: Nicht Profi | D14: =(H14*5+I14*3+J14*1) -> 10 | F14: =COUNTIF(AI14:GA14,"<>") -> 15 | H14: =COUNTIF(N14:GA14,"=1") -> 1 | I14: =COUNTIF(N14:GA14,"=2") -> 1 | J14: =COUNTIF(N14:GA14,"=3") -> 2 | K14: =COUNTIF(N14:GA14,"=4") -> 0 | L14: =COUNTIF(N14:GA14,"=5") -> 1 | FK14: x | FL14: 3 | FM14: 3 | FO14: x | FP14: x | FR14: x | FS14: x | FT14: x | FU14: x | FV14: 1 | FW14: 5 | FX14: x | FY14: x | FZ14: 2 | GA14: x
A15: =A14+1 -> 7 | B15: Vichy | D15: =(H15*5+I15*3+J15*1) -> 9 | F15: =COUNTIF(AI15:GA15,"<>") -> 17 | H15: =COUNTIF(N15:GA15,"=1") -> 1 | I15: =COUNTIF(N15:GA15,"=2") -> 1 | J15: =COUNTIF(N15:GA15,"=3") -> 1 | K15: =COUNTIF(N15:GA15,"=4") -> 3 | L15: =COUNTIF(N15:GA15,"=5") -> 1 | FK15: 4 | FL15: 1 | FM15: x | FN15: 4 | FO15: 4 | FP15: x | FQ15: x | FR15: x | FS15: x | FT15: x | FU15: x | FV15: x | FW15: x | FX15: x | FY15: 2 | FZ15: 5 | GA15: 3
A16: =A15+1 -> 8 | B16: 241264hsv-fan | D16: =(H16*5+I16*3+J16*1) -> 9 | F16: =COUNTIF(AI16:GA16,"<>") -> 13 | H16: =COUNTIF(N16:GA16,"=1") -> 1 | I16: =COUNTIF(N16:GA16,"=2") -> 1 | J16: =COUNTIF(N16:GA16,"=3") -> 1 | K16: =COUNTIF(N16:GA16,"=4") -> 1 | L16: =COUNTIF(N16:GA16,"=5") -> 0 | FK16: x | FL16: x | FM16: x | FN16: 2 | FO16: x | FP16: 3 | FR16: x | FV16: x | FW16: x | FX16: 4 | FY16: x | FZ16: x | GA16: 1
A17: =A16+1 -> 9 | B17: Thor75S | D17: =(H17*5+I17*3+J17*1) -> 8 | F17: =COUNTIF(AI17:GA17,"<>") -> 12 | H17: =COUNTIF(N17:GA17,"=1") -> 1 | I17: =COUNTIF(N17:GA17,"=2") -> 1 | J17: =COUNTIF(N17:GA17,"=3") -> 0 | K17: =COUNTIF(N17:GA17,"=4") -> 0 | L17: =COUNTIF(N17:GA17,"=5") -> 1 | FK17: x | FL17: x | FN17: x | FO17: x | FP17: x | FQ17: 1 | FR17: 2 | FT17: x | FU17: x | FX17: 5 | FY17: x | FZ17: x
A18: =A17+1 -> 10 | B18: muesli | D18: =(H18*5+I18*3+J18*1) -> 6 | F18: =COUNTIF(AI18:GA18,"<>") -> 14 | H18: =COUNTIF(N18:GA18,"=1") -> 0 | I18: =COUNTIF(N18:GA18,"=2") -> 2 | J18: =COUNTIF(N18:GA18,"=3") -> 0 | K18: =COUNTIF(N18:GA18,"=4") -> 0 | L18: =COUNTIF(N18:GA18,"=5") -> 0 | FK18: 2 | FL18: x | FM18: x | FN18: x | FO18: x | FP18: x | FQ18: x | FR18: x | FS18: x | FT18: 2 | FX18: x | FY18: x | FZ18: x | GA18: x
A19: =A18+1 -> 11 | B19: Braunbear | D19: =(H19*5+I19*3+J19*1) -> 5 | F19: =COUNTIF(AI19:GA19,"<>") -> 9 | H19: =COUNTIF(N19:GA19,"=1") -> 1 | I19: =COUNTIF(N19:GA19,"=2") -> 0 | J19: =COUNTIF(N19:GA19,"=3") -> 0 | K19: =COUNTIF(N19:GA19,"=4") -> 1 | L19: =COUNTIF(N19:GA19,"=5") -> 1 | FO19: 1 | FR19: x | FS19: 4 | FU19: x | FV19: x | FW19: x | FY19: x | FZ19: x | GA19: 5
A20: =A19+1 -> 12 | B20: Usul3 | D20: =(H20*5+I20*3+J20*1) -> 5 | F20: =COUNTIF(AI20:GA20,"<>") -> 14 | H20: =COUNTIF(N20:GA20,"=1") -> 0 | I20: =COUNTIF(N20:GA20,"=2") -> 1 | J20: =COUNTIF(N20:GA20,"=3") -> 2 | K20: =COUNTIF(N20:GA20,"=4") -> 2 | L20: =COUNTIF(N20:GA20,"=5") -> 0 | FL20: x | FM20: 4 | FP20: x | FQ20: x | FR20: x | FS20: 3 | FT20: 4 | FU20: x | FV20: x | FW20: x | FX20: 2 | FY20: 3 | FZ20: x | GA20: x
A21: =A20+1 -> 13 | B21: säulenkaktus | D21: =(H21*5+I21*3+J21*1) -> 4 | F21: =COUNTIF(AI21:GA21,"<>") -> 17 | H21: =COUNTIF(N21:GA21,"=1") -> 0 | I21: =COUNTIF(N21:GA21,"=2") -> 1 | J21: =COUNTIF(N21:GA21,"=3") -> 1 | K21: =COUNTIF(N21:GA21,"=4") -> 0 | L21: =COUNTIF(N21:GA21,"=5") -> 4 | FK21: x | FL21: 5 | FM21: 5 | FN21: x | FO21: 2 | FP21: x | FQ21: x | FR21: 5 | FS21: x | FT21: x | FU21: 5 | FV21: 3 | FW21: x | FX21: x | FY21: x | FZ21: x | GA21: x
A22: =A21+1 -> 14 | B22: uli hermann | D22: =(H22*5+I22*3+J22*1) -> 4 | F22: =COUNTIF(AI22:GA22,"<>") -> 14 | H22: =COUNTIF(N22:GA22,"=1") -> 0 | I22: =COUNTIF(N22:GA22,"=2") -> 1 | J22: =COUNTIF(N22:GA22,"=3") -> 1 | K22: =COUNTIF(N22:GA22,"=4") -> 1 | L22: =COUNTIF(N22:GA22,"=5") -> 1 | FK22: x | FL22: 5 | FM22: x | FN22: x | FO22: x | FP22: 4 | FQ22: x | FR22: 3 | FS22: x | FT22: x | FU22: x | FV22: 2 | FW22: x | FZ22: x
A23: =A22+1 -> 15 | B23: Ramirez | D23: =(H23*5+I23*3+J23*1) -> 3 | F23: =COUNTIF(AI23:GA23,"<>") -> 16 | H23: =COUNTIF(N23:GA23,"=1") -> 0 | I23: =COUNTIF(N23:GA23,"=2") -> 1 | J23: =COUNTIF(N23:GA23,"=3") -> 0 | K23: =COUNTIF(N23:GA23,"=4") -> 0 | L23: =COUNTIF(N23:GA23,"=5") -> 1 | FK23: 5 | FL23: x | FM23: x | FN23: x | FO23: x | FP23: x | FQ23: x | FR23: x | FS23: x | FT23: x | FU23: x | FV23: x | FW23: x | FY23: x | FZ23: x | GA23: 2
A24: =A23+1 -> 16 | B24: Leseratte1957 | D24: =(H24*5+I24*3+J24*1) -> 3 | F24: =COUNTIF(AI24:GA24,"<>") -> 7 | H24: =COUNTIF(N24:GA24,"=1") -> 0 | I24: =COUNTIF(N24:GA24,"=2") -> 1 | J24: =COUNTIF(N24:GA24,"=3") -> 0 | K24: =COUNTIF(N24:GA24,"=4") -> 0 | L24: =COUNTIF(N24:GA24,"=5") -> 0 | FP24: x | FR24: x | FS24: 2 | FT24: x | FU24: x | FX24: x | FY24: x
A25: =A24+1 -> 17 | B25: Lothar | D25: =(H25*5+I25*3+J25*1) -> 2 | F25: =COUNTIF(AI25:GA25,"<>") -> 17 | H25: =COUNTIF(N25:GA25,"=1") -> 0 | I25: =COUNTIF(N25:GA25,"=2") -> 0 | J25: =COUNTIF(N25:GA25,"=3") -> 2 | K25: =COUNTIF(N25:GA25,"=4") -> 1 | L25: =COUNTIF(N25:GA25,"=5") -> 3 | FK25: x | FL25: 4 | FM25: x | FN25: 5 | FO25: x | FP25: x | FQ25: 5 | FR25: x | FS25: 5 | FT25: x | FU25: 3 | FV25: x | FW25: x | FX25: x | FY25: x | FZ25: x | GA25: 3
A26: =A25+1 -> 18 | B26: ja2911 | D26: =(H26*5+I26*3+J26*1) -> 1 | F26: =COUNTIF(AI26:GA26,"<>") -> 15 | H26: =COUNTIF(N26:GA26,"=1") -> 0 | I26: =COUNTIF(N26:GA26,"=2") -> 0 | J26: =COUNTIF(N26:GA26,"=3") -> 1 | K26: =COUNTIF(N26:GA26,"=4") -> 1 | L26: =COUNTIF(N26:GA26,"=5") -> 0 | FK26: x | FL26: x | FM26: x | FN26: x | FO26: x | FP26: x | FQ26: 3 | FR26: x | FS26: x | FT26: x | FU26: x | FV26: 4 | FW26: x | FY26: x | FZ26: x
A27: =A26+1 -> 19 | B27: hd82hd | D27: =(H27*5+I27*3+J27*1) -> 1 | F27: =COUNTIF(AI27:GA27,"<>") -> 12 | H27: =COUNTIF(N27:GA27,"=1") -> 0 | I27: =COUNTIF(N27:GA27,"=2") -> 0 | J27: =COUNTIF(N27:GA27,"=3") -> 1 | K27: =COUNTIF(N27:GA27,"=4") -> 1 | L27: =COUNTIF(N27:GA27,"=5") -> 0 | FL27: x | FN27: x | FO27: 3 | FP27: x | FR27: 4 | FT27: x | FU27: x | FV27: x | FW27: x | FX27: x | FY27: x | FZ27: x
A28: =A27+1 -> 20 | B28: rainer | D28: =(H28*5+I28*3+J28*1) -> 0 | F28: =COUNTIF(AI28:GA28,"<>") -> 6 | H28: =COUNTIF(N28:GA28,"=1") -> 0 | I28: =COUNTIF(N28:GA28,"=2") -> 0 | J28: =COUNTIF(N28:GA28,"=3") -> 0 | K28: =COUNTIF(N28:GA28,"=4") -> 1 | L28: =COUNTIF(N28:GA28,"=5") -> 1 | FK28: x | FQ28: 4 | FR28: x | FY28: 5 | FZ28: x | GA28: x
A29: =A28+1 -> 21 | B29: Hobbymarke | D29: =(H29*5+I29*3+J29*1) -> 0 | F29: =COUNTIF(AI29:GA29,"<>") -> 3 | H29: =COUNTIF(N29:GA29,"=1") -> 0 | I29: =COUNTIF(N29:GA29,"=2") -> 0 | J29: =COUNTIF(N29:GA29,"=3") -> 0 | K29: =COUNTIF(N29:GA29,"=4") -> 1 | L29: =COUNTIF(N29:GA29,"=5") -> 0 | FU29: x | FV29: x | FW29: 4
A30: =A29+1 -> 22 | B30: KuK | D30: =(H30*5+I30*3+J30*1) -> 0 | F30: =COUNTIF(AI30:GA30,"<>") -> 1 | H30: =COUNTIF(N30:GA30,"=1") -> 0 | I30: =COUNTIF(N30:GA30,"=2") -> 0 | J30: =COUNTIF(N30:GA30,"=3") -> 0 | K30: =COUNTIF(N30:GA30,"=4") -> 0 | L30: =COUNTIF(N30:GA30,"=5") -> 0 | GA30: x
A31: =A30+1 -> 23 | B31: Markenfritze | D31: =(H31*5+I31*3+J31*1) -> 0 | F31: =COUNTIF(AI31:GA31,"<>") -> 1 | H31: =COUNTIF(N31:GA31,"=1") -> 0 | I31: =COUNTIF(N31:GA31,"=2") -> 0 | J31: =COUNTIF(N31:GA31,"=3") -> 0 | K31: =COUNTIF(N31:GA31,"=4") -> 0 | L31: =COUNTIF(N31:GA31,"=5") -> 0 | FT31: x
A32: =A31+1 -> 24 | B32: pumuckl | D32: =(H32*5+I32*3+J32*1) -> 0 | F32: =COUNTIF(AI32:GA32,"<>") -> 1 | H32: =COUNTIF(N32:GA32,"=1") -> 0 | I32: =COUNTIF(N32:GA32,"=2") -> 0 | J32: =COUNTIF(N32:GA32,"=3") -> 0 | K32: =COUNTIF(N32:GA32,"=4") -> 0 | L32: =COUNTIF(N32:GA32,"=5") -> 0 | GA32: x
A33: =A32+1 -> 25 | B33: Schimmel | D33: =(H33*5+I33*3+J33*1) -> 0 | F33: =COUNTIF(AI33:GA33,"<>") -> 1 | H33: =COUNTIF(N33:GA33,"=1") -> 0 | I33: =COUNTIF(N33:GA33,"=2") -> 0 | J33: =COUNTIF(N33:GA33,"=3") -> 0 | K33: =COUNTIF(N33:GA33,"=4") -> 0 | L33: =COUNTIF(N33:GA33,"=5") -> 0 | GA33: x
A34: =A33+1 -> 26 | D34: =(H34*5+I34*3+J34*1) -> 0 | F34: =COUNTIF(AI34:GA34,"<>") -> 0 | H34: =COUNTIF(N34:GA34,"=1") -> 0 | I34: =COUNTIF(N34:GA34,"=2") -> 0 | J34: =COUNTIF(N34:GA34,"=3") -> 0 | K34: =COUNTIF(N34:GA34,"=4") -> 0 | L34: =COUNTIF(N34:GA34,"=5") -> 0
A35: =A34+1 -> 27 | D35: =(H35*5+I35*3+J35*1) -> 0 | F35: =COUNTIF(AI35:GA35,"<>") -> 0 | H35: =COUNTIF(N35:GA35,"=1") -> 0 | I35: =COUNTIF(N35:GA35,"=2") -> 0 | J35: =COUNTIF(N35:GA35,"=3") -> 0 | K35: =COUNTIF(N35:GA35,"=4") -> 0 | L35: =COUNTIF(N35:GA35,"=5") -> 0
A36: =A35+1 -> 28 | D36: =(H36*5+I36*3+J36*1) -> 0 | F36: =COUNTIF(AI36:GA36,"<>") -> 0 | H36: =COUNTIF(N36:GA36,"=1") -> 0 | I36: =COUNTIF(N36:GA36,"=2") -> 0 | J36: =COUNTIF(N36:GA36,"=3") -> 0 | K36: =COUNTIF(N36:GA36,"=4") -> 0 | L36: =COUNTIF(N36:GA36,"=5") -> 0
A37: =A36+1 -> 29 | D37: =(H37*5+I37*3+J37*1) -> 0 | F37: =COUNTIF(AI37:GA37,"<>") -> 0 | H37: =COUNTIF(N37:GA37,"=1") -> 0 | I37: =COUNTIF(N37:GA37,"=2") -> 0 | J37: =COUNTIF(N37:GA37,"=3") -> 0 | K37: =COUNTIF(N37:GA37,"=4") -> 0 | L37: =COUNTIF(N37:GA37,"=5") -> 0
A38: =A37+1 -> 30 | D38: =(H38*5+I38*3+J38*1) -> 0 | F38: =COUNTIF(AI38:GA38,"<>") -> 0 | H38: =COUNTIF(N38:GA38,"=1") -> 0 | I38: =COUNTIF(N38:GA38,"=2") -> 0 | J38: =COUNTIF(N38:GA38,"=3") -> 0 | K38: =COUNTIF(N38:GA38,"=4") -> 0 | L38: =COUNTIF(N38:GA38,"=5") -> 0
A39: =A38+1 -> 31 | D39: =(H39*5+I39*3+J39*1) -> 0 | F39: =COUNTIF(AI39:GA39,"<>") -> 0 | H39: =COUNTIF(N39:GA39,"=1") -> 0 | I39: =COUNTIF(N39:GA39,"=2") -> 0 | J39: =COUNTIF(N39:GA39,"=3") -> 0 | K39: =COUNTIF(N39:GA39,"=4") -> 0 | L39: =COUNTIF(N39:GA39,"=5") -> 0
A40: =A39+1 -> 32 | D40: =(H40*5+I40*3+J40*1) -> 0 | F40: =COUNTIF(AI40:GA40,"<>") -> 0 | H40: =COUNTIF(N40:GA40,"=1") -> 0 | I40: =COUNTIF(N40:GA40,"=2") -> 0 | J40: =COUNTIF(N40:GA40,"=3") -> 0 | K40: =COUNTIF(N40:GA40,"=4") -> 0 | L40: =COUNTIF(N40:GA40,"=5") -> 0
A41: =A40+1 -> 33 | D41: =(H41*5+I41*3+J41*1) -> 0 | F41: =COUNTIF(AI41:GA41,"<>") -> 0 | H41: =COUNTIF(N41:GA41,"=1") -> 0 | I41: =COUNTIF(N41:GA41,"=2") -> 0 | J41: =COUNTIF(N41:GA41,"=3") -> 0 | K41: =COUNTIF(N41:GA41,"=4") -> 0 | L41: =COUNTIF(N41:GA41,"=5") -> 0
A42: =A41+1 -> 34 | D42: =(H42*5+I42*3+J42*1) -> 0 | F42: =COUNTIF(AI42:GA42,"<>") -> 0 | H42: =COUNTIF(N42:GA42,"=1") -> 0 | I42: =COUNTIF(N42:GA42,"=2") -> 0 | J42: =COUNTIF(N42:GA42,"=3") -> 0 | K42: =COUNTIF(N42:GA42,"=4") -> 0 | L42: =COUNTIF(N42:GA42,"=5") -> 0
B44: Tipps am Spieltag | N44: =COUNTIF(N9:N42,">0")+COUNTIF(N9:N42,"=x") -> 0 | O44: =COUNTIF(O9:O42,">0")+COUNTIF(O9:O42,"=x") -> 0 | P44: =COUNTIF(P9:P42,">0")+COUNTIF(P9:P42,"=x") -> 0 | Q44: =COUNTIF(Q9:Q42,">0")+COUNTIF(Q9:Q42,"=x") -> 0 | R44: =COUNTIF(R9:R42,">0")+COUNTIF(R9:R42,"=x") -> 0 | S44: =COUNTIF(S9:S42,">0")+COUNTIF(S9:S42,"=x") -> 0 | T44: =COUNTIF(T9:T42,">0")+COUNTIF(T9:T42,"=x") -> 0 | U44: =COUNTIF(U9:U42,">0")+COUNTIF(U9:U42,"=x") -> 0 | ... GA44: =COUNTIF(GA9:GA42,">0")+COUNTIF(GA9:GA42,"=x") -> 18

Sheet 2016Q
B2: Quartalswertung
B3: Starttag = | M3: Quartal 1 | S3: Quartal 2 | Y3: Quartal 3 | AE3: Quartal 4
B4: Quartalswertung | D4: online | F4: offline | H4: offline | J4: offline | M4: online | S4: offline | Y4: offline | AE4: offline
D6: 1. Quartal | F6: 2. Quartal | H6: 3. Quartal | J6: 4. Quartal | AJ6: Spiel | AK6: Spiel | AL6: Spiel | AM6: Spiel | AN6: Spiel | AO6: Spiel | AP6: Spiel | AQ6: Spiel | AR6: Spiel | AS6: Spiel | AT6: Spiel | AU6: Spiel | AV6: Spiel | AW6: Spiel | AX6: Spiel | AY6: Spiel | AZ6: Spiel | BA6: Spiel | BB6: Spiel | BC6: Spiel | BD6: Spiel | BE6: Spiel | BF6: Spiel | BG6: Spiel | BH6: Spiel | BI6: Spiel | BJ6: Spiel | BK6: Spiel | BL6: Spiel | BM6: Spiel | BN6: Spiel | BO6: Spiel | BP6: Spiel | BQ6: Spiel | BR6: Spiel | BS6: Spiel | BT6: Spiel | BU6: Spiel | BV6: Spiel | BW6: Spiel | BX6: Spiel | BY6: Spiel | BZ6: Spiel | CA6: Spiel | CB6: Spiel | CC6: Spiel | CD6: Spiel | CE6: Spiel | CF6: Spiel | CG6: Spiel | CH6: Spiel | CI6: Spiel | CJ6: Spiel | CK6: Spiel | CL6: Spiel | CM6: Spiel | CN6: Spiel | CO6: Spiel | CP6: Spiel | CQ6: Spiel | CR6: Spiel | CS6: Spiel | CT6: Spiel | CU6: Spiel | CV6: Spiel | CW6: Spiel | CX6: Spiel | CY6: Spiel | CZ6: Spiel | DA6: Spiel | DB6: Spiel | DC6: Spiel | DD6: Spiel | DE6: Spiel | DF6: Spiel | DG6: Spiel | DH6: Spiel | DI6: Spiel | DJ6: Spiel | DK6: Spiel | DL6: Spiel | DM6: Spiel | DN6: Spiel | DO6: Spiel | DP6: Spiel | DQ6: Spiel | DR6: Spiel | DS6: Spiel | DT6: Spiel | DU6: Spiel | DV6: Spiel | DW6: Spiel | DX6: Spiel | DY6: Spiel | DZ6: Spiel | EA6: Spiel | EB6: Spiel | EC6: Spiel | ED6: Spiel | EE6: Spiel | EF6: Spiel | EG6: Spiel | EH6: Spiel | EI6: Spiel | EJ6: Spiel | EK6: Spiel | EL6: Spiel | EM6: Spiel | EN6: Spiel | EO6: Spiel | EP6: Spiel | EQ6: Spiel | ER6: Spiel | ES6: Spiel | ET6: Spiel | EU6: Spiel | EV6: Spiel | EW6: Spiel | EX6: Spiel | EY6: Spiel | EZ6: Spiel | FA6: Spiel | FB6: Spiel | FC6: Spiel | FD6: Spiel | FE6: Spiel | FF6: Spiel | FG6: Spiel | FH6: Spiel | FI6: Spiel | FJ6: Spiel | FK6: Spiel | FL6: Spiel | FM6: Spiel | FN6: Spiel | FO6: Spiel | FP6: Spiel | FQ6: Spiel | FR6: Spiel | FS6: Spiel | FT6: Spiel | FU6: Spiel | FV6: Spiel | FW6: Spiel | FX6: Spiel | FY6: Spiel | FZ6: Spiel | GA6: Spiel | GB6: Spiel | GC6: Spiel | GD6: Spiel | GE6: Spiel | GF6: Spiel | GG6: Spiel | GH6: Spiel | GI6: Spiel | GJ6: Spiel | GK6: Spiel | GL6: Spiel | GM6: Spiel | GN6: Spiel | GO6: Spiel | GP6: Spiel | GQ6: Spiel | GR6: Spiel | GS6: Spiel | GT6: Spiel | GU6: Spiel | GV6: Spiel | GW6: Spiel
A7: Platz | B7: Tipper(in) | D7: Punkte | F7: Punkte | H7: Punkte | J7: Punkte | L7: 1. Pl. | M7: 2. Pl. | N7: 3. Pl. | O7: 4. Pl. | P7: 5. Pl. | R7: 1. Pl. | S7: 2. Pl. | T7: 3. Pl. | U7: 4. Pl. | V7: 5. Pl. | X7: 1. Pl. | Y7: 2. Pl. | Z7: 3. Pl. | AA7: 4. Pl. | AB7: 5. Pl. | AD7: 1. Pl. | AE7: 2. Pl. | AF7: 3. Pl. | AG7: 4. Pl. | AH7: 5. Pl. | AJ7: =AK7+1 -> 170 | AK7: =AL7+1 -> 169 | AL7: =AM7+1 -> 168 | AM7: =AN7+1 -> 167 | AN7: =AO7+1 -> 166 | AO7: =AP7+1 -> 165 | AP7: =AQ7+1 -> 164 | AQ7: =AR7+1 -> 163 | ... GV7: =GW7+1 -> 2 | GW7: 1
B9: ='2016'!B9 -> Claude D. | D9: =L9*5+M9*4+N9*3+O9*2+P9*1 -> 30 | L9: =COUNTIF(AJ9:GW9,"=1") -> 4 | M9: =COUNTIF(AJ9:GW9,"=2") -> 2 | N9: =COUNTIF(AJ9:GW9,"=3") -> 0 | O9: =COUNTIF(AJ9:GW9,"=4") -> 0 | P9: =COUNTIF(AJ9:GW9,"=5") -> 2 | R9: =COUNTIF(AP9:HC9,"=1") -> 4 | S9: =COUNTIF(X9:GK9,"=2") -> 2 | T9: =COUNTIF(X9:GK9,"=3") -> 1 | U9: =COUNTIF(X9:GK9,"=4") -> 1 | V9: =COUNTIF(GK9:NS9,"=5") -> 2 | X9: =COUNTIF(AD9:GQ9,"=1") -> 3 | Y9: =COUNTIF(AD9:GQ9,"=2") -> 2 | Z9: =COUNTIF(AD9:GQ9,"=3") -> 0 | AA9: =COUNTIF(AD9:GQ9,"=4") -> 1 | AB9: =COUNTIF(GQ9:NY9,"=5") -> 1 | AD9: =COUNTIF(AJ9:GW9,"=1") -> 4 | AE9: =COUNTIF(AJ9:GW9,"=2") -> 2 | AF9: =COUNTIF(AJ9:GW9,"=3") -> 0 | AG9: =COUNTIF(AJ9:GW9,"=4") -> 0 | AH9: =COUNTIF(GW9:OE9,"=5") -> 1 | AJ9: ='2016'!N9 -> 0 | AK9: ='2016'!O9 -> 0 | AL9: ='2016'!P9 -> 0 | AM9: ='2016'!Q9 -> 0 | AN9: ='2016'!R9 -> 0 | AO9: ='2016'!S9 -> 0 | AP9: ='2016'!T9 -> 0 | AQ9: ='2016'!U9 -> 0 | ... GW9: ='2016'!GA9 -> 5
B10: ='2016'!B10 -> kartenhai | D10: =L10*5+M10*4+N10*3+O10*2+P10*1 -> 26 | L10: =COUNTIF(AJ10:GW10,"=1") -> 4 | M10: =COUNTIF(AJ10:GW10,"=2") -> 0 | N10: =COUNTIF(AJ10:GW10,"=3") -> 2 | O10: =COUNTIF(AJ10:GW10,"=4") -> 0 | P10: =COUNTIF(AJ10:GW10,"=5") -> 0 | R10: =COUNTIF(X10:GK10,"=1") -> 5 | S10: =COUNTIF(X10:GK10,"=2") -> 1 | T10: =COUNTIF(X10:GK10,"=3") -> 1 | U10: =COUNTIF(X10:GK10,"=4") -> 2 | V10: =COUNTIF(GK10:NS10,"=5") -> 0 | X10: =COUNTIF(AD10:GQ10,"=1") -> 4 | Y10: =COUNTIF(AD10:GQ10,"=2") -> 1 | Z10: =COUNTIF(AD10:GQ10,"=3") -> 1 | AA10: =COUNTIF(AD10:GQ10,"=4") -> 1 | AB10: =COUNTIF(GQ10:NY10,"=5") -> 0 | AD10: =COUNTIF(AJ10:GW10,"=1") -> 4 | AE10: =COUNTIF(AJ10:GW10,"=2") -> 0 | AF10: =COUNTIF(AJ10:GW10,"=3") -> 2 | AG10: =COUNTIF(AJ10:GW10,"=4") -> 0 | AH10: =COUNTIF(GW10:OE10,"=5") -> 0 | AJ10: ='2016'!N10 -> 0 | AK10: ='2016'!O10 -> 0 | AL10: ='2016'!P10 -> 0 | AM10: ='2016'!Q10 -> 0 | AN10: ='2016'!R10 -> 0 | AO10: ='2016'!S10 -> 0 | AP10: ='2016'!T10 -> 0 | AQ10: ='2016'!U10 -> 0 | ... GW10: ='2016'!GA10 -> x
B11: ='2016'!B11 -> hallerc4 | D11: =L11*5+M11*4+N11*3+O11*2+P11*1 -> 23 | L11: =COUNTIF(AJ11:GW11,"=1") -> 1 | M11: =COUNTIF(AJ11:GW11,"=2") -> 3 | N11: =COUNTIF(AJ11:GW11,"=3") -> 1 | O11: =COUNTIF(AJ11:GW11,"=4") -> 1 | P11: =COUNTIF(AJ11:GW11,"=5") -> 1 | R11: =COUNTIF(X11:GK11,"=1") -> 3 | S11: =COUNTIF(X11:GK11,"=2") -> 3 | T11: =COUNTIF(X11:GK11,"=3") -> 2 | U11: =COUNTIF(X11:GK11,"=4") -> 1 | V11: =COUNTIF(GK11:NS11,"=5") -> 1 | X11: =COUNTIF(AD11:GQ11,"=1") -> 4 | Y11: =COUNTIF(AD11:GQ11,"=2") -> 3 | Z11: =COUNTIF(AD11:GQ11,"=3") -> 2 | AA11: =COUNTIF(AD11:GQ11,"=4") -> 0 | AB11: =COUNTIF(GQ11:NY11,"=5") -> 0 | AD11: =COUNTIF(AJ11:GW11,"=1") -> 1 | AE11: =COUNTIF(AJ11:GW11,"=2") -> 3 | AF11: =COUNTIF(AJ11:GW11,"=3") -> 1 | AG11: =COUNTIF(AJ11:GW11,"=4") -> 1 | AH11: =COUNTIF(GW11:OE11,"=5") -> 0 | AJ11: ='2016'!N11 -> 0 | AK11: ='2016'!O11 -> 0 | AL11: ='2016'!P11 -> 0 | AM11: ='2016'!Q11 -> 0 | AN11: ='2016'!R11 -> 0 | AO11: ='2016'!S11 -> 0 | AP11: ='2016'!T11 -> 0 | AQ11: ='2016'!U11 -> 0 | ... GW11: ='2016'!GA11 -> x
B12: ='2016'!B12 -> Wolffi | D12: =L12*5+M12*4+N12*3+O12*2+P12*1 -> 22 | L12: =COUNTIF(AJ12:GW12,"=1") -> 1 | M12: =COUNTIF(AJ12:GW12,"=2") -> 1 | N12: =COUNTIF(AJ12:GW12,"=3") -> 3 | O12: =COUNTIF(AJ12:GW12,"=4") -> 2 | P12: =COUNTIF(AJ12:GW12,"=5") -> 0 | R12: =COUNTIF(X12:GK12,"=1") -> 3 | S12: =COUNTIF(X12:GK12,"=2") -> 3 | T12: =COUNTIF(X12:GK12,"=3") -> 3 | U12: =COUNTIF(X12:GK12,"=4") -> 0 | V12: =COUNTIF(GK12:NS12,"=5") -> 0 | X12: =COUNTIF(AD12:GQ12,"=1") -> 3 | Y12: =COUNTIF(AD12:GQ12,"=2") -> 2 | Z12: =COUNTIF(AD12:GQ12,"=3") -> 2 | AA12: =COUNTIF(AD12:GQ12,"=4") -> 1 | AB12: =COUNTIF(GQ12:NY12,"=5") -> 0 | AD12: =COUNTIF(AJ12:GW12,"=1") -> 1 | AE12: =COUNTIF(AJ12:GW12,"=2") -> 1 | AF12: =COUNTIF(AJ12:GW12,"=3") -> 3 | AG12: =COUNTIF(AJ12:GW12,"=4") -> 2 | AH12: =COUNTIF(GW12:OE12,"=5") -> 0 | AJ12: ='2016'!N12 -> 0 | AK12: ='2016'!O12 -> 0 | AL12: ='2016'!P12 -> 0 | AM12: ='2016'!Q12 -> 0 | AN12: ='2016'!R12 -> 0 | AO12: ='2016'!S12 -> 0 | AP12: ='2016'!T12 -> 0 | AQ12: ='2016'!U12 -> 0 | ... GW12: ='2016'!GA12 -> x
B13: ='2016'!B13 -> KArnoldBln | D13: =L13*5+M13*4+N13*3+O13*2+P13*1 -> 12 | L13: =COUNTIF(AJ13:GW13,"=1") -> 2 | M13: =COUNTIF(AJ13:GW13,"=2") -> 0 | N13: =COUNTIF(AJ13:GW13,"=3") -> 0 | O13: =COUNTIF(AJ13:GW13,"=4") -> 0 | P13: =COUNTIF(AJ13:GW13,"=5") -> 2 | R13: =COUNTIF(X13:GK13,"=1") -> 2 | S13: =COUNTIF(X13:GK13,"=2") -> 1 | T13: =COUNTIF(X13:GK13,"=3") -> 0 | U13: =COUNTIF(X13:GK13,"=4") -> 0 | V13: =COUNTIF(GK13:NS13,"=5") -> 2 | X13: =COUNTIF(AD13:GQ13,"=1") -> 0 | Y13: =COUNTIF(AD13:GQ13,"=2") -> 1 | Z13: =COUNTIF(AD13:GQ13,"=3") -> 0 | AA13: =COUNTIF(AD13:GQ13,"=4") -> 0 | AB13: =COUNTIF(GQ13:NY13,"=5") -> 1 | AD13: =COUNTIF(AJ13:GW13,"=1") -> 2 | AE13: =COUNTIF(AJ13:GW13,"=2") -> 0 | AF13: =COUNTIF(AJ13:GW13,"=3") -> 0 | AG13: =COUNTIF(AJ13:GW13,"=4") -> 0 | AH13: =COUNTIF(GW13:OE13,"=5") -> 0 | AJ13: ='2016'!N13 -> 0 | AK13: ='2016'!O13 -> 0 | AL13: ='2016'!P13 -> 0 | AM13: ='2016'!Q13 -> 0 | AN13: ='2016'!R13 -> 0 | AO13: ='2016'!S13 -> 0 | AP13: ='2016'!T13 -> 0 | AQ13: ='2016'!U13 -> 0 | ... GW13: ='2016'!GA13 -> x
B14: ='2016'!B14 -> Nicht Profi | D14: =L14*5+M14*4+N14*3+O14*2+P14*1 -> 16 | L14: =COUNTIF(AJ14:GW14,"=1") -> 1 | M14: =COUNTIF(AJ14:GW14,"=2") -> 1 | N14: =COUNTIF(AJ14:GW14,"=3") -> 2 | O14: =COUNTIF(AJ14:GW14,"=4") -> 0 | P14: =COUNTIF(AJ14:GW14,"=5") -> 1 | R14: =COUNTIF(X14:GK14,"=1") -> 4 | S14: =COUNTIF(X14:GK14,"=2") -> 3 | T14: =COUNTIF(X14:GK14,"=3") -> 2 | U14: =COUNTIF(X14:GK14,"=4") -> 0 | V14: =COUNTIF(GK14:NS14,"=5") -> 1 | X14: =COUNTIF(AD14:GQ14,"=1") -> 2 | Y14: =COUNTIF(AD14:GQ14,"=2") -> 1 | Z14: =COUNTIF(AD14:GQ14,"=3") -> 2 | AA14: =COUNTIF(AD14:GQ14,"=4") -> 0 | AB14: =COUNTIF(GQ14:NY14,"=5") -> 1 | AD14: =COUNTIF(AJ14:GW14,"=1") -> 1 | AE14: =COUNTIF(AJ14:GW14,"=2") -> 1 | AF14: =COUNTIF(AJ14:GW14,"=3") -> 2 | AG14: =COUNTIF(AJ14:GW14,"=4") -> 0 | AH14: =COUNTIF(GW14:OE14,"=5") -> 0 | AJ14: ='2016'!N14 -> 0 | AK14: ='2016'!O14 -> 0 | AL14: ='2016'!P14 -> 0 | AM14: ='2016'!Q14 -> 0 | AN14: ='2016'!R14 -> 0 | AO14: ='2016'!S14 -> 0 | AP14: ='2016'!T14 -> 0 | AQ14: ='2016'!U14 -> 0 | ... GW14: ='2016'!GA14 -> x
B15: ='2016'!B15 -> Vichy | D15: =L15*5+M15*4+N15*3+O15*2+P15*1 -> 19 | L15: =COUNTIF(AJ15:GW15,"=1") -> 1 | M15: =COUNTIF(AJ15:GW15,"=2") -> 1 | N15: =COUNTIF(AJ15:GW15,"=3") -> 1 | O15: =COUNTIF(AJ15:GW15,"=4") -> 3 | P15: =COUNTIF(AJ15:GW15,"=5") -> 1 | R15: =COUNTIF(X15:GK15,"=1") -> 6 | S15: =COUNTIF(X15:GK15,"=2") -> 0 | T15: =COUNTIF(X15:GK15,"=3") -> 2 | U15: =COUNTIF(X15:GK15,"=4") -> 4 | V15: =COUNTIF(GK15:NS15,"=5") -> 1 | X15: =COUNTIF(AD15:GQ15,"=1") -> 4 | Y15: =COUNTIF(AD15:GQ15,"=2") -> 0 | Z15: =COUNTIF(AD15:GQ15,"=3") -> 1 | AA15: =COUNTIF(AD15:GQ15,"=4") -> 3 | AB15: =COUNTIF(GQ15:NY15,"=5") -> 1 | AD15: =COUNTIF(AJ15:GW15,"=1") -> 1 | AE15: =COUNTIF(AJ15:GW15,"=2") -> 1 | AF15: =COUNTIF(AJ15:GW15,"=3") -> 1 | AG15: =COUNTIF(AJ15:GW15,"=4") -> 3 | AH15: =COUNTIF(GW15:OE15,"=5") -> 0 | AJ15: ='2016'!N15 -> 0 | AK15: ='2016'!O15 -> 0 | AL15: ='2016'!P15 -> 0 | AM15: ='2016'!Q15 -> 0 | AN15: ='2016'!R15 -> 0 | AO15: ='2016'!S15 -> 0 | AP15: ='2016'!T15 -> 0 | AQ15: ='2016'!U15 -> 0 | ... GW15: ='2016'!GA15 -> 3
B16: ='2016'!B16 -> 241264hsv-fan | D16: =L16*5+M16*4+N16*3+O16*2+P16*1 -> 14 | L16: =COUNTIF(AJ16:GW16,"=1") -> 1 | M16: =COUNTIF(AJ16:GW16,"=2") -> 1 | N16: =COUNTIF(AJ16:GW16,"=3") -> 1 | O16: =COUNTIF(AJ16:GW16,"=4") -> 1 | P16: =COUNTIF(AJ16:GW16,"=5") -> 0 | R16: =COUNTIF(X16:GK16,"=1") -> 6 | S16: =COUNTIF(X16:GK16,"=2") -> 1 | T16: =COUNTIF(X16:GK16,"=3") -> 0 | U16: =COUNTIF(X16:GK16,"=4") -> 1 | V16: =COUNTIF(GK16:NS16,"=5") -> 0 | X16: =COUNTIF(AD16:GQ16,"=1") -> 4 | Y16: =COUNTIF(AD16:GQ16,"=2") -> 1 | Z16: =COUNTIF(AD16:GQ16,"=3") -> 1 | AA16: =COUNTIF(AD16:GQ16,"=4") -> 0 | AB16: =COUNTIF(GQ16:NY16,"=5") -> 0 | AD16: =COUNTIF(AJ16:GW16,"=1") -> 1 | AE16: =COUNTIF(AJ16:GW16,"=2") -> 1 | AF16: =COUNTIF(AJ16:GW16,"=3") -> 1 | AG16: =COUNTIF(AJ16:GW16,"=4") -> 1 | AH16: =COUNTIF(GW16:OE16,"=5") -> 0 | AJ16: ='2016'!N16 -> 0 | AK16: ='2016'!O16 -> 0 | AL16: ='2016'!P16 -> 0 | AM16: ='2016'!Q16 -> 0 | AN16: ='2016'!R16 -> 0 | AO16: ='2016'!S16 -> 0 | AP16: ='2016'!T16 -> 0 | AQ16: ='2016'!U16 -> 0 | ... GW16: ='2016'!GA16 -> 1
B17: ='2016'!B17 -> Thor75S | D17: =L17*5+M17*4+N17*3+O17*2+P17*1 -> 10 | L17: =COUNTIF(AJ17:GW17,"=1") -> 1 | M17: =COUNTIF(AJ17:GW17,"=2") -> 1 | N17: =COUNTIF(AJ17:GW17,"=3") -> 0 | O17: =COUNTIF(AJ17:GW17,"=4") -> 0 | P17: =COUNTIF(AJ17:GW17,"=5") -> 1 | R17: =COUNTIF(X17:GK17,"=1") -> 4 | S17: =COUNTIF(X17:GK17,"=2") -> 0 | T17: =COUNTIF(X17:GK17,"=3") -> 1 | U17: =COUNTIF(X17:GK17,"=4") -> 0 | V17: =COUNTIF(GK17:NS17,"=5") -> 1 | X17: =COUNTIF(AD17:GQ17,"=1") -> 3 | Y17: =COUNTIF(AD17:GQ17,"=2") -> 1 | Z17: =COUNTIF(AD17:GQ17,"=3") -> 0 | AA17: =COUNTIF(AD17:GQ17,"=4") -> 0 | AB17: =COUNTIF(GQ17:NY17,"=5") -> 1 | AD17: =COUNTIF(AJ17:GW17,"=1") -> 1 | AE17: =COUNTIF(AJ17:GW17,"=2") -> 1 | AF17: =COUNTIF(AJ17:GW17,"=3") -> 0 | AG17: =COUNTIF(AJ17:GW17,"=4") -> 0 | AH17: =COUNTIF(GW17:OE17,"=5") -> 0 | AJ17: ='2016'!N17 -> 0 | AK17: ='2016'!O17 -> 0 | AL17: ='2016'!P17 -> 0 | AM17: ='2016'!Q17 -> 0 | AN17: ='2016'!R17 -> 0 | AO17: ='2016'!S17 -> 0 | AP17: ='2016'!T17 -> 0 | AQ17: ='2016'!U17 -> 0 | ... GW17: ='2016'!GA17 -> 0
B18: ='2016'!B18 -> muesli | D18: =L18*5+M18*4+N18*3+O18*2+P18*1 -> 8 | L18: =COUNTIF(AJ18:GW18,"=1") -> 0 | M18: =COUNTIF(AJ18:GW18,"=2") -> 2 | N18: =COUNTIF(AJ18:GW18,"=3") -> 0 | O18: =COUNTIF(AJ18:GW18,"=4") -> 0 | P18: =COUNTIF(AJ18:GW18,"=5") -> 0 | R18: =COUNTIF(X18:GK18,"=1") -> 0 | S18: =COUNTIF(X18:GK18,"=2") -> 2 | T18: =COUNTIF(X18:GK18,"=3") -> 1 | U18: =COUNTIF(X18:GK18,"=4") -> 0 | V18: =COUNTIF(GK18:NS18,"=5") -> 0 | X18: =COUNTIF(AD18:GQ18,"=1") -> 0 | Y18: =COUNTIF(AD18:GQ18,"=2") -> 3 | Z18: =COUNTIF(AD18:GQ18,"=3") -> 0 | AA18: =COUNTIF(AD18:GQ18,"=4") -> 0 | AB18: =COUNTIF(GQ18:NY18,"=5") -> 0 | AD18: =COUNTIF(AJ18:GW18,"=1") -> 0 | AE18: =COUNTIF(AJ18:GW18,"=2") -> 2 | AF18: =COUNTIF(AJ18:GW18,"=3") -> 0 | AG18: =COUNTIF(AJ18:GW18,"=4") -> 0 | AH18: =COUNTIF(GW18:OE18,"=5") -> 0 | AJ18: ='2016'!N18 -> 0 | AK18: ='2016'!O18 -> 0 | AL18: ='2016'!P18 -> 0 | AM18: ='2016'!Q18 -> 0 | AN18: ='2016'!R18 -> 0 | AO18: ='2016'!S18 -> 0 | AP18: ='2016'!T18 -> 0 | AQ18: ='2016'!U18 -> 0 | ... GW18: ='2016'!GA18 -> x
B19: ='2016'!B19 -> Braunbear | D19: =L19*5+M19*4+N19*3+O19*2+P19*1 -> 8 | L19: =COUNTIF(AJ19:GW19,"=1") -> 1 | M19: =COUNTIF(AJ19:GW19,"=2") -> 0 | N19: =COUNTIF(AJ19:GW19,"=3") -> 0 | O19: =COUNTIF(AJ19:GW19,"=4") -> 1 | P19: =COUNTIF(AJ19:GW19,"=5") -> 1 | R19: =COUNTIF(X19:GK19,"=1") -> 6 | S19: =COUNTIF(X19:GK19,"=2") -> 0 | T19: =COUNTIF(X19:GK19,"=3") -> 0 | U19: =COUNTIF(X19:GK19,"=4") -> 1 | V19: =COUNTIF(GK19:NS19,"=5") -> 1 | X19: =COUNTIF(AD19:GQ19,"=1") -> 4 | Y19: =COUNTIF(AD19:GQ19,"=2") -> 0 | Z19: =COUNTIF(AD19:GQ19,"=3") -> 0 | AA19: =COUNTIF(AD19:GQ19,"=4") -> 1 | AB19: =COUNTIF(GQ19:NY19,"=5") -> 1 | AD19: =COUNTIF(AJ19:GW19,"=1") -> 1 | AE19: =COUNTIF(AJ19:GW19,"=2") -> 0 | AF19: =COUNTIF(AJ19:GW19,"=3") -> 0 | AG19: =COUNTIF(AJ19:GW19,"=4") -> 1 | AH19: =COUNTIF(GW19:OE19,"=5") -> 1 | AJ19: ='2016'!N19 -> 0 | AK19: ='2016'!O19 -> 0 | AL19: ='2016'!P19 -> 0 | AM19: ='2016'!Q19 -> 0 | AN19: ='2016'!R19 -> 0 | AO19: ='2016'!S19 -> 0 | AP19: ='2016'!T19 -> 0 | AQ19: ='2016'!U19 -> 0 | ... GW19: ='2016'!GA19 -> 5
B20: ='2016'!B20 -> Usul3 | D20: =L20*5+M20*4+N20*3+O20*2+P20*1 -> 14 | L20: =COUNTIF(AJ20:GW20,"=1") -> 0 | M20: =COUNTIF(AJ20:GW20,"=2") -> 1 | N20: =COUNTIF(AJ20:GW20,"=3") -> 2 | O20: =COUNTIF(AJ20:GW20,"=4") -> 2 | P20: =COUNTIF(AJ20:GW20,"=5") -> 0 | R20: =COUNTIF(X20:GK20,"=1") -> 3 | S20: =COUNTIF(X20:GK20,"=2") -> 4 | T20: =COUNTIF(X20:GK20,"=3") -> 0 | U20: =COUNTIF(X20:GK20,"=4") -> 1 | V20: =COUNTIF(GK20:NS20,"=5") -> 0 | X20: =COUNTIF(AD20:GQ20,"=1") -> 1 | Y20: =COUNTIF(AD20:GQ20,"=2") -> 2 | Z20: =COUNTIF(AD20:GQ20,"=3") -> 1 | AA20: =COUNTIF(AD20:GQ20,"=4") -> 2 | AB20: =COUNTIF(GQ20:NY20,"=5") -> 0 | AD20: =COUNTIF(AJ20:GW20,"=1") -> 0 | AE20: =COUNTIF(AJ20:GW20,"=2") -> 1 | AF20: =COUNTIF(AJ20:GW20,"=3") -> 2 | AG20: =COUNTIF(AJ20:GW20,"=4") -> 2 | AH20: =COUNTIF(GW20:OE20,"=5") -> 0 | AJ20: ='2016'!N20 -> 0 | AK20: ='2016'!O20 -> 0 | AL20: ='2016'!P20 -> 0 | AM20: ='2016'!Q20 -> 0 | AN20: ='2016'!R20 -> 0 | AO20: ='2016'!S20 -> 0 | AP20: ='2016'!T20 -> 0 | AQ20: ='2016'!U20 -> 0 | ... GW20: ='2016'!GA20 -> x
B21: ='2016'!B21 -> säulenkaktus | D21: =L21*5+M21*4+N21*3+O21*2+P21*1 -> 11 | L21: =COUNTIF(AJ21:GW21,"=1") -> 0 | M21: =COUNTIF(AJ21:GW21,"=2") -> 1 | N21: =COUNTIF(AJ21:GW21,"=3") -> 1 | O21: =COUNTIF(AJ21:GW21,"=4") -> 0 | P21: =COUNTIF(AJ21:GW21,"=5") -> 4 | R21: =COUNTIF(X21:GK21,"=1") -> 4 | S21: =COUNTIF(X21:GK21,"=2") -> 2 | T21: =COUNTIF(X21:GK21,"=3") -> 0 | U21: =COUNTIF(X21:GK21,"=4") -> 0 | V21: =COUNTIF(GK21:NS21,"=5") -> 2 | X21: =COUNTIF(AD21:GQ21,"=1") -> 2 | Y21: =COUNTIF(AD21:GQ21,"=2") -> 1 | Z21: =COUNTIF(AD21:GQ21,"=3") -> 0 | AA21: =COUNTIF(AD21:GQ21,"=4") -> 0 | AB21: =COUNTIF(GQ21:NY21,"=5") -> 1 | AD21: =COUNTIF(AJ21:GW21,"=1") -> 0 | AE21: =COUNTIF(AJ21:GW21,"=2") -> 1 | AF21: =COUNTIF(AJ21:GW21,"=3") -> 1 | AG21: =COUNTIF(AJ21:GW21,"=4") -> 0 | AH21: =COUNTIF(GW21:OE21,"=5") -> 0 | AJ21: ='2016'!N21 -> 0 | AK21: ='2016'!O21 -> 0 | AL21: ='2016'!P21 -> 0 | AM21: ='2016'!Q21 -> 0 | AN21: ='2016'!R21 -> 0 | AO21: ='2016'!S21 -> 0 | AP21: ='2016'!T21 -> 0 | AQ21: ='2016'!U21 -> 0 | ... GW21: ='2016'!GA21 -> x
... B42: ='2016'!B42 | D42: =L42*5+M42*4+N42*3+O42*2+P42*1 -> 0 | L42: =COUNTIF(AJ42:GW42,"=1") -> 0 | M42: =COUNTIF(AJ42:GW42,"=2") -> 0 | N42: =COUNTIF(AJ42:GW42,"=3") -> 0 | O42: =COUNTIF(AJ42:GW42,"=4") -> 0 | P42: =COUNTIF(AJ42:GW42,"=5") -> 0 | R42: =COUNTIF(X42:GK42,"=1") -> 0 | S42: =COUNTIF(X42:GK42,"=2") -> 0 | T42: =COUNTIF(X42:GK42,"=3") -> 0 | U42: =COUNTIF(X42:GK42,"=4") -> 0 | V42: =COUNTIF(GK42:NS42,"=5") -> 0 | X42: =COUNTIF(AD42:GQ42,"=1") -> 0 | Y42: =COUNTIF(AD42:GQ42,"=2") -> 0 | Z42: =COUNTIF(AD42:GQ42,"=3") -> 0 | AA42: =COUNTIF(AD42:GQ42,"=4") -> 0 | AB42: =COUNTIF(GQ42:NY42,"=5") -> 0 | AD42: =COUNTIF(AJ42:GW42,"=1") -> 0 | AE42: =COUNTIF(AJ42:GW42,"=2") -> 0 | AF42: =COUNTIF(AJ42:GW42,"=3") -> 0 | AG42: =COUNTIF(AJ42:GW42,"=4") -> 0 | AH42: =COUNTIF(GW42:OE42,"=5") -> 0 | AJ42: ='2016'!N42 -> 0 | AK42: ='2016'!O42 -> 0 | AL42: ='2016'!P42 -> 0 | AM42: ='2016'!Q42 -> 0 | AN42: ='2016'!R42 -> 0 | AO42: ='2016'!S42 -> 0 | AP42: ='2016'!T42 -> 0 | AQ42: ='2016'!U42 -> 0 | ... GW42: ='2016'!GA42 -> 0
B44: Tipps am Spieltag | AJ44: =COUNTIF(AJ9:AJ42,">0")+COUNTIF(AJ9:AJ42,"=x") -> 0 | AK44: =COUNTIF(AK9:AK42,">0")+COUNTIF(AK9:AK42,"=x") -> 0 | AL44: =COUNTIF(AL9:AL42,">0")+COUNTIF(AL9:AL42,"=x") -> 0 | AM44: =COUNTIF(AM9:AM42,">0")+COUNTIF(AM9:AM42,"=x") -> 0 | AN44: =COUNTIF(AN9:AN42,">0")+COUNTIF(AN9:AN42,"=x") -> 0 | AO44: =COUNTIF(AO9:AO42,">0")+COUNTIF(AO9:AO42,"=x") -> 0 | AP44: =COUNTIF(AP9:AP42,">0")+COUNTIF(AP9:AP42,"=x") -> 0 | AQ44: =COUNTIF(AQ9:AQ42,">0")+COUNTIF(AQ9:AQ42,"=x") -> 0 | ... GW44: =COUNTIF(GW9:GW42,">0")+COUNTIF(GW9:GW42,"=x") -> 18

Sheet 2015
F6: Spiele | N6: Spiel | O6: Spiel | P6: Spiel | Q6: Spiel | R6: Spiel | S6: Spiel | T6: Spiel | U6: Spiel | V6: Spiel | W6: Spiel | X6: Spiel | Y6: Spiel | Z6: Spiel | AA6: Spiel | AB6: Spiel | AC6: Spiel | AD6: Spiel | AE6: Spiel | AF6: Spiel | AG6: Spiel | AH6: Spiel | AI6: Spiel | AJ6: Spiel | AK6: Spiel | AL6: Spiel | AM6: Spiel | AN6: Spiel | AO6: Spiel | AP6: Spiel | AQ6: Spiel | AR6: Spiel | AS6: Spiel | AT6: Spiel | AU6: Spiel | AV6: Spiel | AW6: Spiel | AX6: Spiel | AY6: Spiel | AZ6: Spiel | BA6: Spiel | BB6: Spiel | BC6: Spiel | BD6: Spiel | BE6: Spiel | BF6: Spiel | BG6: Spiel | BH6: Spiel | BI6: Spiel | BJ6: Spiel | BK6: Spiel | BL6: Spiel | BM6: Spiel | BN6: Spiel | BO6: Spiel | BP6: Spiel | BQ6: Spiel | BR6: Spiel | BS6: Spiel | BT6: Spiel | BU6: Spiel | BV6: Spiel | BW6: Spiel | BX6: Spiel | BY6: Spiel | BZ6: Spiel | CA6: Spiel | CB6: Spiel | CC6: Spiel | CD6: Spiel | CE6: Spiel | CF6: Spiel | CG6: Spiel | CH6: Spiel | CI6: Spiel | CJ6: Spiel | CK6: Spiel | CL6: Spiel | CM6: Spiel | CN6: Spiel | CO6: Spiel | CP6: Spiel | CQ6: Spiel | CR6: Spiel | CS6: Spiel | CT6: Spiel | CU6: Spiel | CV6: Spiel | CW6: Spiel | CX6: Spiel | CY6: Spiel | CZ6: Spiel | DA6: Spiel | DB6: Spiel | DC6: Spiel | DD6: Spiel | DE6: Spiel | DF6: Spiel | DG6: Spiel | DH6: Spiel | DI6: Spiel | DJ6: Spiel | DK6: Spiel | DL6: Spiel | DM6: Spiel | DN6: Spiel | DO6: Spiel | DP6: Spiel | DQ6: Spiel | DR6: Spiel | DS6: Spiel | DT6: Spiel | DU6: Spiel | DV6: Spiel | DW6: Spiel | DX6: Spiel | DY6: Spiel | DZ6: Spiel | EA6: Spiel | EB6: Spiel | EC6: Spiel | ED6: Spiel | EE6: Spiel | EF6: Spiel | EG6: Spiel | EH6: Spiel | EI6: Spiel | EJ6: Spiel | EK6: Spiel | EL6: Spiel | EM6: Spiel | EN6: Spiel | EO6: Spiel | EP6: Spiel | EQ6: Spiel | ER6: Spiel | ES6: Spiel | ET6: Spiel | EU6: Spiel | EV6: Spiel | EW6: Spiel | EX6: Spiel | EY6: Spiel | EZ6: Spiel | FA6: Spiel | FB6: Spiel | FC6: Spiel | FD6: Spiel | FE6: Spiel | FF6: Spiel
A7: Platz | B7: Tipper(in) | D7: Punkte | F7: getippt | H7: 1. Pl. | I7: 2. Pl. | J7: 3. Pl. | K7: 4. Pl. | L7: 5. Pl. | N7: =O7+1 -> 149 | O7: =P7+1 -> 148 | P7: =Q7+1 -> 147 | Q7: =R7+1 -> 146 | R7: =S7+1 -> 145 | S7: =T7+1 -> 144 | T7: =U7+1 -> 143 | U7: =V7+1 -> 142 | ... FE7: =FF7+1 -> 2 | FF7: 1
A9: =A8+1 -> 1 | B9: Wolffi | D9: =(H9*5+I9*3+J9*1) -> 144 | F9: =COUNTIF(N9:FF9,"<>") -> 143 | H9: =COUNTIF(N9:FF9,"=1") -> 15 | I9: =COUNTIF(N9:FF9,"=2") -> 18 | J9: =COUNTIF(N9:FF9,"=3") -> 15 | K9: =COUNTIF(N9:FF9,"=4") -> 13 | L9: =COUNTIF(N9:FF9,"=5") -> 15 | O9: 5 | P9: 5 | Q9: 5 | R9: 1 | S9: x | T9: 2 | U9: x | V9: 5 | W9: x | X9: 4 | Y9: x | Z9: 5 | AA9: 1 | AB9: x | AC9: x | AD9: x | AE9: x | AF9: x | AG9: x | AH9: x | AI9: x | AJ9: x | AK9: x | AL9: 5 | AM9: x | AN9: 3 | AO9: 4 | AP9: 4 | AQ9: 1 | AR9: 1 | AS9: 1 | AT9: 2 | AU9: 2 | AV9: 2 | AW9: 1 | AX9: 2 | AY9: 4 | AZ9: 4 | BA9: 2 | BB9: x | BC9: 5 | BD9: x | BE9: 1 | BF9: 5 | BG9: 2 | BI9: x | BJ9: x | BK9: x | BL9: x | BM9: x | BN9: 4 | BO9: x | BP9: x | BQ9: 2 | BR9: 3 | BS9: x | BT9: x | BU9: 2 | BV9: x | BW9: x | BX9: 4 | BY9: x | BZ9: 4 | CA9: x | CB9: 2 | CC9: 4 | CE9: 3 | CF9: 2 | CG9: 3 | CH9: x | CI9: 2 | CJ9: x | CK9: 3 | CL9: x | CM9: 5 | CO9: x | CP9: x | CQ9: 4 | CR9: 3 | CS9: 4 | CT9: 1 | CU9: x | CV9: x | CW9: x | CX9: 3 | CY9: 3 | CZ9: 1 | DA9: 4 | DB9: x | DC9: 3 | DD9: 2 | DE9: x | DG9: x | DH9: x | DI9: x | DJ9: 2 | DK9: 2 | DL9: 1 | DM9: 1 | DN9: 5 | DO9: x | DP9: 4 | DQ9: 3 | DR9: 2 | DS9: 5 | DU9: x | DV9: x | DW9: x | DX9: 3 | DY9: 1 | DZ9: 1 | EA9: 3 | EB9: 3 | EC9: 3 | ED9: 1 | EE9: x | EF9: x | EG9: x | EH9: x | EI9: x | EJ9: x | EK9: x | EL9: x | EM9: 5 | EN9: x | EO9: x | EP9: 5 | EQ9: x | ER9: 3 | ES9: 5 | ET9: x | EU9: 2 | EV9: x | EW9: x | EX9: x | EY9: 2 | EZ9: x | FA9: x | FB9: x | FC9: 1 | FD9: 5 | FE9: x | FF9: x
A10: =A9+1 -> 2 | B10: muesli | D10: =(H10*5+I10*3+J10*1) -> 138 | F10: =COUNTIF(N10:FF10,"<>") -> 142 | H10: =COUNTIF(N10:FF10,"=1") -> 13 | I10: =COUNTIF(N10:FF10,"=2") -> 21 | J10: =COUNTIF(N10:FF10,"=3") -> 10 | K10: =COUNTIF(N10:FF10,"=4") -> 15 | L10: =COUNTIF(N10:FF10,"=5") -> 7 | O10: x | P10: 2 | Q10: x | R10: x | S10: 4 | T10: x | U10: 1 | W10: 3 | X10: 2 | Y10: x | Z10: x | AA10: x | AC10: x | AD10: x | AE10: x | AF10: x | AG10: 4 | AH10: x | AI10: x | AJ10: 5 | AK10: x | AL10: 4 | AM10: x | AN10: x | AO10: x | AP10: 3 | AQ10: 5 | AR10: 3 | AS10: x | AT10: 1 | AU10: 1 | AV10: x | AW10: 2 | AX10: x | AY10: x | AZ10: 3 | BB10: 2 | BC10: 4 | BD10: 2 | BE10: x | BF10: 4 | BG10: x | BH10: x | BI10: x | BJ10: 1 | BK10: 3 | BL10: x | BM10: 3 | BN10: x | BO10: x | BP10: x | BQ10: 1 | BR10: 4 | BS10: x | BT10: 2 | BV10: x | BW10: x | BX10: 1 | BY10: 1 | BZ10: 1 | CA10: 2 | CB10: 4 | CC10: 3 | CD10: x | CE10: x | CF10: 2 | CG10: x | CH10: 5 | CI10: x | CJ10: x | CK10: 1 | CL10: 2 | CM10: 1 | CN10: 4 | CO10: 5 | CP10: 3 | CQ10: 2 | CR10: x | CS10: 2 | CT10: 4 | CU10: 2 | CV10: 2 | CW10: x | CX10: 5 | CY10: 4 | CZ10: x | DA10: x | DB10: 4 | DC10: x | DD10: x | DE10: x | DF10: x | DG10: 3 | DH10: 1 | DI10: 5 | DJ10: x | DL10: 2 | DM10: x | DN10: 2 | DO10: 1 | DP10: x | DQ10: x | DR10: x | DS10: x | DT10: x | DU10: x | DV10: x | DW10: x | DX10: 4 | DY10: x | DZ10: x | EA10: x | EB10: x | ED10: 5 | EE10: 2 | EF10: 4 | EG10: x | EH10: 3 | EI10: x | EJ10: x | EK10: x | EL10: x | EM10: x | EN10: x | EO10: 4 | EP10: x | EQ10: 2 | ER10: 1 | ES10: 4 | ET10: x | EU10: x | EV10: 2 | EW10: x | EX10: x | EY10: x | EZ10: x | FA10: 2 | FB10: 2 | FC10: x | FD10: x | FE10: 2 | FF10: x
A11: =A10+1 -> 3 | B11: kartenhai | D11: =(H11*5+I11*3+J11*1) -> 137 | F11: =COUNTIF(N11:FF11,"<>") -> 108 | H11: =COUNTIF(N11:FF11,"=1") -> 23 | I11: =COUNTIF(N11:FF11,"=2") -> 6 | J11: =COUNTIF(N11:FF11,"=3") -> 4 | K11: =COUNTIF(N11:FF11,"=4") -> 6 | L11: =COUNTIF(N11:FF11,"=5") -> 8 | O11: 1 | P11: x | Q11: 1 | R11: x | S11: x | U11: x | V11: 4 | W11: 1 | X11: 1 | Y11: x | AB11: x | AD11: x | AE11: x | AF11: 1 | AH11: x | AI11: 2 | AJ11: x | AK11: 1 | AN11: x | AO11: 1 | AP11: x | AQ11: x | AR11: x | AS11: x | AT11: x | AU11: x | AV11: x | AW11: x | AX11: 1 | AY11: 1 | AZ11: 2 | BA11: 1 | BB11: 1 | BD11: x | BE11: x | BG11: x | BH11: 4 | BI11: 5 | BJ11: 3 | BK11: x | BL11: x | BM11: x | BN11: x | BO11: x | BP11: 5 | BQ11: x | BR11: x | BT11: x | BU11: x | BV11: 3 | BW11: 1 | BZ11: 2 | CC11: 1 | CD11: 5 | CE11: 1 | CF11: x | CG11: x | CH11: 1 | CI11: 5 | CK11: x | CM11: 2 | CN11: x | CO11: 1 | CP11: 2 | CR11: 1 | CS11: 1 | CU11: 1 | CV11: x | CW11: x | CX11: x | CY11: 5 | DA11: x | DB11: 2 | DD11: 3 | DE11: x | DF11: x | DG11: 1 | DH11: 4 | DI11: 4 | DK11: 1 | DL11: x | DN11: x | DP11: 5 | DV11: 5 | DW11: x | DX11: x | DZ11: x | EA11: x | EC11: x | ED11: x | EE11: x | EF11: x | EG11: 4 | EH11: 4 | EI11: x | EL11: x | EM11: x | EN11: x | EO11: 5 | EP11: x | EQ11: 1 | EW11: x | EX11: x | EY11: x | FA11: x | FD11: 1 | FE11: 3 | FF11: x
A12: =A11+1 -> 4 | B12: Claude D. | D12: =(H12*5+I12*3+J12*1) -> 120 | F12: =COUNTIF(N12:FF12,"<>") -> 133 | H12: =COUNTIF(N12:FF12,"=1") -> 12 | I12: =COUNTIF(N12:FF12,"=2") -> 16 | J12: =COUNTIF(N12:FF12,"=3") -> 12 | K12: =COUNTIF(N12:FF12,"=4") -> 6 | L12: =COUNTIF(N12:FF12,"=5") -> 11 | O12: x | Q12: x | R12: 3 | S12: 2 | T12: x | V12: 2 | W12: 2 | X12: x | Y12: 2 | Z12: 3 | AA12: x | AC12: x | AD12: 1 | AE12: 3 | AG12: 1 | AH12: 2 | AI12: x | AJ12: x | AK12: x | AL12: x | AM12: 4 | AN12: 1 | AO12: x | AP12: 1 | AQ12: 2 | AR12: x | AS12: x | AT12: 3 | AU12: 3 | AV12: 5 | AW12: x | AX12: x | AY12: x | AZ12: x | BA12: 3 | BC12: 1 | BD12: 1 | BF12: 2 | BG12: x | BH12: 5 | BI12: 4 | BJ12: 5 | BK12: x | BL12: 2 | BM12: x | BN12: 5 | BO12: x | BP12: x | BT12: x | BU12: 5 | BV12: x | BW12: 3 | BY12: x | CA12: x | CB12: x | CC12: x | CE12: 5 | CF12: x | CG12: x | CH12: x | CI12: x | CJ12: 3 | CK12: x | CL12: 3 | CM12: x | CN12: x | CO12: x | CP12: x | CQ12: x | CR12: 2 | CS12: 5 | CT12: 5 | CU12: 3 | CV12: x | CW12: 1 | CX12: x | CY12: x | CZ12: x | DA12: x | DB12: x | DC12: x | DD12: 1 | DE12: 2 | DF12: 2 | DG12: x | DH12: x | DI12: 1 | DJ12: x | DK12: x | DL12: 3 | DM12: x | DO12: x | DP12: x | DQ12: 2 | DR12: 4 | DS12: 4 | DT12: 2 | DU12: 2 | DV12: x | DW12: 4 | DX12: 1 | DY12: x | DZ12: x | EA12: x | EB12: x | EC12: x | ED12: x | EE12: 1 | EF12: 5 | EG12: 2 | EH12: x | EJ12: x | EK12: x | EL12: x | EM12: x | EN12: x | EO12: x | EP12: x | EQ12: 3 | ER12: 5 | ES12: 1 | EU12: x | EV12: x | EW12: x | EX12: 5 | EY12: x | EZ12: x | FA12: x | FB12: x | FC12: 2 | FD12: 4 | FE12: x | FF12: x
A13: =A12+1 -> 5 | B13: Lothar | D13: =(H13*5+I13*3+J13*1) -> 103 | F13: =COUNTIF(N13:FF13,"<>") -> 126 | H13: =COUNTIF(N13:FF13,"=1") -> 12 | I13: =COUNTIF(N13:FF13,"=2") -> 9 | J13: =COUNTIF(N13:FF13,"=3") -> 16 | K13: =COUNTIF(N13:FF13,"=4") -> 18 | L13: =COUNTIF(N13:FF13,"=5") -> 14 | P13: x | Q13: 2 | R13: 5 | S13: 5 | T13: 5 | U13: 3 | V13: 3 | W13: x | X13: x | Z13: 1 | AA13: 4 | AB13: x | AC13: 4 | AD13: 5 | AF13: x | AG13: x | AH13: 3 | AI13: 5 | AJ13: 2 | AK13: x | AL13: x | AM13: 3 | AN13: 4 | AO13: x | AP13: 5 | AQ13: x | AR13: 4 | AS13: 2 | AT13: 4 | AU13: x | AV13: 1 | AW13: 3 | AX13: 4 | AY13: x | AZ13: 1 | BA13: 4 | BB13: 3 | BC13: x | BD13: 4 | BE13: 3 | BF13: 3 | BH13: 2 | BI13: 3 | BJ13: x | BK13: 4 | BL13: 3 | BM13: 1 | BN13: 1 | BO13: x | BP13: 1 | BQ13: x | BR13: 5 | BS13: x | BT13: 4 | BV13: 4 | BW13: 1 | BX13: 5 | BY13: 4 | BZ13: x | CA13: 5 | CB13: 5 | CC13: x | CD13: x | CF13: 2 | CG13: 2 | CH13: x | CI13: x | CJ13: 4 | CK13: 2 | CL13: 1 | CM13: x | CN13: x | CO13: x | CT13: x | CU13: x | CV13: 3 | CW13: x | CX13: x | CY13: x | DA13: 3 | DB13: 1 | DC13: 5 | DD13: x | DE13: x | DF13: x | DG13: x | DH13: x | DI13: x | DJ13: x | DL13: x | DM13: 4 | DO13: 4 | DP13: x | DQ13: 1 | DS13: x | DU13: 5 | DV13: 1 | DW13: x | DY13: x | DZ13: 3 | EA13: 5 | ED13: x | EE13: x | EF13: x | EG13: x | EI13: 4 | EJ13: x | EK13: 2 | EL13: x | EM13: 3 | EO13: x | EP13: x | EQ13: 4 | ER13: x | ES13: 3 | EU13: x | EV13: 3 | EW13: x | EX13: 2 | EY13: 1 | EZ13: x | FA13: x | FB13: x | FD13: x | FE13: 4 | FF13: 5
A14: =A13+1 -> 6 | B14: säulenkaktus | D14: =(H14*5+I14*3+J14*1) -> 91 | F14: =COUNTIF(N14:FF14,"<>") -> 129 | H14: =COUNTIF(N14:FF14,"=1") -> 9 | I14: =COUNTIF(N14:FF14,"=2") -> 11 | J14: =COUNTIF(N14:FF14,"=3") -> 13 | K14: =COUNTIF(N14:FF14,"=4") -> 10 | L14: =COUNTIF(N14:FF14,"=5") -> 9 | O14: 4 | P14: x | Q14: 3 | R14: x | S14: x | T14: 4 | U14: x | V14: x | W14: x | X14: 5 | Z14: x | AA14: x | AB14: 2 | AC14: x | AD14: x | AE14: x | AF14: 3 | AH14: 1 | AI14: 3 | AJ14: 3 | AK14: 5 | AL14: 1 | AM14: x | AN14: 5 | AO14: x | AP14: 2 | AQ14: x | AR14: x | AS14: x | AT14: x | AU14: x | AV14: 4 | AW14: 4 | AX14: x | AY14: 2 | AZ14: x | BB14: 4 | BC14: x | BD14: x | BE14: 1 | BF14: x | BG14: 4 | BH14: 1 | BI14: 1 | BK14: 2 | BL14: 4 | BM14: x | BN14: x | BO14: 5 | BP14: 3 | BR14: 1 | BS14: x | BT14: x | BU14: x | BV14: x | BW14: x | BX14: 2 | BZ14: x | CA14: x | CB14: x | CD14: x | CE14: 2 | CF14: 5 | CI14: 3 | CJ14: x | CK14: x | CL14: x | CM14: x | CO14: 3 | CP14: 4 | CQ14: 5 | CS14: x | CT14: 3 | CV14: x | CW14: x | CX14: 1 | CY14: x | CZ14: 4 | DA14: x | DC14: x | DE14: 3 | DF14: x | DG14: x | DH14: 3 | DI14: x | DJ14: x | DL14: x | DM14: x | DN14: 1 | DO14: 3 | DP14: 1 | DQ14: 5 | DR14: 3 | DS14: x | DU14: 3 | DV14: x | DW14: 2 | DX14: x | DY14: x | EB14: 2 | EC14: x | ED14: x | EE14: x | EF14: x | EG14: x | EH14: x | EI14: x | EJ14: 2 | EK14: 4 | EL14: 2 | EM14: x | EN14: 2 | EO14: x | EP14: x | EQ14: x | ER14: x | ES14: x | ET14: 5 | EU14: x | EV14: x | EW14: x | EX14: x | EY14: 5 | EZ14: x | FA14: x | FC14: x | FD14: x | FE14: x | FF14: x
A15: =A14+1 -> 7 | B15: Vichy | D15: =(H15*5+I15*3+J15*1) -> 84 | F15: =COUNTIF(N15:FF15,"<>") -> 114 | H15: =COUNTIF(N15:FF15,"=1") -> 8 | I15: =COUNTIF(N15:FF15,"=2") -> 10 | J15: =COUNTIF(N15:FF15,"=3") -> 14 | K15: =COUNTIF(N15:FF15,"=4") -> 7 | L15: =COUNTIF(N15:FF15,"=5") -> 8 | P15: 3 | Q15: x | AC15: 3 | AE15: x | AL15: x | AO15: 5 | AP15: x | AQ15: x | AR15: x | AS15: 4 | AU15: 4 | AW15: x | AX15: 5 | AY15: 3 | AZ15: 5 | BA15: x | BB15: x | BC15: 2 | BD15: 5 | BE15: x | BG15: 3 | BH15: x | BI15: x | BJ15: x | BK15: 1 | BL15: x | BM15: 2 | BN15: 2 | BO15: 1 | BP15: x | BQ15: x | BR15: 2 | BS15: x | BT15: 5 | BU15: 4 | BV15: x | BW15: x | BX15: x | BY15: x | BZ15: x | CA15: x | CB15: 1 | CC15: 2 | CD15: x | CE15: x | CF15: x | CG15: x | CH15: 3 | CI15: x | CJ15: 1 | CM15: 4 | CN15: x | CO15: x | CP15: x | CQ15: x | CS15: 3 | CT15: x | CU15: x | CV15: 5 | CY15: x | CZ15: x | DA15: x | DB15: x | DC15: 2 | DF15: 3 | DG15: x | DH15: x | DI15: x | DJ15: 3 | DK15: x | DL15: x | DM15: x | DN15: x | DO15: x | DQ15: 4 | DR15: x | DS15: x | DT15: 3 | DU15: x | DV15: 3 | DW15: x | DX15: x | DZ15: x | EA15: 1 | EB15: x | EC15: 2 | ED15: 4 | EE15: 4 | EF15: x | EG15: 5 | EH15: x | EI15: 3 | EJ15: x | EK15: x | EL15: 3 | EM15: x | EN15: x | EO15: 1 | EP15: x | EQ15: x | ER15: 2 | ES15: x | ET15: x | EU15: 3 | EV15: x | EW15: 2 | EX15: x | EY15: x | EZ15: 2 | FA15: 3 | FB15: 1 | FC15: 5 | FE15: 1 | FF15: x
A16: =A15+1 -> 8 | B16: hallerc4 | D16: =(H16*5+I16*3+J16*1) -> 79 | F16: =COUNTIF(N16:FF16,"<>") -> 105 | H16: =COUNTIF(N16:FF16,"=1") -> 8 | I16: =COUNTIF(N16:FF16,"=2") -> 11 | J16: =COUNTIF(N16:FF16,"=3") -> 6 | K16: =COUNTIF(N16:FF16,"=4") -> 10 | L16: =COUNTIF(N16:FF16,"=5") -> 15 | O16: 2 | Q16: x | R16: 4 | T16: x | U16: 2 | W16: 5 | X16: x | Y16: 5 | Z16: 2 | AA16: 5 | AB16: 1 | AC16: 1 | AE16: x | AF16: 2 | AG16: 5 | AH16: x | AJ16: x | AL16: 2 | AM16: x | AO16: 2 | AP16: x | AQ16: x | AR16: x | AS16: x | AT16: x | AU16: 5 | AV16: 3 | AW16: x | AX16: x | AY16: x | AZ16: x | BA16: 5 | BB16: x | BC16: x | BD16: x | BE16: x | BF16: 1 | BG16: 1 | BH16: x | BI16: x | BJ16: x | BK16: x | BL16: 4 | BM16: 4 | BV16: 2 | BW16: 4 | BX16: x | BY16: x | BZ16: 3 | CA16: 4 | CB16: x | CC16: 5 | CD16: 3 | CE16: x | CF16: 1 | CH16: x | CI16: 4 | CJ16: 2 | CL16: 5 | CM16: x | CO16: x | CP16: 5 | CQ16: x | CR16: 5 | CS16: x | CT16: x | CU16: 4 | CV16: 1 | CW16: 3 | CX16: x | CY16: x | CZ16: 5 | DA16: 2 | DB16: 5 | DC16: x | DD16: 5 | DE16: x | DF16: x | DG16: 5 | DH16: x | DI16: x | DJ16: x | DK16: 3 | DL16: x | DM16: 2 | DN16: 4 | DO16: x | DP16: x | DR16: x | DS16: 1 | DV16: x | DW16: 1 | DX16: x | DY16: x | DZ16: 5 | EA16: 2 | EB16: 4 | EC16: x | ED16: x | EE16: x | EG16: x | EH16: x | EI16: x | EJ16: 3 | EM16: 4
A17: =A16+1 -> 9 | B17: Usul3 | D17: =(H17*5+I17*3+J17*1) -> 75 | F17: =COUNTIF(N17:FF17,"<>") -> 60 | H17: =COUNTIF(N17:FF17,"=1") -> 12 | I17: =COUNTIF(N17:FF17,"=2") -> 3 | J17: =COUNTIF(N17:FF17,"=3") -> 6 | K17: =COUNTIF(N17:FF17,"=4") -> 5 | L17: =COUNTIF(N17:FF17,"=5") -> 3 | BD17: 3 | BE17: 4 | BH17: 3 | BJ17: x | BM17: x | BN17: x | BO17: 4 | BQ17: x | BS17: 1 | BT17: 1 | BU17: 1 | BV17: x | BY17: 5 | BZ17: x | CA17: x | CD17: 1 | CE17: 4 | CF17: x | CO17: 2 | CP17: 1 | CQ17: 1 | CS17: x | CU17: x | CW17: x | CX17: x | CY17: 1 | DA17: 1 | DB17: 3 | DI17: 3 | DO17: x | DP17: 2 | DR17: x | DT17: 4 | DU17: 4 | DV17: x | DW17: x | DY17: x | EB17: x | EC17: 5 | EE17: x | EF17: 3 | EG17: 1 | EH17: x | EJ17: x | EK17: x | EL17: x | EN17: 1 | EO17: x | EP17: x | ES17: 2 | ET17: x | EV17: 1 | EW17: 1 | EX17: x | EZ17: x | FB17: 5 | FC17: x | FD17: 3 | FE17: x | FF17: x
A18: =A17+1 -> 10 | B18: ja2911 | D18: =(H18*5+I18*3+J18*1) -> 71 | F18: =COUNTIF(N18:FF18,"<>") -> 105 | H18: =COUNTIF(N18:FF18,"=1") -> 4 | I18: =COUNTIF(N18:FF18,"=2") -> 13 | J18: =COUNTIF(N18:FF18,"=3") -> 12 | K18: =COUNTIF(N18:FF18,"=4") -> 9 | L18: =COUNTIF(N18:FF18,"=5") -> 5 | T18: x | U18: x | V18: x | W18: x | X18: 3 | Y18: x | Z18: 4 | AA18: 2 | AB18: x | AC18: 5 | AD18: 4 | AE18: 1 | AF18: 4 | AG18: x | AH18: x | AJ18: x | AK18: 2 | AL18: x | AM18: x | AN18: x | AP18: x | AQ18: 3 | AS18: 3 | AZ18: x | BB18: x | BC18: 3 | BD18: x | BH18: x | BN18: x | BP18: 2 | BV18: x | BW18: x | BZ18: x | CA18: x | CB18: x | CD18: 2 | CF18: x | CG18: 4 | CH18: 2 | CI18: x | CJ18: 5 | CK18: 4 | CL18: x | CM18: 3 | CN18: 3 | CO18: 4 | CP18: x | CQ18: 3 | CT18: 2 | CU18: x | CV18: x | CW18: x | CX18: 2 | CY18: 2 | CZ18: 3 | DA18: x | DC18: 1 | DD18: 4 | DE18: 5 | DF18: x | DG18: x | DH18: x | DI18: x | DJ18: 1 | DK18: x | DM18: 3 | DN18: 3 | DO18: x | DP18: x | DQ18: x | DR18: 1 | DS18: 2 | DT18: x | DU18: x | DV18: x | DW18: x | DX18: 2 | DY18: 2 | DZ18: x | EA18: x | EB18: x | EC18: x | ED18: 2 | EK18: 5 | EL18: x | EM18: x | EN18: x | EO18: 3 | EP18: 3 | EQ18: 5 | ER18: x | ES18: x | ET18: 2 | EU18: 4 | EV18: x | EW18: x | EX18: x | EY18: x | EZ18: x | FA18: 4 | FB18: x | FC18: x | FD18: x | FE18: x | FF18: x
A19: =A18+1 -> 11 | B19: 241264hsv-fan | D19: =(H19*5+I19*3+J19*1) -> 63 | F19: =COUNTIF(N19:FF19,"<>") -> 104 | H19: =COUNTIF(N19:FF19,"=1") -> 5 | I19: =COUNTIF(N19:FF19,"=2") -> 10 | J19: =COUNTIF(N19:FF19,"=3") -> 8 | K19: =COUNTIF(N19:FF19,"=4") -> 14 | L19: =COUNTIF(N19:FF19,"=5") -> 9 | O19: 3 | P19: 4 | Q19: 4 | R19: 2 | S19: 1 | V19: 1 | W19: x | AA19: 3 | AB19: 3 | AC19: x | AD19: 2 | AE19: 1 | AG19: 2 | AH19: 4 | AI19: 1 | AJ19: 1 | AM19: 5 | AN19: 2 | AO19: x | AP19: x | AQ19: x | AR19: 2 | AS19: x | AZ19: x | BB19: 5 | BC19: x | BD19: x | BE19: 4 | BF19: x | BI19: x | BK19: x | BL19: x | BM19: x | BN19: x | BO19: 2 | BP19: 4 | BQ19: 5 | BR19: x | BS19: 3 | BT19: x | BW19: 4 | BX19: x | BY19: 3 | CA19: 3 | CB19: x | CC19: x | CD19: x | CE19: x | CF19: x | CH19: x | CI19: x | CJ19: x | CL19: x | CM19: x | CN19: 5 | CO19: x | CP19: x | CQ19: x | CR19: 4 | CT19: x | CU19: x | CW19: 2 | DD19: x | DE19: 4 | DF19: 5 | DG19: 2 | DH19: x | DI19: x | DM19: x | DO19: 2 | DT19: 5 | DU19: x | DV19: x | DW19: 3 | DX19: x | DY19: x | EA19: 4 | EB19: 5 | EC19: x | EE19: x | EF19: x | EG19: x | EH19: x | EJ19: x | EK19: x | EL19: 4 | EN19: 5 | EO19: x | EP19: x | EQ19: x | ER19: x | ES19: x | ET19: x | EV19: 4 | EW19: 4 | EX19: x | EY19: 4 | EZ19: x | FA19: x | FB19: 4 | FC19: x | FD19: 2 | FE19: 5 | FF19: 3
A20: =A19+1 -> 12 | B20: King_Franky | D20: =(H20*5+I20*3+J20*1) -> 52 | F20: =COUNTIF(N20:FF20,"<>") -> 59 | H20: =COUNTIF(N20:FF20,"=1") -> 8 | I20: =COUNTIF(N20:FF20,"=2") -> 3 | J20: =COUNTIF(N20:FF20,"=3") -> 3 | K20: =COUNTIF(N20:FF20,"=4") -> 11 | L20: =COUNTIF(N20:FF20,"=5") -> 6 | AZ20: x | BG20: 5 | BH20: x | CA20: x | CB20: x | CC20: x | CD20: x | CG20: 5 | CI20: x | CL20: 4 | CN20: 2 | CT20: x | CU20: 5 | CW20: x | CX20: 4 | DB20: x | DC20: 4 | DD20: x | DE20: x | DF20: 4 | DG20: 4 | DH20: 2 | DI20: 1 | DJ20: 4 | DK20: 5 | DL20: 5 | DM20: x | DQ20: x | DR20: x | DS20: x | DT20: 1 | DU20: 1 | DV20: x | DY20: 4 | DZ20: 4 | EC20: x | ED20: x | EF20: x | EG20: 3 | EH20: 2 | EI20: 1 | EJ20: x | EK20: x | EL20: 5 | EM20: 1 | EN20: x | EO20: x | EP20: 1 | EQ20: x | ER20: x | ES20: x | ET20: 4 | EU20: 1 | EV20: x | EW20: 3 | EX20: 4 | EY20: 3 | EZ20: 4 | FA20: 1
A21: =A20+1 -> 13 | B21: am1937a | D21: =(H21*5+I21*3+J21*1) -> 45 | F21: =COUNTIF(N21:FF21,"<>") -> 90 | H21: =COUNTIF(N21:FF21,"=1") -> 6 | I21: =COUNTIF(N21:FF21,"=2") -> 3 | J21: =COUNTIF(N21:FF21,"=3") -> 6 | K21: =COUNTIF(N21:FF21,"=4") -> 8 | L21: =COUNTIF(N21:FF21,"=5") -> 9 | P21: 1 | Q21: x | S21: x | T21: x | U21: 5 | Y21: 1 | AD21: 3 | AE21: 5 | AF21: 5 | AG21: 3 | AK21: 4 | AM21: 1 | AN21: x | AP21: x | AQ21: 4 | AR21: 5 | AS21: 5 | AT21: 5 | AX21: 3 | AY21: x | AZ21: x | BC21: x | BG21: x | BJ21: 4 | BK21: 5 | BL21: x | BM21: 5 | BN21: x | BO21: x | BQ21: 4 | BR21: x | BS21: 5 | BV21: 1 | BW21: x | BX21: x | BY21: 2 | BZ21: x | CA21: x | CC21: x | CD21: 4 | CF21: x | CH21: 4 | CI21: x | CK21: 4 | CL21: x | CM21: x | CN21: 1 | CO21: x | CU21: x | CX21: x | CY21: x | DB21: x | DC21: x | DF21: x | DG21: x | DH21: x | DI21: x | DJ21: x | DK21: x | DN21: x | DP21: x | DU21: x | DV21: x | DW21: x | DX21: x | EC21: x | ED21: x | EE21: x | EF21: 1 | EG21: x | EH21: x | EI21: x | EJ21: 3 | EK21: 3 | EL21: x | EM21: x | EN21: 4 | EO21: 2 | EP21: x | EQ21: x | ER21: x | EU21: x | EW21: x | EX21: x | EY21: x | EZ21: x | FA21: x | FB21: 3 | FC21: 2 | FE21: x
A22: =A21+1 -> 14 | B22: Nicht Profi | D22: =(H22*5+I22*3+J22*1) -> 39 | F22: =COUNTIF(N22:FF22,"<>") -> 75 | H22: =COUNTIF(N22:FF22,"=1") -> 4 | I22: =COUNTIF(N22:FF22,"=2") -> 3 | J22: =COUNTIF(N22:FF22,"=3") -> 10 | K22: =COUNTIF(N22:FF22,"=4") -> 3 | L22: =COUNTIF(N22:FF22,"=5") -> 11 | P22: x | Q22: x | R22: x | S22: 3 | W22: x | Y22: x | AA22: x | AB22: 5 | AE22: 4 | AH22: 5 | AI22: x | AJ22: x | AK22: 3 | AL22: 3 | AM22: x | AO22: 3 | AY22: x | BF22: x | BG22: x | BH22: x | BJ22: x | BK22: x | BL22: 1 | BS22: x | BT22: x | BU22: x | BX22: x | BZ22: x | CU22: x | CV22: 4 | CW22: 5 | CX22: x | CZ22: 2 | DA22: 5 | DB22: x | DF22: 1 | DG22: x | DH22: x | DI22: x | DJ22: x | DM22: x | DO22: 5 | DP22: 3 | DQ22: x | DR22: 5 | DS22: 3 | DU22: x | DV22: 2 | DW22: 5 | DX22: 5 | DY22: 3 | DZ22: 2 | EA22: x | EB22: 1 | EC22: 1 | ED22: 3 | EE22: 3 | EF22: x | EG22: x | EI22: 5 | EL22: x | EO22: x | EQ22: x | ER22: 4 | ES22: x | ET22: 3 | EU22: x | EV22: x | EW22: 5 | EZ22: 5 | FA22: x | FC22: x | FD22: x | FE22: x | FF22: x
A23: =A22+1 -> 15 | B23: Norrsken | D23: =(H23*5+I23*3+J23*1) -> 20 | F23: =COUNTIF(N23:FF23,"<>") -> 47 | H23: =COUNTIF(N23:FF23,"=1") -> 2 | I23: =COUNTIF(N23:FF23,"=2") -> 3 | J23: =COUNTIF(N23:FF23,"=3") -> 1 | K23: =COUNTIF(N23:FF23,"=4") -> 5 | L23: =COUNTIF(N23:FF23,"=5") -> 5 | CW23: 4 | CX23: x | CZ23: x | DC23: x | DD23: x | DE23: 1 | DF23: x | DG23: x | DH23: 5 | DJ23: 5 | DK23: 4 | DL23: 4 | DM23: 5 | DP23: x | DQ23: x | DR23: x | DU23: x | DV23: 4 | DW23: x | DY23: 5 | EA23: x | ED23: x | EE23: 5 | EF23: 2 | EH23: 1 | EI23: 2 | EJ23: x | EK23: x | EL23: x | EM23: 2 | EN23: 3 | EO23: x | EP23: x | EQ23: x | ES23: x | ET23: x | EU23: x | EV23: x | EW23: x | EY23: x | EZ23: x | FA23: x | FB23: x | FC23: 4 | FD23: x | FE23: x | FF23: x
A24: =A23+1 -> 16 | B24: Eisvogel | D24: =(H24*5+I24*3+J24*1) -> 17 | F24: =COUNTIF(N24:FF24,"<>") -> 18 | H24: =COUNTIF(N24:FF24,"=1") -> 2 | I24: =COUNTIF(N24:FF24,"=2") -> 1 | J24: =COUNTIF(N24:FF24,"=3") -> 4 | K24: =COUNTIF(N24:FF24,"=4") -> 0 | L24: =COUNTIF(N24:FF24,"=5") -> 2 | BJ24: x | BN24: 3 | BO24: 3 | BP24: x | BQ24: 3 | BR24: x | BS24: 2 | BU24: x | BV24: 5 | BW24: x | BZ24: 5 | CA24: x | CB24: 3 | CC24: x | CE24: x | CG24: 1 | CI24: 1 | CJ24: x
A25: =A24+1 -> 17 | B25: Loriot 98 | D25: =(H25*5+I25*3+J25*1) -> 15 | F25: =COUNTIF(N25:FF25,"<>") -> 8 | H25: =COUNTIF(N25:FF25,"=1") -> 3 | I25: =COUNTIF(N25:FF25,"=2") -> 0 | J25: =COUNTIF(N25:FF25,"=3") -> 0 | K25: =COUNTIF(N25:FF25,"=4") -> 0 | L25: =COUNTIF(N25:FF25,"=5") -> 1 | EG25: x | EH25: 5 | EI25: x | EJ25: 1 | EK25: 1 | EL25: 1 | EM25: x | EN25: x
A26: =A25+1 -> 18 | B26: gründi | D26: =(H26*5+I26*3+J26*1) -> 13 | F26: =COUNTIF(N26:FF26,"<>") -> 24 | H26: =COUNTIF(N26:FF26,"=1") -> 2 | I26: =COUNTIF(N26:FF26,"=2") -> 1 | J26: =COUNTIF(N26:FF26,"=3") -> 0 | K26: =COUNTIF(N26:FF26,"=4") -> 2 | L26: =COUNTIF(N26:FF26,"=5") -> 0 | AJ26: 4 | AL26: x | AM26: 2 | DZ26: x | EB26: x | EC26: 4 | EH26: x | EI26: x | EJ26: x | EK26: x | EN26: x | EP26: x | EQ26: x | ER26: x | ES26: x | ET26: 1 | EU26: x | EV26: x | EW26: x | EX26: 1 | EY26: x | FD26: x | FE26: x | FF26: x
A27: =A26+1 -> 19 | B27: KuK | D27: =(H27*5+I27*3+J27*1) -> 13 | F27: =COUNTIF(N27:FF27,"<>") -> 29 | H27: =COUNTIF(N27:FF27,"=1") -> 0 | I27: =COUNTIF(N27:FF27,"=2") -> 3 | J27: =COUNTIF(N27:FF27,"=3") -> 4 | K27: =COUNTIF(N27:FF27,"=4") -> 4 | L27: =COUNTIF(N27:FF27,"=5") -> 1 | R27: x | U27: 4 | V27: x | X27: x | Y27: 3 | AA27: x | AB27: 4 | AC27: 2 | AE27: x | AH27: x | AI27: 4 | AJ27: x | AK27: x | AL27: x | AM27: x | AY27: 5 | AZ27: x | BB27: x | BD27: x | BI27: 2 | BJ27: 2 | BQ27: x | BR27: x | BS27: 4 | BT27: 3 | BU27: 3 | BV27: x | BW27: x | BX27: 3
A28: =A27+1 -> 20 | B28: pumuckl | D28: =(H28*5+I28*3+J28*1) -> 6 | F28: =COUNTIF(N28:FF28,"<>") -> 3 | H28: =COUNTIF(N28:FF28,"=1") -> 1 | I28: =COUNTIF(N28:FF28,"=2") -> 0 | J28: =COUNTIF(N28:FF28,"=3") -> 1 | K28: =COUNTIF(N28:FF28,"=4") -> 0 | L28: =COUNTIF(N28:FF28,"=5") -> 0 | CA28: 1 | EW28: x | EX28: 3
A29: =A28+1 -> 21 | B29: rainer | D29: =(H29*5+I29*3+J29*1) -> 5 | F29: =COUNTIF(N29:FF29,"<>") -> 7 | H29: =COUNTIF(N29:FF29,"=1") -> 1 | I29: =COUNTIF(N29:FF29,"=2") -> 0 | J29: =COUNTIF(N29:FF29,"=3") -> 0 | K29: =COUNTIF(N29:FF29,"=4") -> 2 | L29: =COUNTIF(N29:FF29,"=5") -> 0 | O29: x | R29: x | T29: 1 | U29: x | V29: x | W29: 4 | Y29: 4
A30: =A29+1 -> 22 | B30: Leseratte1957 | D30: =(H30*5+I30*3+J30*1) -> 5 | F30: =COUNTIF(N30:FF30,"<>") -> 7 | H30: =COUNTIF(N30:FF30,"=1") -> 1 | I30: =COUNTIF(N30:FF30,"=2") -> 0 | J30: =COUNTIF(N30:FF30,"=3") -> 0 | K30: =COUNTIF(N30:FF30,"=4") -> 0 | L30: =COUNTIF(N30:FF30,"=5") -> 1 | AW30: 5 | CF30: x | CH30: x | ES30: x | EV30: x | EX30: x | EZ30: 1
A31: =A30+1 -> 23 | B31: Braunbear | D31: =(H31*5+I31*3+J31*1) -> 5 | F31: =COUNTIF(N31:FF31,"<>") -> 4 | H31: =COUNTIF(N31:FF31,"=1") -> 1 | I31: =COUNTIF(N31:FF31,"=2") -> 0 | J31: =COUNTIF(N31:FF31,"=3") -> 0 | K31: =COUNTIF(N31:FF31,"=4") -> 0 | L31: =COUNTIF(N31:FF31,"=5") -> 0 | EF31: x | FC31: x | FE31: x | FF31: 1
A32: =A31+1 -> 24 | B32: scorpio | D32: =(H32*5+I32*3+J32*1) -> 3 | F32: =COUNTIF(N32:FF32,"<>") -> 6 | H32: =COUNTIF(N32:FF32,"=1") -> 0 | I32: =COUNTIF(N32:FF32,"=2") -> 1 | J32: =COUNTIF(N32:FF32,"=3") -> 0 | K32: =COUNTIF(N32:FF32,"=4") -> 1 | L32: =COUNTIF(N32:FF32,"=5") -> 1 | EH32: x | EP32: 2 | EU32: 5 | FD32: x | FE32: x | FF32: 4
A33: =A32+1 -> 25 | B33: Lujowe73 | D33: =(H33*5+I33*3+J33*1) -> 3 | F33: =COUNTIF(N33:FF33,"<>") -> 7 | H33: =COUNTIF(N33:FF33,"=1") -> 0 | I33: =COUNTIF(N33:FF33,"=2") -> 1 | J33: =COUNTIF(N33:FF33,"=3") -> 0 | K33: =COUNTIF(N33:FF33,"=4") -> 0 | L33: =COUNTIF(N33:FF33,"=5") -> 1 | EV33: 5 | EW33: x | EY33: x | FC33: x | FD33: x | FE33: x | FF33: 2
A34: =A33+1 -> 26 | B34: axbuhr | D34: =(H34*5+I34*3+J34*1) -> 1 | F34: =COUNTIF(N34:FF34,"<>") -> 7 | H34: =COUNTIF(N34:FF34,"=1") -> 0 | I34: =COUNTIF(N34:FF34,"=2") -> 0 | J34: =COUNTIF(N34:FF34,"=3") -> 1 | K34: =COUNTIF(N34:FF34,"=4") -> 0 | L34: =COUNTIF(N34:FF34,"=5") -> 1 | EY34: x | EZ34: 3 | FA34: 5 | FB34: x | FC34: x | FE34: x | FF34: x
A35: =A34+1 -> 27 | B35: hd82hd | D35: =(H35*5+I35*3+J35*1) -> 0 | F35: =COUNTIF(N35:FF35,"<>") -> 1 | H35: =COUNTIF(N35:FF35,"=1") -> 0 | I35: =COUNTIF(N35:FF35,"=2") -> 0 | J35: =COUNTIF(N35:FF35,"=3") -> 0 | K35: =COUNTIF(N35:FF35,"=4") -> 1 | L35: =COUNTIF(N35:FF35,"=5") -> 0 | EP35: 4
