Workbook

Sheet 2016
F6: Spiele | N6: Spiel | O6: Spiel | P6: Spiel | Q6: Spiel | R6: Spiel | S6: Spiel | T6: Spiel | U6: Spiel | V6: Spiel | W6: Spiel | X6: Spiel | Y6: Spiel | Z6: Spiel | AA6: Spiel | AB6: Spiel | AC6: Spiel | AD6: Spiel | AE6: Spiel | AF6: Spiel | AG6: Spiel | AH6: Spiel | AI6: Spiel | AJ6: Spiel | AK6: Spiel | AL6: Spiel | AM6: Spiel | AN6: Spiel | AO6: Spiel | AP6: Spiel | AQ6: Spiel | AR6: Spiel | AS6: Spiel | AT6: Spiel | AU6: Spiel | AV6: Spiel | AW6: Spiel | AX6: Spiel | AY6: Spiel | AZ6: Spiel | BA6: Spiel | BB6: Spiel | BC6: Spiel | BD6: Spiel | BE6: Spiel | BF6: Spiel | BG6: Spiel | BH6: Spiel | BI6: Spiel | BJ6: Spiel | BK6: Spiel | BL6: Spiel | BM6: Spiel | BN6: Spiel | BO6: Spiel | BP6: Spiel | BQ6: Spiel | BR6: Spiel | BS6: Spiel | BT6: Spiel | BU6: Spiel | BV6: Spiel | BW6: Spiel | BX6: Spiel | BY6: Spiel | BZ6: Spiel | CA6: Spiel | CB6: Spiel | CC6: Spiel | CD6: Spiel | CE6: Spiel | CF6: Spiel | CG6: Spiel | CH6: Spiel | CI6: Spiel | CJ6: Spiel | CK6: Spiel | CL6: Spiel | CM6: Spiel | CN6: Spiel | CO6: Spiel | CP6: Spiel | CQ6: Spiel | CR6: Spiel | CS6: Spiel | CT6: Spiel | CU6: Spiel | CV6: Spiel | CW6: Spiel | CX6: Spiel | CY6: Spiel | CZ6: Spiel | DA6: Spiel | DB6: Spiel | DC6: Spiel | DD6: Spiel | DE6: Spiel | DF6: Spiel | DG6: Spiel | DH6: Spiel | DI6: Spiel | DJ6: Spiel | DK6: Spiel | DL6: Spiel | DM6: Spiel | DN6: Spiel | DO6: Spiel | DP6: Spiel | DQ6: Spiel | DR6: Spiel | DS6: Spiel | DT6: Spiel | DU6: Spiel | DV6: Spiel | DW6: Spiel | DX6: Spiel | DY6: Spiel | DZ6: Spiel | EA6: Spiel | EB6: Spiel | EC6: Spiel | ED6: Spiel | EE6: Spiel | EF6: Spiel | EG6: Spiel | EH6: Spiel | EI6: Spiel | EJ6: Spiel | EK6: Spiel | EL6: Spiel | EM6: Spiel | EN6: Spiel | EO6: Spiel | EP6: Spiel | EQ6: Spiel | ER6: Spiel | ES6: Spiel | ET6: Spiel | EU6: Spiel | EV6: Spiel | EW6: Spiel | EX6: Spiel | EY6: Spiel | EZ6: Spiel | FA6: Spiel | FB6: Spiel | FC6: Spiel | FD6: Spiel | FE6: Spiel | FF6: Spiel | FG6: Spiel | FH6: Spiel | FI6: Spiel | FJ6: Spiel | FK6: Spiel | FL6: Spiel | FM6: Spiel | FN6: Spiel | FO6: Spiel | FP6: Spiel | FQ6: Spiel | FR6: Spiel | FS6: Spiel | FT6: Spiel | FU6: Spiel | FV6: Spiel | FW6: Spiel | FX6: Spiel | FY6: Spiel | FZ6: Spiel | GA6: Spiel
A7: Platz | B7: Tipper(in) | D7: Punkte | F7: getippt | H7: 1. Pl. | I7: 2. Pl. | J7: 3. Pl. | K7: 4. Pl. | L7: 5. Pl. | N7: =O7+1 -> 170 | O7: =P7+1 -> 169 | P7: =Q7+1 -> 168 | Q7: =R7+1 -> 167 | R7: =S7+1 -> 166 | S7: =T7+1 -> 165 | T7: =U7+1 -> 164 | U7: =V7+1 -> 163 | ... FZ7: =GA7+1 -> 2 | GA7: 1
A9: =A8+1 -> 1 | B9: Claude D. | D9: =(H9*5+I9*3+J9*1) -> 26 | F9: =COUNTIF(AI9:GA9,"<>") -> 17 | H9: =COUNTIF(N9:GA9,"=1") -> 4 | I9: =COUNTIF(N9:GA9,"=2") -> 2 | J9: =COUNTIF(N9:GA9,"=3") -> 0 | K9: =COUNTIF(N9:GA9,"=4") -> 0 | L9: =COUNTIF(N9:GA9,"=5") -> 2 | FK9: x | FL9: x | FM9: x | FN9: 1 | FO9: x | FP9: x | FQ9: x | FR9: 1 | FS9: x | FT9: 5 | FU9: 2 | FV9: x | FW9: 2 | FX9: 1 | FY9: 1 | FZ9: x | GA9: 5
A10: =A9+1 -> 2 | B10: kartenhai | D10: =(H10*5+I10*3+J10*1) -> 22 | F10: =COUNTIF(AI10:GA10,"<>") -> 12 | H10: =COUNTIF(N10:GA10,"=1") -> 4 | I10: =COUNTIF(N10:GA10,"=2") -> 0 | J10: =COUNTIF(N10:GA10,"=3") -> 2 | K10: =COUNTIF(N10:GA10,"=4") -> 0 | L10: =COUNTIF(N10:GA10,"=5") -> 0 | FK10: 1 | FL10: x | FM10: 1 | FN10: 3 | FO10: x | FP10: 1 | FS10: x | FU10: 1 | FV10: x | FX10: 3 | FY10: x | GA10: x
A11: =A10+1 -> 3 | B11: hallerc4 | D11: =(H11*5+I11*3+J11*1) -> 15 | F11: =COUNTIF(AI11:GA11,"<>") -> 17 | H11: =COUNTIF(N11:GA11,"=1") -> 1 | I11: =COUNTIF(N11:GA11,"=2") -> 3 | J11: =COUNTIF(N11:GA11,"=3") -> 1 | K11: =COUNTIF(N11:GA11,"=4") -> 1 | L11: =COUNTIF(N11:GA11,"=5") -> 1 | FK11: x | FL11: 2 | FM11: 2 | FN11: x | FO11: x | FP11: 5 | FQ11: 2 | FR11: x | FS11: 1 | FT11: 3 | FU11: x | FV11: x | FW11: x | FX11: x | FY11: x | FZ11: 4 | GA11: x
A12: =A11+1 -> 4 | B12: Wolffi | D12: =(H12*5+I12*3+J12*1) -> 11 | F12: =COUNTIF(AI12:GA12,"<>") -> 17 | H12: =COUNTIF(N12:GA12,"=1") -> 1 | I12: =COUNTIF(N12:GA12,"=2") -> 1 | J12: =COUNTIF(N12:GA12,"=3") -> 3 | K12: =COUNTIF(N12:GA12,"=4") -> 2 | L12: =COUNTIF(N12:GA12,"=5") -> 0 | FK12: 3 | FL12: x | FM12: x | FN12: x | FO12: x | FP12: 2 | FQ12: x | FR12: x | FS12: x | FT12: 1 | FU12: 4 | FV12: x | FW12: 3 | FX12: x | FY12: 4 | FZ12: 3 | GA12: x
A13: =A12+1 -> 5 | B13: KArnoldBln | D13: =(H13*5+I13*3+J13*1) -> 10 | F13: =COUNTIF(AI13:GA13,"<>") -> 12 | H13: =COUNTIF(N13:GA13,"=1") -> 2 | I13: =COUNTIF(N13:GA13,"=2") -> 0 | J13: =COUNTIF(N13:GA13,"=3") -> 0 | K13: =COUNTIF(N13:GA13,"=4") -> 0 | L13: =COUNTIF(N13:GA13,"=5") -> 2 | FL13: x | FM13: x | FN13: x | FO13: 5 | FR13: x | FU13: x | FV13: 5 | FW13: 1 | FX13: x | FY13: x | FZ13: 1 | GA13: x
A14: =A13+1 -> 6 | B14: Nicht Profi | D14: =(H14*5+I14*3+J14*1) -> 10 | F14: =COUNTIF(AI14:GA14,"<>") -> 15 | H14: =COUNTIF(N14:GA14,"=1") -> 1 | I14: =COUNTIF(N14:GA14,"=2") -> 1 | J14: =COUNTIF(N14:GA14,"=3") -> 2 | K14: =COUNTIF(N14:GA14,"=4") -> 0 | L14: =COUNTIF(N14:GA14,"=5") -> 1 | FK14: x | FL14: 3 | FM14: 3 | FO14: x | FP14: x | FR14: x | FS14: x | FT14: x | FU14: x | FV14: 1 | FW14: 5 | FX14: x | FY14: x | FZ14: 2 | GA14: x
A15: =A14+1 -> 7 | B15: Vichy | D15: =(H15*5+I15*3+J15*1) -> 9 | F15: =COUNTIF(AI15:GA15,"<>") -> 17 | H15: =COUNTIF(N15:GA15,"=1") -> 1 | I15: =COUNTIF(N15:GA15,"=2") -> 1 | J15: =COUNTIF(N15:GA15,"=3") -> 1 | K15: =COUNTIF(N15:GA15,"=4") -> 3 | L15: =COUNTIF(N15:GA15,"=5") -> 1 | FK15: 4 | FL15: 1 | FM15: x | FN15: 4 | FO15: 4 | FP15: x | FQ15: x | FR15: x | FS15: x | FT15: x | FU15: x | FV15: x | FW15: x | FX15: x | FY15: 2 | FZ15: 5 | GA15: 3
A16: =A15+1 -> 8 | B16: 241264hsv-fan | D16: =(H16*5+I16*3+J16*1) -> 9 | F16: =COUNTIF(AI16:GA16,"<>") -> 13 | H16: =COUNTIF(N16:GA16,"=1") -> 1 | I16: =COUNTIF(N16:GA16,"=2") -> 1 | J16: =COUNTIF(N16:GA16,"=3") -> 1 | K16: =COUNTIF(N16:GA16,"=4") -> 1 | L16: =COUNTIF(N16:GA16,"=5") -> 0 | FK16: x | FL16: x | FM16: x | FN16: 2 | FO16: x | FP16: 3 | FR16: x | FV16: x | FW16: x | FX16: 4 | FY16: x | FZ16: x | GA16: 1
A17: =A16+1 -> 9 | B17: Thor75S | D17: =(H17*5+I17*3+J17*1) -> 8 | F17: =COUNTIF(AI17:GA17,"<>") -> 12 | H17: =COUNTIF(N17:GA17,"=1") -> 1 | I17: =COUNTIF(N17:GA17,"=2") -> 1 | J17: =COUNTIF(N17:GA17,"=3") -> 0 | K17: =COUNTIF(N17:GA17,"=4") -> 0 | L17: =COUNTIF(N17:GA17,"=5") -> 1 | FK17: x | FL17: x | FN17: x | FO17: x | FP17: x | FQ17: 1 | FR17: 2 | FT17: x | FU17: x | FX17: 5 | FY17: x | FZ17: x
A18: =A17+1 -> 10 | B18: muesli | D18: =(H18*5+I18*3+J18*1) -> 6 | F18: =COUNTIF(AI18:GA18,"<>") -> 14 | H18: =COUNTIF(N18:GA18,"=1") -> 0 | I18: =COUNTIF(N18:GA18,"=2") -> 2 | J18: =COUNTIF(N18:GA18,"=3") -> 0 | K18: =COUNTIF(N18:GA18,"=4") -> 0 | L18: =COUNTIF(N18:GA18,"=5") -> 0 | FK18: 2 | FL18: x | FM18: x | FN18: x | FO18: x | FP18: x | FQ18: x | FR18: x | FS18: x | FT18: 2 | FX18: x | FY18: x | FZ18: x | GA18: x
A19: =A18+1 -> 11 | B19: Braunbear | D19: =(H19*5+I19*3+J19*1) -> 5 | F19: =COUNTIF(AI19:GA19,"<>") -> 9 | H19: =COUNTIF(N19:GA19,"=1") -> 1 | I19: =COUNTIF(N19:GA19,"=2") -> 0 | J19: =COUNTIF(N19:GA19,"=3") -> 0 | K19: =COUNTIF(N19:GA19,"=4") -> 1 | L19: =COUNTIF(N19:GA19,"=5") -> 1 | FO19: 1 | FR19: x | FS19: 4 | FU19: x | FV19: x | FW19: x | FY19: x | FZ19: x | GA19: 5
A20: =A19+1 -> 12 | B20: Usul3 | D20: =(H20*5+I20*3+J20*1) -> 5 | F20: =COUNTIF(AI20:GA20,"<>") -> 14 | H20: =COUNTIF(N20:GA20,"=1") -> 0 | I20: =COUNTIF(N20:GA20,"=2") -> 1 | J20: =COUNTIF(N20:GA20,"=3") -> 2 | K20: =COUNTIF(N20:GA20,"=4") -> 2 | L20: =COUNTIF(N20:GA20,"=5") -> 0 | FL20: x | FM20: 4 | FP20: x | FQ20: x | FR20: x | FS20: 3 | FT20: 4 | FU20: x | FV20: x | FW20: x | FX20: 2 | FY20: 3 | FZ20: x | GA20: x
A21: =A20+1 -> 13 | B21: säulenkaktus | D21: =(H21*5+I21*3+J21*1) -> 4 | F21: =COUNTIF(AI21:GA21,"<>") -> 17 | H21: =COUNTIF(N21:GA21,"=1") -> 0 | I21: =COUNTIF(N21:GA21,"=2") -> 1 | J21: =COUNTIF(N21:GA21,"=3") -> 1 | K21: =COUNTIF(N21:GA21,"=4") -> 0 | L21: =COUNTIF(N21:GA21,"=5") -> 4 | FK21: x | FL21: 5 | FM21: 5 | FN21: x | FO21: 2 | FP21: x | FQ21: x | FR21: 5 | FS21: x | FT21: x | FU21: 5 | FV21: 3 | FW21: x | FX21: x | FY21: x | FZ21: x | GA21: x
A22: =A21+1 -> 14 | B22: uli hermann | D22: =(H22*5+I22*3+J22*1) -> 4 | F22: =COUNTIF(AI22:GA22,"<>") -> 14 | H22: =COUNTIF(N22:GA22,"=1") -> 0 | I22: =COUNTIF(N22:GA22,"=2") -> 1 | J22: =COUNTIF(N22:GA22,"=3") -> 1 | K22: =COUNTIF(N22:GA22,"=4") -> 1 | L22: =COUNTIF(N22:GA22,"=5") -> 1 | FK22: x | FL22: 5 | FM22: x | FN22: x | FO22: x | FP22: 4 | FQ22: x | FR22: 3 | FS22: x | FT22: x | FU22: x | FV22: 2 | FW22: x | FZ22: x
A23: =A22+1 -> 15 | B23: Ramirez | D23: =(H23*5+I23*3+J23*1) -> 3 | F23: =COUNTIF(AI23:GA23,"<>") -> 16 | H23: =COUNTIF(N23:GA23,"=1") -> 0 | I23: =COUNTIF(N23:GA23,"=2") -> 1 | J23: =COUNTIF(N23:GA23,"=3") -> 0 | K23: =COUNTIF(N23:GA23,"=4") -> 0 | L23: =COUNTIF(N23:GA23,"=5") -> 1 | FK23: 5 | FL23: x | FM23: x | FN23: x | FO23: x | FP23: x | FQ23: x | FR23: x | FS23: x | FT23: x | FU23: x | FV23: x | FW23: x | FY23: x | FZ23: x | GA23: 2
A24: =A23+1 -> 16 | B24: Leseratte1957 | D24: =(H24*5+I24*3+J24*1) -> 3 | F24: =COUNTIF(AI24:GA24,"<>") -> 7 | H24: =COUNTIF(N24:GA24,"=1") -> 0 | I24: =COUNTIF(N24:GA24,"=2") -> 1 | J24: =COUNTIF(N24:GA24,"=3") -> 0 | K24: =COUNTIF(N24:GA24,"=4") -> 0 | L24: =COUNTIF(N24:GA24,"=5") -> 0 | FP24: x | FR24: x | FS24: 2 | FT24: x | FU24: x | FX24: x | FY24: x
A25: =A24+1 -> 17 | B25: Lothar | D25: =(H25*5+I25*3+J25*1) -> 2 | F25: =COUNTIF(AI25:GA25,"<>") -> 17 | H25: =COUNTIF(N25:GA25,"=1") -> 0 | I25: =COUNTIF(N25:GA25,"=2") -> 0 | J25: =COUNTIF(N25:GA25,"=3") -> 2 | K25: =COUNTIF(N25:GA25,"=4") -> 1 | L25: =COUNTIF(N25:GA25,"=5") -> 3 | FK25: x | FL25: 4 | FM25: x | FN25: 5 | FO25: x | FP25: x | FQ25: 5 | FR25: x | FS25: 5 | FT25: x | FU25: 3 | FV25: x | FW25: x | FX25: x | FY25: x | FZ25: x | GA25: 3
A26: =A25+1 -> 18 | B26: ja2911 | D26: =(H26*5+I26*3+J26*1) -> 1 | F26: =COUNTIF(AI26:GA26,"<>") -> 15 | H26: =COUNTIF(N26:GA26,"=1") -> 0 | I26: =COUNTIF(N26:GA26,"=2") -> 0 | J26: =COUNTIF(N26:GA26,"=3") -> 1 | K26: =COUNTIF(N26:GA26,"=4") -> 1 | L26: =COUNTIF(N26:GA26,"=5") -> 0 | FK26: x | FL26: x | FM26: x | FN26: x | FO26: x | FP26: x | FQ26: 3 | FR26: x | FS26: x | FT26: x | FU26: x | FV26: 4 | FW26: x | FY26: x | FZ26: x
A27: =A26+1 -> 19 | B27: hd82hd | D27: =(H27*5+I27*3+J27*1) -> 1 | F27: =COUNTIF(AI27:GA27,"<>") -> 12 | H27: =COUNTIF(N27:GA27,"=1") -> 0 | I27: =COUNTIF(N27:GA27,"=2") -> 0 | J27: =COUNTIF(N27:GA27,"=3") -> 1 | K27: =COUNTIF(N27:GA27,"=4") -> 1 | L27: =COUNTIF(N27:GA27,"=5") -> 0 | FL27: x | FN27: x | FO27: 3 | FP27: x | FR27: 4 | FT27: x | FU27: x | FV27: x | FW27: x | FX27: x | FY27: x | FZ27: x
A28: =A27+1 -> 20 | B28: rainer | D28: =(H28*5+I28*3+J28*1) -> 0 | F28: =COUNTIF(AI28:GA28,"<>") -> 6 | H28: =COUNTIF(N28:GA28,"=1") -> 0 | I28: =COUNTIF(N28:GA28,"=2") -> 0 | J28: =COUNTIF(N28:GA28,"=3") -> 0 | K28: =COUNTIF(N28:GA28,"=4") -> 1 | L28: =COUNTIF(N28:GA28,"=5") -> 1 | FK28: x | FQ28: 4 | FR28: x | FY28: 5 | FZ28: x | GA28: x
A29: =A28+1 -> 21 | B29: Hobbymarke | D29: =(H29*5+I29*3+J29*1) -> 0 | F29: =COUNTIF(AI29:GA29,"<>") -> 3 | H29: =COUNTIF(N29:GA29,"=1") -> 0 | I29: =COUNTIF(N29:GA29,"=2") -> 0 | J29: =COUNTIF(N29:GA29,"=3") -> 0 | K29: =COUNTIF(N29:GA29,"=4") -> 1 | L29: =COUNTIF(N29:GA29,"=5") -> 0 | FU29: x | FV29: x | FW29: 4
A30: =A29+1 -> 22 | B30: KuK | D30: =(H30*5+I30*3+J30*1) -> 0 | F30: =COUNTIF(AI30:GA30,"<>") -> 1 | H30: =COUNTIF(N30:GA30,"=1") -> 0 | I30: =COUNTIF(N30:GA30,"=2") -> 0 | J30: =COUNTIF(N30:GA30,"=3") -> 0 | K30: =COUNTIF(N30:GA30,"=4") -> 0 | L30: =COUNTIF(N30:GA30,"=5") -> 0 | GA30: x
A31: =A30+1 -> 23 | B31: Markenfritze | D31: =(H31*5+I31*3+J31*1) -> 0 | F31: =COUNTIF(AI31:GA31,"<>") -> 1 | H31: =COUNTIF(N31:GA31,"=1") -> 0 | I31: =COUNTIF(N31:GA31,"=2") -> 0 | J31: =COUNTIF(N31:GA31,"=3") -> 0 | K31: =COUNTIF(N31:GA31,"=4") -> 0 | L31: =COUNTIF(N31:GA31,"=5") -> 0 | FT31: x
A32: =A31+1 -> 24 | B32: pumuckl | D32: =(H32*5+I32*3+J32*1) -> 0 | F32: =COUNTIF(AI32:GA32,"<>") -> 1 | H32: =COUNTIF(N32:GA32,"=1") -> 0 | I32: =COUNTIF(N32:GA32,"=2") -> 0 | J32: =COUNTIF(N32:GA32,"=3") -> 0 | K32: =COUNTIF(N32:GA32,"=4") -> 0 | L32: =COUNTIF(N32:GA32,"=5") -> 0 | GA32: x
A33: =A32+1 -> 25 | B33: Schimmel | D33: =(H33*5+I33*3+J33*1) -> 0 | F33: =COUNTIF(AI33:GA33,"<>") -> 1 | H33: =COUNTIF(N33:GA33,"=1") -> 0 | I33: =COUNTIF(N33:GA33,"=2") -> 0 | J33: =COUNTIF(N33:GA33,"=3") -> 0 | K33: =COUNTIF(N33:GA33,"=4") -> 0 | L33: =COUNTIF(N33:GA33,"=5") -> 0 | GA33: x
A34: =A33+1 -> 26 | D34: =(H34*5+I34*3+J34*1) -> 0 | F34: =COUNTIF(AI34:GA34,"<>") -> 0 | H34: =COUNTIF(N34:GA34,"=1") -> 0 | I34: =COUNTIF(N34:GA34,"=2") -> 0 | J34: =COUNTIF(N34:GA34,"=3") -> 0 | K34: =COUNTIF(N34:GA34,"=4") -> 0 | L34: =COUNTIF(N34:GA34,"=5") -> 0
A35: =A34+1 -> 27 | D35: =(H35*5+I35*3+J35*1) -> 0 | F35: =COUNTIF(AI35:GA35,"<>") -> 0 | H35: =COUNTIF(N35:GA35,"=1") -> 0 | I35: =COUNTIF(N35:GA35,"=2") -> 0 | J35: =COUNTIF(N35:GA35,"=3") -> 0 | K35: =COUNTIF(N35:GA35,"=4") -> 0 | L35: =COUNTIF(N35:GA35,"=5") -> 0
A36: =A35+1 -> 28 | D36: =(H36*5+I36*3+J36*1) -> 0 | F36: =COUNTIF(AI36:GA36,"<>") -> 0 | H36: =COUNTIF(N36:GA36,"=1") -> 0 | I36: =COUNTIF(N36:GA36,"=2") -> 0 | J36: =COUNTIF(N36:GA36,"=3") -> 0 | K36: =COUNTIF(N36:GA36,"=4") -> 0 | L36: =COUNTIF(N36:GA36,"=5") -> 0
A37: =A36+1 -> 29 | D37: =(H37*5+I37*3+J37*1) -> 0 | F37: =COUNTIF(AI37:GA37,"<>") -> 0 | H37: =COUNTIF(N37:GA37,"=1") -> 0 | I37: =COUNTIF(N37:GA37,"=2") -> 0 | J37: =COUNTIF(N37:GA37,"=3") -> 0 | K37: =COUNTIF(N37:GA37,"=4") -> 0 | L37: =COUNTIF(N37:GA37,"=5") -> 0
A38: =A37+1 -> 30 | D38: =(H38*5+I38*3+J38*1) -> 0 | F38: =COUNTIF(AI38:GA38,"<>") -> 0 | H38: =COUNTIF(N38:GA38,"=1") -> 0 | I38: =COUNTIF(N38:GA38,"=2") -> 0 | J38: =COUNTIF(N38:GA38,"=3") -> 0 | K38: =COUNTIF(N38:GA38,"=4") -> 0 | L38: =COUNTIF(N38:GA38,"=5") -> 0
A39: =A38+1 -> 31 | D39: =(H39*5+I39*3+J39*1) -> 0 | F39: =COUNTIF(AI39:GA39,"<>") -> 0 | H39: =COUNTIF(N39:GA39,"=1") -> 0 | I39: =COUNTIF(N39:GA39,"=2") -> 0 | J39: =COUNTIF(N39:GA39,"=3") -> 0 | K39: =COUNTIF(N39:GA39,"=4") -> 0 | L39: =COUNTIF(N39:GA39,"=5") -> 0
A40: =A39+1 -> 32 | D40: =(H40*5+I40*3+J40*1) -> 0 | F40: =COUNTIF(AI40:GA40,"<>") -> 0 | H40: =COUNTIF(N40:GA40,"=1") -> 0 | I40: =COUNTIF(N40:GA40,"=2") -> 0 | J40: =COUNTIF(N40:GA40,"=3") -> 0 | K40: =COUNTIF(N40:GA40,"=4") -> 0 | L40: =COUNTIF(N40:GA40,"=5") -> 0
A41: =A40+1 -> 33 | D41: =(H41*5+I41*3+J41*1) -> 0 | F41: =COUNTIF(AI41:GA41,"<>") -> 0 | H41: =COUNTIF(N41:GA41,"=1") -> 0 | I41: =COUNTIF(N41:GA41,"=2") -> 0 | J41: =COUNTIF(N41:GA41,"=3") -> 0 | K41: =COUNTIF(N41:GA41,"=4") -> 0 | L41: =COUNTIF(N41:GA41,"=5") -> 0
A42: =A41+1 -> 34 | D42: =(H42*5+I42*3+J42*1) -> 0 | F42: =COUNTIF(AI42:GA42,"<>") -> 0 | H42: =COUNTIF(N42:GA42,"=1") -> 0 | I42: =COUNTIF(N42:GA42,"=2") -> 0 | J42: =COUNTIF(N42:GA42,"=3") -> 0 | K42: =COUNTIF(N42:GA42,"=4") -> 0 | L42: =COUNTIF(N42:GA42,"=5") -> 0
B44: Tipps am Spieltag | N44: =COUNTIF(N9:N42,">0")+COUNTIF(N9:N42,"=x") -> 0 | O44: =COUNTIF(O9:O42,">0")+COUNTIF(O9:O42,"=x") -> 0 | P44: =COUNTIF(P9:P42,">0")+COUNTIF(P9:P42,"=x") -> 0 | Q44: =COUNTIF(Q9:Q42,">0")+COUNTIF(Q9:Q42,"=x") -> 0 | R44: =COUNTIF(R9:R42,">0")+COUNTIF(R9:R42,"=x") -> 0 | S44: =COUNTIF(S9:S42,">0")+COUNTIF(S9:S42,"=x") -> 0 | T44: =COUNTIF(T9:T42,">0")+COUNTIF(T9:T42,"=x") -> 0 | U44: =COUNTIF(U9:U42,">0")+COUNTIF(U9:U42,"=x") -> 0 | ... GA44: =COUNTIF(GA9:GA42,">0")+COUNTIF(GA9:GA42,"=x") -> 18

Sheet 2016Q
B2: Quartalswertung
B3: Starttag = | M3: Quartal 1 | S3: Quartal 2 | Y3: Quartal 3 | AE3: Quartal 4
B4: Quartalswertung | D4: online | F4: offline | H4: offline | J4: offline | M4: online | S4: offline | Y4: offline | AE4: offline
D6: 1. Quartal | F6: 2. Quartal | H6: 3. Quartal | J6: 4. Quartal | AJ6: Spiel | AK6: Spiel | AL6: Spiel | AM6: Spiel | AN6: Spiel | AO6: Spiel | AP6: Spiel | AQ6: Spiel | AR6: Spiel | AS6: Spiel | AT6: Spiel | AU6: Spiel | AV6: Spiel | AW6: Spiel | AX6: Spiel | AY6: Spiel | AZ6: Spiel | BA6: Spiel | BB6: Spiel | BC6: Spiel | BD6: Spiel | BE6: Spiel | BF6: Spiel | BG6: Spiel | BH6: Spiel | BI6: Spiel | BJ6: Spiel | BK6: Spiel | BL6: Spiel | BM6: Spiel | BN6: Spiel | BO6: Spiel | BP6: Spiel | BQ6: Spiel | BR6: Spiel | BS6: Spiel | BT6: Spiel | BU6: Spiel | BV6: Spiel | BW6: Spiel | BX6: Spiel | BY6: Spiel | BZ6: Spiel | CA6: Spiel | CB6: Spiel | CC6: Spiel | CD6: Spiel | CE6: Spiel | CF6: Spiel | CG6: Spiel | CH6: Spiel | CI6: Spiel | CJ6: Spiel | CK6: Spiel | CL6: Spiel | CM6: Spiel | CN6: Spiel | CO6: Spiel | CP6: Spiel | CQ6: Spiel | CR6: Spiel | CS6: Spiel | CT6: Spiel | CU6: Spiel | CV6: Spiel | CW6: Spiel | CX6: Spiel | CY6: Spiel | CZ6: Spiel | DA6: Spiel | DB6: Spiel | DC6: Spiel | DD6: Spiel | DE6: Spiel | DF6: Spiel | DG6: Spiel | DH6: Spiel | DI6: Spiel | DJ6: Spiel | DK6: Spiel | DL6: Spiel | DM6: Spiel | DN6: Spiel | DO6: Spiel | DP6: Spiel | DQ6: Spiel | DR6: Spiel | DS6: Spiel | DT6: Spiel | DU6: Spiel | DV6: Spiel | DW6: Spiel | DX6: Spiel | DY6: Spiel | DZ6: Spiel | EA6: Spiel | EB6: Spiel | EC6: Spiel | ED6: Spiel | EE6: Spiel | EF6: Spiel | EG6: Spiel | EH6: Spiel | EI6: Spiel | EJ6: Spiel | EK6: Spiel | EL6: Spiel | EM6: Spiel | EN6: Spiel | EO6: Spiel | EP6: Spiel | EQ6: Spiel | ER6: Spiel | ES6: Spiel | ET6: Spiel | EU6: Spiel | EV6: Spiel | EW6: Spiel | EX6: Spiel | EY6: Spiel | EZ6: Spiel | FA6: Spiel | FB6: Spiel | FC6: Spiel | FD6: Spiel | FE6: Spiel | FF6: Spiel | FG6: Spiel | FH6: Spiel | FI6: Spiel | FJ6: Spiel | FK6: Spiel | FL6: Spiel | FM6: Spiel | FN6: Spiel | FO6: Spiel | FP6: Spiel | FQ6: Spiel | FR6: Spiel | FS6: Spiel | FT6: Spiel | FU6: Spiel | FV6: Spiel | FW6: Spiel | FX6: Spiel | FY6: Spiel | FZ6: Spiel | GA6: Spiel | GB6: Spiel | GC6: Spiel | GD6: Spiel | GE6: Spiel | GF6: Spiel | GG6: Spiel | GH6: Spiel | GI6: Spiel | GJ6: Spiel | GK6: Spiel | GL6: Spiel | GM6: Spiel | GN6: Spiel | GO6: Spiel | GP6: Spiel | GQ6: Spiel | GR6: Spiel | GS6: Spiel | GT6: Spiel | GU6: Spiel | GV6: Spiel | GW6: Spiel
A7: Platz | B7: Tipper(in) | D7: Punkte | F7: Punkte | H7: Punkte | J7: Punkte | L7: 1. Pl. | M7: 2. Pl. | N7: 3. Pl. | O7: 4. Pl. | P7: 5. Pl. | R7: 1. Pl. | S7: 2. Pl. | T7: 3. Pl. | U7: 4. Pl. | V7: 5. Pl. | X7: 1. Pl. | Y7: 2. Pl. | Z7: 3. Pl. | AA7: 4. Pl. | AB7: 5. Pl. | AD7: 1. Pl. | AE7: 2. Pl. | AF7: 3. Pl. | AG7: 4. Pl. | AH7: 5. Pl. | AJ7: =AK7+1 -> 170 | AK7: =AL7+1 -> 169 | AL7: =AM7+1 -> 168 | AM7: =AN7+1 -> 167 | AN7: =AO7+1 -> 166 | AO7: =AP7+1 -> 165 | AP7: =AQ7+1 -> 164 | AQ7: =AR7+1 -> 163 | ... GV7: =GW7+1 -> 2 | GW7: 1
B9: ='2016'!B9 -> Claude D. | D9: =L9*5+M9*4+N9*3+O9*2+P9*1 -> 30 | L9: =COUNTIF(AJ9:GW9,"=1") -> 4 | M9: =COUNTIF(AJ9:GW9,"=2") -> 2 | N9: =COUNTIF(AJ9:GW9,"=3") -> 0 | O9: =COUNTIF(AJ9:GW9,"=4") -> 0 | P9: =COUNTIF(AJ9:GW9,"=5") -> 2 | R9: =COUNTIF(AP9:HC9,"=1") -> 4 | S9: =COUNTIF(X9:GK9,"=2") -> 2 | T9: =COUNTIF(X9:GK9,"=3") -> 1 | U9: =COUNTIF(X9:GK9,"=4") -> 1 | V9: =COUNTIF(GK9:NS9,"=5") -> 2 | X9: =COUNTIF(AD9:GQ9,"=1") -> 3 | Y9: =COUNTIF(AD9:GQ9,"=2") -> 2 | Z9: =COUNTIF(AD9:GQ9,"=3") -> 0 | AA9: =COUNTIF(AD9:GQ9,"=4") -> 1 | AB9: =COUNTIF(GQ9:NY9,"=5") -> 1 | AD9: =COUNTIF(AJ9:GW9,"=1") -> 4 | AE9: =COUNTIF(AJ9:GW9,"=2") -> 2 | AF9: =COUNTIF(AJ9:GW9,"=3") -> 0 | AG9: =COUNTIF(AJ9:GW9,"=4") -> 0 | AH9: =COUNTIF(GW9:OE9,"=5") -> 1 | AJ9: ='2016'!N9 -> 0 | AK9: ='2016'!O9 -> 0 | AL9: ='2016'!P9 -> 0 | AM9: ='2016'!Q9 -> 0 | AN9: ='2016'!R9 -> 0 | AO9: ='2016'!S9 -> 0 | AP9: ='2016'!T9 -> 0 | AQ9: ='2016'!U9 -> 0 | ... GW9: ='2016'!GA9 -> 5
B10: ='2016'!B10 -> kartenhai | D10: =L10*5+M10*4+N10*3+O10*2+P10*1 -> 26 | L10: =COUNTIF(AJ10:GW10,"=1") -> 4 | M10: =COUNTIF(AJ10:GW10,"=2") -> 0 | N10: =COUNTIF(AJ10:GW10,"=3") -> 2 | O10: =COUNTIF(AJ10:GW10,"=4") -> 0 | P10: =COUNTIF(AJ10:GW10,"=5") -> 0 | R10: =COUNTIF(X10:GK10,"=1") -> 5 | S10: =COUNTIF(X10:GK10,"=2") -> 1 | T10: =COUNTIF(X10:GK10,"=3") -> 1 | U10: =COUNTIF(X10:GK10,"=4") -> 2 | V10: =COUNTIF(GK10:NS10,"=5") -> 0 | X10: =COUNTIF(AD10:GQ10,"=1") -> 4 | Y10: =COUNTIF(AD10:GQ10,"=2") -> 1 | Z10: =COUNTIF(AD10:GQ10,"=3") -> 1 | AA10: =COUNTIF(AD10:GQ10,"=4") -> 1 | AB10: =COUNTIF(GQ10:NY10,"=5") -> 0 | AD10: =COUNTIF(AJ10:GW10,"=1") -> 4 | AE10: =COUNTIF(AJ10:GW10,"=2") -> 0 | AF10: =COUNTIF(AJ10:GW10,"=3") -> 2 | AG10: =COUNTIF(AJ10:GW10,"=4") -> 0 | AH10: =COUNTIF(GW10:OE10,"=5") -> 0 | AJ10: ='2016'!N10 -> 0 | AK10: ='2016'!O10 -> 0 | AL10: ='2016'!P10 -> 0 | AM10: ='2016'!Q10 -> 0 | AN10: ='2016'!R10 -> 0 | AO10: ='2016'!S10 -> 0 | AP10: ='2016'!T10 -> 0 | AQ10: ='2016'!U10 -> 0 | ... GW10: ='2016'!GA10 -> x
B11: ='2016'!B11 -> hallerc4 | D11: =L11*5+M11*4+N11*3+O11*2+P11*1 -> 23 | L11: =COUNTIF(AJ11:GW11,"=1") -> 1 | M11: =COUNTIF(AJ11:GW11,"=2") -> 3 | N11: =COUNTIF(AJ11:GW11,"=3") -> 1 | O11: =COUNTIF(AJ11:GW11,"=4") -> 1 | P11: =COUNTIF(AJ11:GW11,"=5") -> 1 | R11: =COUNTIF(X11:GK11,"=1") -> 3 | S11: =COUNTIF(X11:GK11,"=2") -> 3 | T11: =COUNTIF(X11:GK11,"=3") -> 2 | U11: =COUNTIF(X11:GK11,"=4") -> 1 | V11: =COUNTIF(GK11:NS11,"=5") -> 1 | X11: =COUNTIF(AD11:GQ11,"=1") -> 4 | Y11: =COUNTIF(AD11:GQ11,"=2") -> 3 | Z11: =COUNTIF(AD11:GQ11,"=3") -> 2 | AA11: =COUNTIF(AD11:GQ11,"=4") -> 0 | AB11: =COUNTIF(GQ11:NY11,"=5") -> 0 | AD11: =COUNTIF(AJ11:GW11,"=1") -> 1 | AE11: =COUNTIF(AJ11:GW11,"=2") -> 3 | AF11: =COUNTIF(AJ11:GW11,"=3") -> 1 | AG11: =COUNTIF(AJ11:GW11,"=4") -> 1 | AH11: =COUNTIF(GW11:OE11,"=5") -> 0 | AJ11: ='2016'!N11 -> 0 | AK11: ='2016'!O11 -> 0 | AL11: ='2016'!P11 -> 0 | AM11: ='2016'!Q11 -> 0 | AN11: ='2016'!R11 -> 0 | AO11: ='2016'!S11 -> 0 | AP11: ='2016'!T11 -> 0 | AQ11: ='2016'!U11 -> 0 | ... GW11: ='2016'!GA11 -> x
B12: ='2016'!B12 -> Wolffi | D12: =L12*5+M12*4+N12*3+O12*2+P12*1 -> 22 | L12: =COUNTIF(AJ12:GW12,"=1") -> 1 | M12: =COUNTIF(AJ12:GW12,"=2") -> 1 | N12: =COUNTIF(AJ12:GW12,"=3") -> 3 | O12: =COUNTIF(AJ12:GW12,"=4") -> 2 | P12: =COUNTIF(AJ12:GW12,"=5") -> 0 | R12: =COUNTIF(X12:GK12,"=1") -> 3 | S12: =COUNTIF(X12:GK12,"=2") -> 3 | T12: =COUNTIF(X12:GK12,"=3") -> 3 | U12: =COUNTIF(X12:GK12,"=4") -> 0 | V12: =COUNTIF(GK12:NS12,"=5") -> 0 | X12: =COUNTIF(AD12:GQ12,"=1") -> 3 | Y12: =COUNTIF(AD12:GQ12,"=2") -> 2 | Z12: =COUNTIF(AD12:GQ12,"=3") -> 2 | AA12: =COUNTIF(AD12:GQ12,"=4") -> 1 | AB12: =COUNTIF(GQ12:NY12,"=5") -> 0 | AD12: =COUNTIF(AJ12:GW12,"=1") -> 1 | AE12: =COUNTIF(AJ12:GW12,"=2") -> 1 | AF12: =COUNTIF(AJ12:GW12,"=3") -> 3 | AG12: =COUNTIF(AJ12:GW12,"=4") -> 2 | AH12: =COUNTIF(GW12:OE12,"=5") -> 0 | AJ12: ='2016'!N12 -> 0 | AK12: ='2016'!O12 -> 0 | AL12: ='2016'!P12 -> 0 | AM12: ='2016'!Q12 -> 0 | AN12: ='2016'!R12 -> 0 | AO12: ='2016'!S12 -> 0 | AP12: ='2016'!T12 -> 0 | AQ12: ='2016'!U12 -> 0 | ... GW12: ='2016'!GA12 -> x
B13: ='2016'!B13 -> KArnoldBln | D13: =L13*5+M13*4+N13*3+O13*2+P13*1 -> 12 | L13: =COUNTIF(AJ13:GW13,"=1") -> 2 | M13: =COUNTIF(AJ13:GW13,"=2") -> 0 | N13: =COUNTIF(AJ13:GW13,"=3") -> 0 | O13: =COUNTIF(AJ13:GW13,"=4") -> 0 | P13: =COUNTIF(AJ13:GW13,"=5") -> 2 | R13: =COUNTIF(X13:GK13,"=1") -> 2 | S13: =COUNTIF(X13:GK13,"=2") -> 1 | T13: =COUNTIF(X13:GK13,"=3") -> 0 | U13: =COUNTIF(X13:GK13,"=4") -> 0 | V13: =COUNTIF(GK13:NS13,"=5") -> 2 | X13: =COUNTIF(AD13:GQ13,"=1") -> 0 | Y13: =COUNTIF(AD13:GQ13,"=2") -> 1 | Z13: =COUNTIF(AD13:GQ13,"=3") -> 0 | AA13: =COUNTIF(AD13:GQ13,"=4") -> 0 | AB13: =COUNTIF(GQ13:NY13,"=5") -> 1 | AD13: =COUNTIF(AJ13:GW13,"=1") -> 2 | AE13: =COUNTIF(AJ13:GW13,"=2") -> 0 | AF13: =COUNTIF(AJ13:GW13,"=3") -> 0 | AG13: =COUNTIF(AJ13:GW13,"=4") -> 0 | AH13: =COUNTIF(GW13:OE13,"=5") -> 0 | AJ13: ='2016'!N13 -> 0 | AK13: ='2016'!O13 -> 0 | AL13: ='2016'!P13 -> 0 | AM13: ='2016'!Q13 -> 0 | AN13: ='2016'!R13 -> 0 | AO13: ='2016'!S13 -> 0 | AP13: ='2016'!T13 -> 0 | AQ13: ='2016'!U13 -> 0 | ... GW13: ='2016'!GA13 -> x
B14: ='2016'!B14 -> Nicht Profi | D14: =L14*5+M14*4+N14*3+O14*2+P14*1 -> 16 | L14: =COUNTIF(AJ14:GW14,"=1") -> 1 | M14: =COUNTIF(AJ14:GW14,"=2") -> 1 | N14: =COUNTIF(AJ14:GW14,"=3") -> 2 | O14: =COUNTIF(AJ14:GW14,"=4") -> 0 | P14: =COUNTIF(AJ14:GW14,"=5") -> 1 | R14: =COUNTIF(X14:GK14,"=1") -> 4 | S14: =COUNTIF(X14:GK14,"=2") -> 3 | T14: =COUNTIF(X14:GK14,"=3") -> 2 | U14: =COUNTIF(X14:GK14,"=4") -> 0 | V14: =COUNTIF(GK14:NS14,"=5") -> 1 | X14: =COUNTIF(AD14:GQ14,"=1") -> 2 | Y14: =COUNTIF(AD14:GQ14,"=2") -> 1 | Z14: =COUNTIF(AD14:GQ14,"=3") -> 2 | AA14: =COUNTIF(AD14:GQ14,"=4") -> 0 | AB14: =COUNTIF(GQ14:NY14,"=5") -> 1 | AD14: =COUNTIF(AJ14:GW14,"=1") -> 1 | AE14: =COUNTIF(AJ14:GW14,"=2") -> 1 | AF14: =COUNTIF(AJ14:GW14,"=3") -> 2 | AG14: =COUNTIF(AJ14:GW14,"=4") -> 0 | AH14: =COUNTIF(GW14:OE14,"=5") -> 0 | AJ14: ='2016'!N14 -> 0 | AK14: ='2016'!O14 -> 0 | AL14: ='2016'!P14 -> 0 | AM14: ='2016'!Q14 -> 0 | AN14: ='2016'!R14 -> 0 | AO14: ='2016'!S14 -> 0 | AP14: ='2016'!T14 -> 0 | AQ14: ='2016'!U14 -> 0 | ... GW14: ='2016'!GA14 -> x
B15: ='2016'!B15 -> Vichy | D15: =L15*5+M15*4+N15*3+O15*2+P15*1 -> 19 | L15: =COUNTIF(AJ15:GW15,"=1") -> 1 | M15: =COUNTIF(AJ15:GW15,"=2") -> 1 | N15: =COUNTIF(AJ15:GW15,"=3") -> 1 | O15: =COUNTIF(AJ15:GW15,"=4") -> 3 | P15: =COUNTIF(AJ15:GW15,"=5") -> 1 | R15: =COUNTIF(X15:GK15,"=1") -> 6 | S15: =COUNTIF(X15:GK15,"=2") -> 0 | T15: =COUNTIF(X15:GK15,"=3") -> 2 | U15: =COUNTIF(X15:GK15,"=4") -> 4 | V15: =COUNTIF(GK15:NS15,"=5") -> 1 | X15: =COUNTIF(AD15:GQ15,"=1") -> 4 | Y15: =COUNTIF(AD15:GQ15,"=2") -> 0 | Z15: =COUNTIF(AD15:GQ15,"=3") -> 1 | AA15: =COUNTIF(AD15:GQ15,"=4") -> 3 | AB15: =COUNTIF(GQ15:NY15,"=5") -> 1 | AD15: =COUNTIF(AJ15:GW15,"=1") -> 1 | AE15: =COUNTIF(AJ15:GW15,"=2") -> 1 | AF15: =COUNTIF(AJ15:GW15,"=3") -> 1 | AG15: =COUNTIF(AJ15:GW15,"=4") -> 3 | AH15: =COUNTIF(GW15:OE15,"=5") -> 0 | AJ15: ='2016'!N15 -> 0 | AK15: ='2016'!O15 -> 0 | AL15: ='2016'!P15 -> 0 | AM15: ='2016'!Q15 -> 0 | AN15: ='2016'!R15 -> 0 | AO15: ='2016'!S15 -> 0 | AP15: ='2016'!T15 -> 0 | AQ15: ='2016'!U15 -> 0 | ... GW15: ='2016'!GA15 -> 3
B16: ='2016'!B16 -> 241264hsv-fan | D16: =L16*5+M16*4+N16*3+O16*2+P16*1 -> 14 | L16: =COUNTIF(AJ16:GW16,"=1") -> 1 | M16: =COUNTIF(AJ16:GW16,"=2") -> 1 | N16: =COUNTIF(AJ16:GW16,"=3") -> 1 | O16: =COUNTIF(AJ16:GW16,"=4") -> 1 | P16: =COUNTIF(AJ16:GW16,"=5") -> 0 | R16: =COUNTIF(X16:GK16,"=1") -> 6 | S16: =COUNTIF(X16:GK16,"=2") -> 1 | T16: =COUNTIF(X16:GK16,"=3") -> 0 | U16: =COUNTIF(X16:GK16,"=4") -> 1 | V16: =COUNTIF(GK16:NS16,"=5") -> 0 | X16: =COUNTIF(AD16:GQ16,"=1") -> 4 | Y16: =COUNTIF(AD16:GQ16,"=2") -> 1 | Z16: =COUNTIF(AD16:GQ16,"=3") -> 1 | AA16: =COUNTIF(AD16:GQ16,"=4") -> 0 | AB16: =COUNTIF(GQ16:NY16,"=5") -> 0 | AD16: =COUNTIF(AJ16:GW16,"=1") -> 1 | AE16: =COUNTIF(AJ16:GW16,"=2") -> 1 | AF16: =COUNTIF(AJ16:GW16,"=3") -> 1 | AG16: =COUNTIF(AJ16:GW16,"=4") -> 1 | AH16: =COUNTIF(GW16:OE16,"=5") -> 0 | AJ16: ='2016'!N16 -> 0 | AK16: ='2016'!O16 -> 0 | AL16: ='2016'!P16 -> 0 | AM16: ='2016'!Q16 -> 0 | AN16: ='2016'!R16 -> 0 | AO16: ='2016'!S16 -> 0 | AP16: ='2016'!T16 -> 0 | AQ16: ='2016'!U16 -> 0 | ... GW16: ='2016'!GA16 -> 1
B17: ='2016'!B17 -> Thor75S | D17: =L17*5+M17*4+N17*3+O17*2+P17*1 -> 10 | L17: =COUNTIF(AJ17:GW17,"=1") -> 1 | M17: =COUNTIF(AJ17:GW17,"=2") -> 1 | N17: =COUNTIF(AJ17:GW17,"=3") -> 0 | O17: =COUNTIF(AJ17:GW17,"=4") -> 0 | P17: =COUNTIF(AJ17:GW17,"=5") -> 1 | R17: =COUNTIF(X17:GK17,"=1") -> 4 | S17: =COUNTIF(X17:GK17,"=2") -> 0 | T17: =COUNTIF(X17:GK17,"=3") -> 1 | U17: =COUNTIF(X17:GK17,"=4") -> 0 | V17: =COUNTIF(GK17:NS17,"=5") -> 1 | X17: =COUNTIF(AD17:GQ17,"=1") -> 3 | Y17: =COUNTIF(AD17:GQ17,"=2") -> 1 | Z17: =COUNTIF(AD17:GQ17,"=3") -> 0 | AA17: =COUNTIF(AD17:GQ17,"=4") -> 0 | AB17: =COUNTIF(GQ17:NY17,"=5") -> 1 | AD17: =COUNTIF(AJ17:GW17,"=1") -> 1 | AE17: =COUNTIF(AJ17:GW17,"=2") -> 1 | AF17: =COUNTIF(AJ17:GW17,"=3") -> 0 | AG17: =COUNTIF(AJ17:GW17,"=4") -> 0 | AH17: =COUNTIF(GW17:OE17,"=5") -> 0 | AJ17: ='2016'!N17 -> 0 | AK17: ='2016'!O17 -> 0 | AL17: ='2016'!P17 -> 0 | AM17: ='2016'!Q17 -> 0 | AN17: ='2016'!R17 -> 0 | AO17: ='2016'!S17 -> 0 | AP17: ='2016'!T17 -> 0 | AQ17: ='2016'!U17 -> 0 | ... GW17: ='2016'!GA17 -> 0
B18: ='2016'!B18 -> muesli | D18: =L18*5+M18*4+N18*3+O18*2+P18*1 -> 8 | L18: =COUNTIF(AJ18:GW18,"=1") -> 0 | M18: =COUNTIF(AJ18:GW18,"=2") -> 2 | N18: =COUNTIF(AJ18:GW18,"=3") -> 0 | O18: =COUNTIF(AJ18:GW18,"=4") -> 0 | P18: =COUNTIF(AJ18:GW18,"=5") -> 0 | R18: =COUNTIF(X18:GK18,"=1") -> 0 | S18: =COUNTIF(X18:GK18,"=2") -> 2 | T18: =COUNTIF(X18:GK18,"=3") -> 1 | U18: =COUNTIF(X18:GK18,"=4") -> 0 | V18: =COUNTIF(GK18:NS18,"=5") -> 0 | X18: =COUNTIF(AD18:GQ18,"=1") -> 0 | Y18: =COUNTIF(AD18:GQ18,"=2") -> 3 | Z18: =COUNTIF(AD18:GQ18,"=3") -> 0 | AA18: =COUNTIF(AD18:GQ18,"=4") -> 0 | AB18: =COUNTIF(GQ18:NY18,"=5") -> 0 | AD18: =COUNTIF(AJ18:GW18,"=1") -> 0 | AE18: =COUNTIF(AJ18:GW18,"=2") -> 2 | AF18: =COUNTIF(AJ18:GW18,"=3") -> 0 | AG18: =COUNTIF(AJ18:GW18,"=4") -> 0 | AH18: =COUNTIF(GW18:OE18,"=5") -> 0 | AJ18: ='2016'!N18 -> 0 | AK18: ='2016'!O18 -> 0 | AL18: ='2016'!P18 -> 0 | AM18: ='2016'!Q18 -> 0 | AN18: ='2016'!R18 -> 0 | AO18: ='2016'!S18 -> 0 | AP18: ='2016'!T18 -> 0 | AQ18: ='2016'!U18 -> 0 | ... GW18: ='2016'!GA18 -> x
B19: ='2016'!B19 -> Braunbear | D19: =L19*5+M19*4+N19*3+O19*2+P19*1 -> 8 | L19: =COUNTIF(AJ19:GW19,"=1") -> 1 | M19: =COUNTIF(AJ19:GW19,"=2") -> 0 | N19: =COUNTIF(AJ19:GW19,"=3") -> 0 | O19: =COUNTIF(AJ19:GW19,"=4") -> 1 | P19: =COUNTIF(AJ19:GW19,"=5") -> 1 | R19: =COUNTIF(X19:GK19,"=1") -> 6 | S19: =COUNTIF(X19:GK19,"=2") -> 0 | T19: =COUNTIF(X19:GK19,"=3") -> 0 | U19: =COUNTIF(X19:GK19,"=4") -> 1 | V19: =COUNTIF(GK19:NS19,"=5") -> 1 | X19: =COUNTIF(AD19:GQ19,"=1") -> 4 | Y19: =COUNTIF(AD19:GQ19,"=2") -> 0 | Z19: =COUNTIF(AD19:GQ19,"=3") -> 0 | AA19: =COUNTIF(AD19:GQ19,"=4") -> 1 | AB19: =COUNTIF(GQ19:NY19,"=5") -> 1 | AD19: =COUNTIF(AJ19:GW19,"=1") -> 1 | AE19: =COUNTIF(AJ19:GW19,"=2") -> 0 | AF19: =COUNTIF(AJ19:GW19,"=3") -> 0 | AG19: =COUNTIF(AJ19:GW19,"=4") -> 1 | AH19: =COUNTIF(GW19:OE19,"=5") -> 1 | AJ19: ='2016'!N19 -> 0 | AK19: ='2016'!O19 -> 0 | AL19: ='2016'!P19 -> 0 | AM19: ='2016'!Q19 -> 0 | AN19: ='2016'!R19 -> 0 | AO19: ='2016'!S19 -> 0 | AP19: ='2016'!T19 -> 0 | AQ19: ='2016'!U19 -> 0 | ... GW19: ='2016'!GA19 -> 5
B20: ='2016'!B20 -> Usul3 | D20: =L20*5+M20*4+N20*3+O20*2+P20*1 -> 14 | L20: =COUNTIF(AJ20:GW20,"=1") -> 0 | M20: =COUNTIF(AJ20:GW20,"=2") -> 1 | N20: =COUNTIF(AJ20:GW20,"=3") -> 2 | O20: =COUNTIF(AJ20:GW20,"=4") -> 2 | P20: =COUNTIF(AJ20:GW20,"=5") -> 0 | R20: =COUNTIF(X20:GK20,"=1") -> 3 | S20: =COUNTIF(X20:GK20,"=2") -> 4 | T20: =COUNTIF(X20:GK20,"=3") -> 0 | U20: =COUNTIF(X20:GK20,"=4") -> 1 | V20: =COUNTIF(GK20:NS20,"=5") -> 0 | X20: =COUNTIF(AD20:GQ20,"=1") -> 1 | Y20: =COUNTIF(AD20:GQ20,"=2") -> 2 | Z20: =COUNTIF(AD20:GQ20,"=3") -> 1 | AA20: =COUNTIF(AD20:GQ20,"=4") -> 2 | AB20: =COUNTIF(GQ20:NY20,"=5") -> 0 | AD20: =COUNTIF(AJ20:GW20,"=1") -> 0 | AE20: =COUNTIF(AJ20:GW20,"=2") -> 1 | AF20: =COUNTIF(AJ20:GW20,"=3") -> 2 | AG20: =COUNTIF(AJ20:GW20,"=4") -> 2 | AH20: =COUNTIF(GW20:OE20,"=5") -> 0 | AJ20: ='2016'!N20 -> 0 | AK20: ='2016'!O20 -> 0 | AL20: ='2016'!P20 -> 0 | AM20: ='2016'!Q20 -> 0 | AN20: ='2016'!R20 -> 0 | AO20: ='2016'!S20 -> 0 | AP20: ='2016'!T20 -> 0 | AQ20: ='2016'!U20 -> 0 | ... GW20: ='2016'!GA20 -> x
B21: ='2016'!B21 -> säulenkaktus | D21: =L21*5+M21*4+N21*3+O21*2+P21*1 -> 11 | L21: =COUNTIF(AJ21:GW21,"=1") -> 0 | M21: =COUNTIF(AJ21:GW21,"=2") -> 1 | N21: =COUNTIF(AJ21:GW21,"=3") -> 1 | O21: =COUNTIF(AJ21:GW21,"=4") -> 0 | P21: =COUNTIF(AJ21:GW21,"=5") -> 4 | R21: =COUNTIF(X21:GK21,"=1") -> 4 | S21: =COUNTIF(X21:GK21,"=2") -> 2 | T21: =COUNTIF(X21:GK21,"=3") -> 0 | U21: =COUNTIF(X21:GK21,"=4") -> 0 | V21: =COUNTIF(GK21:NS21,"=5") -> 2 | X21: =COUNTIF(AD21:GQ21,"=1") -> 2 | Y21: =COUNTIF(AD21:GQ21,"=2") -> 1 | Z21: =COUNTIF(AD21:GQ21,"=3") -> 0 | AA21: =COUNTIF(AD21:GQ21,"=4") -> 0 | AB21: =COUNTIF(GQ21:NY21,"=5") -> 1 | AD21: =COUNTIF(AJ21:GW21,"=1") -> 0 | AE21: =COUNTIF(AJ21:GW21,"=2") -> 1 | AF21: =COUNTIF(AJ21:GW21,"=3") -> 1 | AG21: =COUNTIF(AJ21:GW21,"=4") -> 0 | AH21: =COUNTIF(GW21:OE21,"=5") -> 0 | AJ21: ='2016'!N21 -> 0 | AK21: ='2016'!O21 -> 0 | AL21: ='2016'!P21 -> 0 | AM21: ='2016'!Q21 -> 0 | AN21: ='2016'!R21 -> 0 | AO21: ='2016'!S21 -> 0 | AP21: ='2016'!T21 -> 0 | AQ21: ='2016'!U21 -> 0 | ... GW21: ='2016'!GA21 -> x
... B42: ='2016'!B42 | D42: =L42*5+M42*4+N42*3+O42*2+P42*1 -> 0 | L42: =COUNTIF(AJ42:GW42,"=1") -> 0 | M42: =COUNTIF(AJ42:GW42,"=2") -> 0 | N42: =COUNTIF(AJ42:GW42,"=3") -> 0 | O42: =COUNTIF(AJ42:GW42,"=4") -> 0 | P42: =COUNTIF(AJ42:GW42,"=5") -> 0 | R42: =COUNTIF(X42:GK42,"=1") -> 0 | S42: =COUNTIF(X42:GK42,"=2") -> 0 | T42: =COUNTIF(X42:GK42,"=3") -> 0 | U42: =COUNTIF(X42:GK42,"=4") -> 0 | V42: =COUNTIF(GK42:NS42,"=5") -> 0 | X42: =COUNTIF(AD42:GQ42,"=1") -> 0 | Y42: =COUNTIF(AD42:GQ42,"=2") -> 0 | Z42: =COUNTIF(AD42:GQ42,"=3") -> 0 | AA42: =COUNTIF(AD42:GQ42,"=4") -> 0 | AB42: =COUNTIF(GQ42:NY42,"=5") -> 0 | AD42: =COUNTIF(AJ42:GW42,"=1") -> 0 | AE42: =COUNTIF(AJ42:GW42,"=2") -> 0 | AF42: =COUNTIF(AJ42:GW42,"=3") -> 0 | AG42: =COUNTIF(AJ42:GW42,"=4") -> 0 | AH42: =COUNTIF(GW42:OE42,"=5") -> 0 | AJ42: ='2016'!N42 -> 0 | AK42: ='2016'!O42 -> 0 | AL42: ='2016'!P42 -> 0 | AM42: ='2016'!Q42 -> 0 | AN42: ='2016'!R42 -> 0 | AO42: ='2016'!S42 -> 0 | AP42: ='2016'!T42 -> 0 | AQ42: ='2016'!U42 -> 0 | ... GW42: ='2016'!GA42 -> 0
B44: Tipps am Spieltag | AJ44: =COUNTIF(AJ9:AJ42,">0")+COUNTIF(AJ9:AJ42,"=x") -> 0 | AK44: =COUNTIF(AK9:AK42,">0")+COUNTIF(AK9:AK42,"=x") -> 0 | AL44: =COUNTIF(AL9:AL42,">0")+COUNTIF(AL9:AL42,"=x") -> 0 | AM44: =COUNTIF(AM9:AM42,">0")+COUNTIF(AM9:AM42,"=x") -> 0 | AN44: =COUNTIF(AN9:AN42,">0")+COUNTIF(AN9:AN42,"=x") -> 0 | AO44: =COUNTIF(AO9:AO42,">0")+COUNTIF(AO9:AO42,"=x") -> 0 | AP44: =COUNTIF(AP9:AP42,">0")+COUNTIF(AP9:AP42,"=x") -> 0 | AQ44: =COUNTIF(AQ9:AQ42,">0")+COUNTIF(AQ9:AQ42,"=x") -> 0 | ... GW44: =COUNTIF(GW9:GW42,">0")+COUNTIF(GW9:GW42,"=x") -> 18

Sheet 2015
F6: Spiele | N6: Spiel | O6: Spiel | P6: Spiel | Q6: Spiel | R6: Spiel | S6: Spiel | T6: Spiel | U6: Spiel | V6: Spiel | W6: Spiel | X6: Spiel | Y6: Spiel | Z6: Spiel | AA6: Spiel | AB6: Spiel | AC6: Spiel | AD6: Spiel | AE6: Spiel | AF6: Spiel | AG6: Spiel | AH6: Spiel | AI6: Spiel | AJ6: Spiel | AK6: Spiel | AL6: Spiel | AM6: Spiel | AN6: Spiel | AO6: Spiel | AP6: Spiel | AQ6: Spiel | AR6: Spiel | AS6: Spiel | AT6: Spiel | AU6: Spiel | AV6: Spiel | AW6: Spiel | AX6: Spiel | AY6: Spiel | AZ6: Spiel | BA6: Spiel | BB6: Spiel | BC6: Spiel | BD6: Spiel | BE6: Spiel | BF6: Spiel | BG6: Spiel | BH6: Spiel | BI6: Spiel | BJ6: Spiel | BK6: Spiel | BL6: Spiel | BM6: Spiel | BN6: Spiel | BO6: Spiel | BP6: Spiel | BQ6: Spiel | BR6: Spiel | BS6: Spiel | BT6: Spiel | BU6: Spiel | BV6: Spiel | BW6: Spiel | BX6: Spiel | BY6: Spiel | BZ6: Spiel | CA6: Spiel | CB6: Spiel | CC6: Spiel | CD6: Spiel | CE6: Spiel | CF6: Spiel | CG6: Spiel | CH6: Spiel | CI6: Spiel | CJ6: Spiel | CK6: Spiel | CL6: Spiel | CM6: Spiel | CN6: Spiel | CO6: Spiel | CP6: Spiel | CQ6: Spiel | CR6: Spiel | CS6: Spiel | CT6: Spiel | CU6: Spiel | CV6: Spiel | CW6: Spiel | CX6: Spiel | CY6: Spiel | CZ6: Spiel | DA6: Spiel | DB6: Spiel | DC6: Spiel | DD6: Spiel | DE6: Spiel | DF6: Spiel | DG6: Spiel | DH6: Spiel | DI6: Spiel | DJ6: Spiel | DK6: Spiel | DL6: Spiel | DM6: Spiel | DN6: Spiel | DO6: Spiel | DP6: Spiel | DQ6: Spiel | DR6: Spiel | DS6: Spiel | DT6: Spiel | DU6: Spiel | DV6: Spiel | DW6: Spiel | DX6: Spiel | DY6: Spiel | DZ6: Spiel | EA6: Spiel | EB6: Spiel | EC6: Spiel | ED6: Spiel | EE6: Spiel | EF6: Spiel | EG6: Spiel | EH6: Spiel | EI6: Spiel | EJ6: Spiel | EK6: Spiel | EL6: Spiel | EM6: Spiel | EN6: Spiel | EO6: Spiel | EP6: Spiel | EQ6: Spiel | ER6: Spiel | ES6: Spiel | ET6: Spiel | EU6: Spiel | EV6: Spiel | EW6: Spiel | EX6: Spiel | EY6: Spiel | EZ6: Spiel | FA6: Spiel | FB6: Spiel | FC6: Spiel | FD6: Spiel | FE6: Spiel | FF6: Spiel
A7: Platz | B7: Tipper(in) | D7: Punkte | F7: getippt | H7: 1. Pl. | I7: 2. Pl. | J7: 3. Pl. | K7: 4. Pl. | L7: 5. Pl. | N7: =O7+1 -> 149 | O7: =P7+1 -> 148 | P7: =Q7+1 -> 147 | Q7: =R7+1 -> 146 | R7: =S7+1 -> 145 | S7: =T7+1 -> 144 | T7: =U7+1 -> 143 | U7: =V7+1 -> 142 | ... FE7: =FF7+1 -> 2 | FF7: 1
A9: =A8+1 -> 1 | B9: Wolffi | D9: =(H9*5+I9*3+J9*1) -> 144 | F9: =COUNTIF(N9:FF9,"<>") -> 143 | H9: =COUNTIF(N9:FF9,"=1") -> 15 | I9: =COUNTIF(N9:FF9,"=2") -> 18 | J9: =COUNTIF(N9:FF9,"=3") -> 15 | K9: =COUNTIF(N9:FF9,"=4") -> 13 | L9: =COUNTIF(N9:FF9,"=5") -> 15 | O9: 5 | P9: 5 | Q9: 5 | R9: 1 | S9: x | T9: 2 | U9: x | V9: 5 | W9: x | X9: 4 | Y9: x | Z9: 5 | AA9: 1 | AB9: x | AC9: x | AD9: x | AE9: x | AF9: x | AG9: x | AH9: x | AI9: x | AJ9: x | AK9: x | AL9: 5 | AM9: x | AN9: 3 | AO9: 4 | AP9: 4 | AQ9: 1 | AR9: 1 | AS9: 1 | AT9: 2 | AU9: 2 | AV9: 2 | AW9: 1 | AX9: 2 | AY9: 4 | AZ9: 4 | BA9: 2 | BB9: x | BC9: 5 | BD9: x | BE9: 1 | BF9: 5 | BG9: 2 | BI9: x | BJ9: x | BK9: x | BL9: x | BM9: x | BN9: 4 | BO9: x | BP9: x | BQ9: 2 | BR9: 3 | BS9: x | BT9: x | BU9: 2 | BV9: x | BW9: x | BX9: 4 | BY9: x | BZ9: 4 | CA9: x | CB9: 2 | CC9: 4 | CE9: 3 | CF9: 2 | CG9: 3 | CH9: x | CI9: 2 | CJ9: x | CK9: 3 | CL9: x | CM9: 5 | CO9: x | CP9: x | CQ9: 4 | CR9: 3 | CS9: 4 | CT9: 1 | CU9: x | CV9: x | CW9: x | CX9: 3 | CY9: 3 | CZ9: 1 | DA9: 4 | DB9: x | DC9: 3 | DD9: 2 | DE9: x | DG9: x | DH9: x | DI9: x | DJ9: 2 | DK9: 2 | DL9: 1 | DM9: 1 | DN9: 5 | DO9: x | DP9: 4 | DQ9: 3 | DR9: 2 | DS9: 5 | DU9: x | DV9: x | DW9: x | DX9: 3 | DY9: 1 | DZ9: 1 | EA9: 3 | EB9: 3 | EC9: 3 | ED9: 1 | EE9: x | EF9: x | EG9: x | EH9: x | EI9: x | EJ9: x | EK9: x | EL9: x | EM9: 5 | EN9: x | EO9: x | EP9: 5 | EQ9: x | ER9: 3 | ES9: 5 | ET9: x | EU9: 2 | EV9: x | EW9: x | EX9: x | EY9: 2 | EZ9: x | FA9: x | FB9: x | FC9: 1 | FD9: 5 | FE9: x | FF9: x
A10: =A9+1 -> 2 | B10: muesli | D10: =(H10*5+I10*3+J10*1) -> 138 | F10: =COUNTIF(N10:FF10,"<>") -> 142 | H10: =COUNTIF(N10:FF10,"=1") -> 13 | I10: =COUNTIF(N10:FF10,"=2") -> 21 | J10: =COUNTIF(N10:FF10,"=3") -> 10 | K10: =COUNTIF(N10:FF10,"=4") -> 15 | L10: =COUNTIF(N10:FF10,"=5") -> 7 | O10: x | P10: 2 | Q10: x | R10: x | S10: 4 | T10: x | U10: 1 | W10: 3 | X10: 2 | Y10: x | Z10: x | AA10: x | AC10: x | AD10: x | AE10: x | AF10: x | AG10: 4 | AH10: x | AI10: x | AJ10: 5 | AK10: x | AL10: 4 | AM10: x | AN10: x | AO10: x | AP10: 3 | AQ10: 5 | AR10: 3 | AS10: x | AT10: 1 | AU10: 1 | AV10: x | AW10: 2 | AX10: x | AY10: x | AZ10: 3 | BB10: 2 | BC10: 4 | BD10: 2 | BE10: x | BF10: 4 | BG10: x | BH10: x | BI10: x | BJ10: 1 | BK10: 3 | BL10: x | BM10: 3 | BN10: x | BO10: x | BP10: x | BQ10: 1 | BR10: 4 | BS10: x | BT10: 2 | BV10: x | BW10: x | BX10: 1 | BY10: 1 | BZ10: 1 | CA10: 2 | CB10: 4 | CC10: 3 | CD10: x | CE10: x | CF10: 2 | CG10: x | CH10: 5 | CI10: x | CJ10: x | CK10: 1 | CL10: 2 | CM10: 1 | CN10: 4 | CO10: 5 | CP10: 3 | CQ10: 2 | CR10: x | CS10: 2 | CT10: 4 | CU10: 2 | CV10: 2 | CW10: x | CX10: 5 | CY10: 4 | CZ10: x | DA10: x | DB10: 4 | DC10: x | DD10: x | DE10: x | DF10: x | DG10: 3 | DH10: 1 | DI10: 5 | DJ10: x | DL10: 2 | DM10: x | DN10: 2 | DO10: 1 | DP10: x | DQ10: x | DR10: x | DS10: x | DT10: x | DU10: x | DV10: x | DW10: x | DX10: 4 | DY10: x | DZ10: x | EA10: x | EB10: x | ED10: 5 | EE10: 2 | EF10: 4 | EG10: x | EH10: 3 | EI10: x | EJ10: x | EK10: x | EL10: x | EM10: x | EN10: x | EO10: 4 | EP10: x | EQ10: 2 | ER10: 1 | ES10: 4 | ET10: x | EU10: x | EV10: 2 | EW10: x | EX10: x | EY10: x | EZ10: x | FA10: 2 | FB10: 2 | FC10: x | FD10: x | FE10: 2 | FF10: x
A11: =A10+1 -> 3 | B11: kartenhai | D11: =(H11*5+I11*3+J11*1) -> 137 | F11: =COUNTIF(N11:FF11,"<>") -> 108 | H11: =COUNTIF(N11:FF11,"=1") -> 23 | I11: =COUNTIF(N11:FF11,"=2") -> 6 | J11: =COUNTIF(N11:FF11,"=3") -> 4 | K11: =COUNTIF(N11:FF11,"=4") -> 6 | L11: =COUNTIF(N11:FF11,"=5") -> 8 | O11: 1 | P11: x | Q11: 1 | R11: x | S11: x | U11: x | V11: 4 | W11: 1 | X11: 1 | Y11: x | AB11: x | AD11: x | AE11: x | AF11: 1 | AH11: x | AI11: 2 | AJ11: x | AK11: 1 | AN11: x | AO11: 1 | AP11: x | AQ11: x | AR11: x | AS11: x | AT11: x | AU11: x | AV11: x | AW11: x | AX11: 1 | AY11: 1 | AZ11: 2 | BA11: 1 | BB11: 1 | BD11: x | BE11: x | BG11: x | BH11: 4 | BI11: 5 | BJ11: 3 | BK11: x | BL11: x | BM11: x | BN11: x | BO11: x | BP11: 5 | BQ11: x | BR11: x | BT11: x | BU11: x | BV11: 3 | BW11: 1 | BZ11: 2 | CC11: 1 | CD11: 5 | CE11: 1 | CF11: x | CG11: x | CH11: 1 | CI11: 5 | CK11: x | CM11: 2 | CN11: x | CO11: 1 | CP11: 2 | CR11: 1 | CS11: 1 | CU11: 1 | CV11: x | CW11: x | CX11: x | CY11: 5 | DA11: x | DB11: 2 | DD11: 3 | DE11: x | DF11: x | DG11: 1 | DH11: 4 | DI11: 4 | DK11: 1 | DL11: x | DN11: x | DP11: 5 | DV11: 5 | DW11: x | DX11: x | DZ11: x | EA11: x | EC11: x | ED11: x | EE11: x | EF11: x | EG11: 4 | EH11: 4 | EI11: x | EL11: x | EM11: x | EN11: x | EO11: 5 | EP11: x | EQ11: 1 | EW11: x | EX11: x | EY11: x | FA11: x | FD11: 1 | FE11: 3 | FF11: x
A12: =A11+1 -> 4 | B12: Claude D. | D12: =(H12*5+I12*3+J12*1) -> 120 | F12: =COUNTIF(N12:FF12,"<>") -> 133 | H12: =COUNTIF(N12:FF12,"=1") -> 12 | I12: =COUNTIF(N12:FF12,"=2") -> 16 | J12: =COUNTIF(N12:FF12,"=3") -> 12 | K12: =COUNTIF(N12:FF12,"=4") -> 6 | L12: =COUNTIF(N12:FF12,"=5") -> 11 | O12: x | Q12: x | R12: 3 | S12: 2 | T12: x | V12: 2 | W12: 2 | X12: x | Y12: 2 | Z12: 3 | AA12: x | AC12: x | AD12: 1 | AE12: 3 | AG12: 1 | AH12: 2 | AI12: x | AJ12: x | AK12: x | AL12: x | AM12: 4 | AN12: 1 | AO12: x | AP12: 1 | AQ12: 2 | AR12: x | AS12: x | AT12: 3 | AU12: 3 | AV12: 5 | AW12: x | AX12: x | AY12: x | AZ12: x | BA12: 3 | BC12: 1 | BD12: 1 | BF12: 2 | BG12: x | BH12: 5 | BI12: 4 | BJ12: 5 | BK12: x | BL12: 2 | BM12: x | BN12: 5 | BO12: x | BP12: x | BT12: x | BU12: 5 | BV12: x | BW12: 3 | BY12: x | CA12: x | CB12: x | CC12: x | CE12: 5 | CF12: x | CG12: x | CH12: x | CI12: x | CJ12: 3 | CK12: x | CL12: 3 | CM12: x | CN12: x | CO12: x | CP12: x | CQ12: x | CR12: 2 | CS12: 5 | CT12: 5 | CU12: 3 | CV12: x | CW12: 1 | CX12: x | CY12: x | CZ12: x | DA12: x | DB12: x | DC12: x | DD12: 1 | DE12: 2 | DF12: 2 | DG12: x | DH12: x | DI12: 1 | DJ12: x | DK12: x | DL12: 3 | DM12: x | DO12: x | DP12: x | DQ12: 2 | DR12: 4 | DS12: 4 | DT12: 2 | DU12: 2 | DV12: x | DW12: 4 | DX12: 1 | DY12: x | DZ12: x | EA12: x | EB12: x | EC12: x | ED12: x | EE12: 1 | EF12: 5 | EG12: 2 | EH12: x | EJ12: x | EK12: x | EL12: x | EM12: x | EN12: x | EO12: x | EP12: x | EQ12: 3 | ER12: 5 | ES12: 1 | EU12: x | EV12: x | EW12: x | EX12: 5 | EY12: x | EZ12: x | FA12: x | FB12: x | FC12: 2 | FD12: 4 | FE12: x | FF12: x
A13: =A12+1 -> 5 | B13: Lothar | D13: =(H13*5+I13*3+J13*1) -> 103 | F13: =COUNTIF(N13:FF13,"<>") -> 126 | H13: =COUNTIF(N13:FF13,"=1") -> 12 | I13: =COUNTIF(N13:FF13,"=2") -> 9 | J13: =COUNTIF(N13:FF13,"=3") -> 16 | K13: =COUNTIF(N13:FF13,"=4") -> 18 | L13: =COUNTIF(N13:FF13,"=5") -> 14 | P13: x | Q13: 2 | R13: 5 | S13: 5 | T13: 5 | U13: 3 | V13: 3 | W13: x | X13: x | Z13: 1 | AA13: 4 | AB13: x | AC13: 4 | AD13: 5 | AF13: x | AG13: x | AH13: 3 | AI13: 5 | AJ13: 2 | AK13: x | AL13: x | AM13: 3 | AN13: 4 | AO13: x | AP13: 5 | AQ13: x | AR13: 4 | AS13: 2 | AT13: 4 | AU13: x | AV13: 1 | AW13: 3 | AX13: 4 | AY13: x | AZ13: 1 | BA13: 4 | BB13: 3 | BC13: x | BD13: 4 | BE13: 3 | BF13: 3 | BH13: 2 | BI13: 3 | BJ13: x | BK13: 4 | BL13: 3 | BM13: 1 | BN13: 1 | BO13: x | BP13: 1 | BQ13: x | BR13: 5 | BS13: x | BT13: 4 | BV13: 4 | BW13: 1 | BX13: 5 | BY13: 4 | BZ13: x | CA13: 5 | CB13: 5 | CC13: x | CD13: x | CF13: 2 | CG13: 2 | CH13: x | CI13: x | CJ13: 4 | CK13: 2 | CL13: 1 | CM13: x | CN13: x | CO13: x | CT13: x | CU13: x | CV13: 3 | CW13: x | CX13: x | CY13: x | DA13: 3 | DB13: 1 | DC13: 5 | DD13: x | DE13: x | DF13: x | DG13: x | DH13: x | DI13: x | DJ13: x | DL13: x | DM13: 4 | DO13: 4 | DP13: x | DQ13: 1 | DS13: x | DU13: 5 | DV13: 1 | DW13: x | DY13: x | DZ13: 3 | EA13: 5 | ED13: x | EE13: x | EF13: x | EG13: x | EI13: 4 | EJ13: x | EK13: 2 | EL13: x | EM13: 3 | EO13: x | EP13: x | EQ13: 4 | ER13: x | ES13: 3 | EU13: x | EV13: 3 | EW13: x | EX13: 2 | EY13: 1 | EZ13: x | FA13: x | FB13: x | FD13: x | FE13: 4 | FF13: 5
A14: =A13+1 -> 6 | B14: säulenkaktus | D14: =(H14*5+I14*3+J14*1) -> 91 | F14: =COUNTIF(N14:FF14,"<>") -> 129 | H14: =COUNTIF(N14:FF14,"=1") -> 9 | I14: =COUNTIF(N14:FF14,"=2") -> 11 | J14: =COUNTIF(N14:FF14,"=3") -> 13 | K14: =COUNTIF(N14:FF14,"=4") -> 10 | L14: =COUNTIF(N14:FF14,"=5") -> 9 | O14: 4 | P14: x | Q14: 3 | R14: x | S14: x | T14: 4 | U14: x | V14: x | W14: x | X14: 5 | Z14: x | AA14: x | AB14: 2 | AC14: x | AD14: x | AE14: x | AF14: 3 | AH14: 1 | AI14: 3 | AJ14: 3 | AK14: 5 | AL14: 1 | AM14: x | AN14: 5 | AO14: x | AP14: 2 | AQ14: x | AR14: x | AS14: x | AT14: x | AU14: x | AV14: 4 | AW14: 4 | AX14: x | AY14: 2 | AZ14: x | BB14: 4 | BC14: x | BD14: x | BE14: 1 | BF14: x | BG14: 4 | BH14: 1 | BI14: 1 | BK14: 2 | BL14: 4 | BM14: x | BN14: x | BO14: 5 | BP14: 3 | BR14: 1 | BS14: x | BT14: x | BU14: x | BV14: x | BW14: x | BX14: 2 | BZ14: x | CA14: x | CB14: x | CD14: x | CE14: 2 | CF14: 5 | CI14: 3 | CJ14: x | CK14: x | CL14: x | CM14: x | CO14: 3 | CP14: 4 | CQ14: 5 | CS14: x | CT14: 3 | CV14: x | CW14: x | CX14: 1 | CY14: x | CZ14: 4 | DA14: x | DC14: x | DE14: 3 | DF14: x | DG14: x | DH14: 3 | DI14: x | DJ14: x | DL14: x | DM14: x | DN14: 1 | DO14: 3 | DP14: 1 | DQ14: 5 | DR14: 3 | DS14: x | DU14: 3 | DV14: x | DW14: 2 | DX14: x | DY14: x | EB14: 2 | EC14: x | ED14: x | EE14: x | EF14: x | EG14: x | EH14: x | EI14: x | EJ14: 2 | EK14: 4 | EL14: 2 | EM14: x | EN14: 2 | EO14: x | EP14: x | EQ14: x | ER14: x | ES14: x | ET14: 5 | EU14: x | EV14: x | EW14: x | EX14: x | EY14: 5 | EZ14: x | FA14: x | FC14: x | FD14: x | FE14: x | FF14: x
A15: =A14+1 -> 7 | B15: Vichy | D15: =(H15*5+I15*3+J15*1) -> 84 | F15: =COUNTIF(N15:FF15,"<>") -> 114 | H15: =COUNTIF(N15:FF15,"=1") -> 8 | I15: =COUNTIF(N15:FF15,"=2") -> 10 | J15: =COUNTIF(N15:FF15,"=3") -> 14 | K15: =COUNTIF(N15:FF15,"=4") -> 7 | L15: =COUNTIF(N15:FF15,"=5") -> 8 | P15: 3 | Q15: x | AC15: 3 | AE15: x | AL15: x | AO15: 5 | AP15: x | AQ15: x | AR15: x | AS15: 4 | AU15: 4 | AW15: x | AX15: 5 | AY15: 3 | AZ15: 5 | BA15: x | BB15: x | BC15: 2 | BD15: 5 | BE15: x | BG15: 3 | BH15: x | BI15: x | BJ15: x | BK15: 1 | BL15: x | BM15: 2 | BN15: 2 | BO15: 1 | BP15: x | BQ15: x | BR15: 2 | BS15: x | BT15: 5 | BU15: 4 | BV15: x | BW15: x | BX15: x | BY15: x | BZ15: x | CA15: x | CB15: 1 | CC15: 2 | CD15: x | CE15: x | CF15: x | CG15: x | CH15: 3 | CI15: x | CJ15: 1 | CM15: 4 | CN15: x | CO15: x | CP15: x | CQ15: x | CS15: 3 | CT15: x | CU15: x | CV15: 5 | CY15: x | CZ15: x | DA15: x | DB15: x | DC15: 2 | DF15: 3 | DG15: x | DH15: x | DI15: x | DJ15: 3 | DK15: x | DL15: x | DM15: x | DN15: x | DO15: x | DQ15: 4 | DR15: x | DS15: x | DT15: 3 | DU15: x | DV15: 3 | DW15: x | DX15: x | DZ15: x | EA15: 1 | EB15: x | EC15: 2 | ED15: 4 | EE15: 4 | EF15: x | EG15: 5 | EH15: x | EI15: 3 | EJ15: x | EK15: x | EL15: 3 | EM15: x | EN15: x | EO15: 1 | EP15: x | EQ15: x | ER15: 2 | ES15: x | ET15: x | EU15: 3 | EV15: x | EW15: 2 | EX15: x | EY15: x | EZ15: 2 | FA15: 3 | FB15: 1 | FC15: 5 | FE15: 1 | FF15: x
A16: =A15+1 -> 8 | B16: hallerc4 | D16: =(H16*5+I16*3+J16*1) -> 79 | F16: =COUNTIF(N16:FF16,"<>") -> 105 | H16: =COUNTIF(N16:FF16,"=1") -> 8 | I16: =COUNTIF(N16:FF16,"=2") -> 11 | J16: =COUNTIF(N16:FF16,"=3") -> 6 | K16: =COUNTIF(N16:FF16,"=4") -> 10 | L16: =COUNTIF(N16:FF16,"=5") -> 15 | O16: 2 | Q16: x | R16: 4 | T16: x | U16: 2 | W16: 5 | X16: x | Y16: 5 | Z16: 2 | AA16: 5 | AB16: 1 | AC16: 1 | AE16: x | AF16: 2 | AG16: 5 | AH16: x | AJ16: x | AL16: 2 | AM16: x | AO16: 2 | AP16: x | AQ16: x | AR16: x | AS16: x | AT16: x | AU16: 5 | AV16: 3 | AW16: x | AX16: x | AY16: x | AZ16: x | BA16: 5 | BB16: x | BC16: x | BD16: x | BE16: x | BF16: 1 | BG16: 1 | BH16: x | BI16: x | BJ16: x | BK16: x | BL16: 4 | BM16: 4 | BV16: 2 | BW16: 4 | BX16: x | BY16: x | BZ16: 3 | CA16: 4 | CB16: x | CC16: 5 | CD16: 3 | CE16: x | CF16: 1 | CH16: x | CI16: 4 | CJ16: 2 | CL16: 5 | CM16: x | CO16: x | CP16: 5 | CQ16: x | CR16: 5 | CS16: x | CT16: x | CU16: 4 | CV16: 1 | CW16: 3 | CX16: x | CY16: x | CZ16: 5 | DA16: 2 | DB16: 5 | DC16: x | DD16: 5 | DE16: x | DF16: x | DG16: 5 | DH16: x | DI16: x | DJ16: x | DK16: 3 | DL16: x | DM16: 2 | DN16: 4 | DO16: x | DP16: x | DR16: x | DS16: 1 | DV16: x | DW16: 1 | DX16: x | DY16: x | DZ16: 5 | EA16: 2 | EB16: 4 | EC16: x | ED16: x | EE16: x | EG16: x | EH16: x | EI16: x | EJ16: 3 | EM16: 4
A17: =A16+1 -> 9 | B17: Usul3 | D17: =(H17*5+I17*3+J17*1) -> 75 | F17: =COUNTIF(N17:FF17,"<>") -> 60 | H17: =COUNTIF(N17:FF17,"=1") -> 12 | I17: =COUNTIF(N17:FF17,"=2") -> 3 | J17: =COUNTIF(N17:FF17,"=3") -> 6 | K17: =COUNTIF(N17:FF17,"=4") -> 5 | L17: =COUNTIF(N17:FF17,"=5") -> 3 | BD17: 3 | BE17: 4 | BH17: 3 | BJ17: x | BM17: x | BN17: x | BO17: 4 | BQ17: x | BS17: 1 | BT17: 1 | BU17: 1 | BV17: x | BY17: 5 | BZ17: x | CA17: x | CD17: 1 | CE17: 4 | CF17: x | CO17: 2 | CP17: 1 | CQ17: 1 | CS17: x | CU17: x | CW17: x | CX17: x | CY17: 1 | DA17: 1 | DB17: 3 | DI17: 3 | DO17: x | DP17: 2 | DR17: x | DT17: 4 | DU17: 4 | DV17: x | DW17: x | DY17: x | EB17: x | EC17: 5 | EE17: x | EF17: 3 | EG17: 1 | EH17: x | EJ17: x | EK17: x | EL17: x | EN17: 1 | EO17: x | EP17: x | ES17: 2 | ET17: x | EV17: 1 | EW17: 1 | EX17: x | EZ17: x | FB17: 5 | FC17: x | FD17: 3 | FE17: x | FF17: x
A18: =A17+1 -> 10 | B18: ja2911 | D18: =(H18*5+I18*3+J18*1) -> 71 | F18: =COUNTIF(N18:FF18,"<>") -> 105 | H18: =COUNTIF(N18:FF18,"=1") -> 4 | I18: =COUNTIF(N18:FF18,"=2") -> 13 | J18: =COUNTIF(N18:FF18,"=3") -> 12 | K18: =COUNTIF(N18:FF18,"=4") -> 9 | L18: =COUNTIF(N18:FF18,"=5") -> 5 | T18: x | U18: x | V18: x | W18: x | X18: 3 | Y18: x | Z18: 4 | AA18: 2 | AB18: x | AC18: 5 | AD18: 4 | AE18: 1 | AF18: 4 | AG18: x | AH18: x | AJ18: x | AK18: 2 | AL18: x | AM18: x | AN18: x | AP18: x | AQ18: 3 | AS18: 3 | AZ18: x | BB18: x | BC18: 3 | BD18: x | BH18: x | BN18: x | BP18: 2 | BV18: x | BW18: x | BZ18: x | CA18: x | CB18: x | CD18: 2 | CF18: x | CG18: 4 | CH18: 2 | CI18: x | CJ18: 5 | CK18: 4 | CL18: x | CM18: 3 | CN18: 3 | CO18: 4 | CP18: x | CQ18: 3 | CT18: 2 | CU18: x | CV18: x | CW18: x | CX18: 2 | CY18: 2 | CZ18: 3 | DA18: x | DC18: 1 | DD18: 4 | DE18: 5 | DF18: x | DG18: x | DH18: x | DI18: x | DJ18: 1 | DK18: x | DM18: 3 | DN18: 3 | DO18: x | DP18: x | DQ18: x | DR18: 1 | DS18: 2 | DT18: x | DU18: x | DV18: x | DW18: x | DX18: 2 | DY18: 2 | DZ18: x | EA18: x | EB18: x | EC18: x | ED18: 2 | EK18: 5 | EL18: x | EM18: x | EN18: x | EO18: 3 | EP18: 3 | EQ18: 5 | ER18: x | ES18: x | ET18: 2 | EU18: 4 | EV18: x | EW18: x | EX18: x | EY18: x | EZ18: x | FA18: 4 | FB18: x | FC18: x | FD18: x | FE18: x | FF18: x
A19: =A18+1 -> 11 | B19: 241264hsv-fan | D19: =(H19*5+I19*3+J19*1) -> 63 | F19: =COUNTIF(N19:FF19,"<>") -> 104 | H19: =COUNTIF(N19:FF19,"=1") -> 5 | I19: =COUNTIF(N19:FF19,"=2") -> 10 | J19: =COUNTIF(N19:FF19,"=3") -> 8 | K19: =COUNTIF(N19:FF19,"=4") -> 14 | L19: =COUNTIF(N19:FF19,"=5") -> 9 | O19: 3 | P19: 4 | Q19: 4 | R19: 2 | S19: 1 | V19: 1 | W19: x | AA19: 3 | AB19: 3 | AC19: x | AD19: 2 | AE19: 1 | AG19: 2 | AH19: 4 | AI19: 1 | AJ19: 1 | AM19: 5 | AN19: 2 | AO19: x | AP19: x | AQ19: x | AR19: 2 | AS19: x | AZ19: x | BB19: 5 | BC19: x | BD19: x | BE19: 4 | BF19: x | BI19: x | BK19: x | BL19: x | BM19: x | BN19: x | BO19: 2 | BP19: 4 | BQ19: 5 | BR19: x | BS19: 3 | BT19: x | BW19: 4 | BX19: x | BY19: 3 | CA19: 3 | CB19: x | CC19: x | CD19: x | CE19: x | CF19: x | CH19: x | CI19: x | CJ19: x | CL19: x | CM19: x | CN19: 5 | CO19: x | CP19: x | CQ19: x | CR19: 4 | CT19: x | CU19: x | CW19: 2 | DD19: x | DE19: 4 | DF19: 5 | DG19: 2 | DH19: x | DI19: x | DM19: x | DO19: 2 | DT19: 5 | DU19: x | DV19: x | DW19: 3 | DX19: x | DY19: x | EA19: 4 | EB19: 5 | EC19: x | EE19: x | EF19: x | EG19: x | EH19: x | EJ19: x | EK19: x | EL19: 4 | EN19: 5 | EO19: x | EP19: x | EQ19: x | ER19: x | ES19: x | ET19: x | EV19: 4 | EW19: 4 | EX19: x | EY19: 4 | EZ19: x | FA19: x | FB19: 4 | FC19: x | FD19: 2 | FE19: 5 | FF19: 3
A20: =A19+1 -> 12 | B20: King_Franky | D20: =(H20*5+I20*3+J20*1) -> 52 | F20: =COUNTIF(N20:FF20,"<>") -> 59 | H20: =COUNTIF(N20:FF20,"=1") -> 8 | I20: =COUNTIF(N20:FF20,"=2") -> 3 | J20: =COUNTIF(N20:FF20,"=3") -> 3 | K20: =COUNTIF(N20:FF20,"=4") -> 11 | L20: =COUNTIF(N20:FF20,"=5") -> 6 | AZ20: x | BG20: 5 | BH20: x | CA20: x | CB20: x | CC20: x | CD20: x | CG20: 5 | CI20: x | CL20: 4 | CN20: 2 | CT20: x | CU20: 5 | CW20: x | CX20: 4 | DB20: x | DC20: 4 | DD20: x | DE20: x | DF20: 4 | DG20: 4 | DH20: 2 | DI20: 1 | DJ20: 4 | DK20: 5 | DL20: 5 | DM20: x | DQ20: x | DR20: x | DS20: x | DT20: 1 | DU20: 1 | DV20: x | DY20: 4 | DZ20: 4 | EC20: x | ED20: x | EF20: x | EG20: 3 | EH20: 2 | EI20: 1 | EJ20: x | EK20: x | EL20: 5 | EM20: 1 | EN20: x | EO20: x | EP20: 1 | EQ20: x | ER20: x | ES20: x | ET20: 4 | EU20: 1 | EV20: x | EW20: 3 | EX20: 4 | EY20: 3 | EZ20: 4 | FA20: 1
A21: =A20+1 -> 13 | B21: am1937a | D21: =(H21*5+I21*3+J21*1) -> 45 | F21: =COUNTIF(N21:FF21,"<>") -> 90 | H21: =COUNTIF(N21:FF21,"=1") -> 6 | I21: =COUNTIF(N21:FF21,"=2") -> 3 | J21: =COUNTIF(N21:FF21,"=3") -> 6 | K21: =COUNTIF(N21:FF21,"=4") -> 8 | L21: =COUNTIF(N21:FF21,"=5") -> 9 | P21: 1 | Q21: x | S21: x | T21: x | U21: 5 | Y21: 1 | AD21: 3 | AE21: 5 | AF21: 5 | AG21: 3 | AK21: 4 | AM21: 1 | AN21: x | AP21: x | AQ21: 4 | AR21: 5 | AS21: 5 | AT21: 5 | AX21: 3 | AY21: x | AZ21: x | BC21: x | BG21: x | BJ21: 4 | BK21: 5 | BL21: x | BM21: 5 | BN21: x | BO21: x | BQ21: 4 | BR21: x | BS21: 5 | BV21: 1 | BW21: x | BX21: x | BY21: 2 | BZ21: x | CA21: x | CC21: x | CD21: 4 | CF21: x | CH21: 4 | CI21: x | CK21: 4 | CL21: x | CM21: x | CN21: 1 | CO21: x | CU21: x | CX21: x | CY21: x | DB21: x | DC21: x | DF21: x | DG21: x | DH21: x | DI21: x | DJ21: x | DK21: x | DN21: x | DP21: x | DU21: x | DV21: x | DW21: x | DX21: x | EC21: x | ED21: x | EE21: x | EF21: 1 | EG21: x | EH21: x | EI21: x | EJ21: 3 | EK21: 3 | EL21: x | EM21: x | EN21: 4 | EO21: 2 | EP21: x | EQ21: x | ER21: x | EU21: x | EW21: x | EX21: x | EY21: x | EZ21: x | FA21: x | FB21: 3 | FC21: 2 | FE21: x
A22: =A21+1 -> 14 | B22: Nicht Profi | D22: =(H22*5+I22*3+J22*1) -> 39 | F22: =COUNTIF(N22:FF22,"<>") -> 75 | H22: =COUNTIF(N22:FF22,"=1") -> 4 | I22: =COUNTIF(N22:FF22,"=2") -> 3 | J22: =COUNTIF(N22:FF22,"=3") -> 10 | K22: =COUNTIF(N22:FF22,"=4") -> 3 | L22: =COUNTIF(N22:FF22,"=5") -> 11 | P22: x | Q22: x | R22: x | S22: 3 | W22: x | Y22: x | AA22: x | AB22: 5 | AE22: 4 | AH22: 5 | AI22: x | AJ22: x | AK22: 3 | AL22: 3 | AM22: x | AO22: 3 | AY22: x | BF22: x | BG22: x | BH22: x | BJ22: x | BK22: x | BL22: 1 | BS22: x | BT22: x | BU22: x | BX22: x | BZ22: x | CU22: x | CV22: 4 | CW22: 5 | CX22: x | CZ22: 2 | DA22: 5 | DB22: x | DF22: 1 | DG22: x | DH22: x | DI22: x | DJ22: x | DM22: x | DO22: 5 | DP22: 3 | DQ22: x | DR22: 5 | DS22: 3 | DU22: x | DV22: 2 | DW22: 5 | DX22: 5 | DY22: 3 | DZ22: 2 | EA22: x | EB22: 1 | EC22: 1 | ED22: 3 | EE22: 3 | EF22: x | EG22: x | EI22: 5 | EL22: x | EO22: x | EQ22: x | ER22: 4 | ES22: x | ET22: 3 | EU22: x | EV22: x | EW22: 5 | EZ22: 5 | FA22: x | FC22: x | FD22: x | FE22: x | FF22: x
A23: =A22+1 -> 15 | B23: Norrsken | D23: =(H23*5+I23*3+J23*1) -> 20 | F23: =COUNTIF(N23:FF23,"<>") -> 47 | H23: =COUNTIF(N23:FF23,"=1") -> 2 | I23: =COUNTIF(N23:FF23,"=2") -> 3 | J23: =COUNTIF(N23:FF23,"=3") -> 1 | K23: =COUNTIF(N23:FF23,"=4") -> 5 | L23: =COUNTIF(N23:FF23,"=5") -> 5 | CW23: 4 | CX23: x | CZ23: x | DC23: x | DD23: x | DE23: 1 | DF23: x | DG23: x | DH23: 5 | DJ23: 5 | DK23: 4 | DL23: 4 | DM23: 5 | DP23: x | DQ23: x | DR23: x | DU23: x | DV23: 4 | DW23: x | DY23: 5 | EA23: x | ED23: x | EE23: 5 | EF23: 2 | EH23: 1 | EI23: 2 | EJ23: x | EK23: x | EL23: x | EM23: 2 | EN23: 3 | EO23: x | EP23: x | EQ23: x | ES23: x | ET23: x | EU23: x | EV23: x | EW23: x | EY23: x | EZ23: x | FA23: x | FB23: x | FC23: 4 | FD23: x | FE23: x | FF23: x
A24: =A23+1 -> 16 | B24: Eisvogel | D24: =(H24*5+I24*3+J24*1) -> 17 | F24: =COUNTIF(N24:FF24,"<>") -> 18 | H24: =COUNTIF(N24:FF24,"=1") -> 2 | I24: =COUNTIF(N24:FF24,"=2") -> 1 | J24: =COUNTIF(N24:FF24,"=3") -> 4 | K24: =COUNTIF(N24:FF24,"=4") -> 0 | L24: =COUNTIF(N24:FF24,"=5") -> 2 | BJ24: x | BN24: 3 | BO24: 3 | BP24: x | BQ24: 3 | BR24: x | BS24: 2 | BU24: x | BV24: 5 | BW24: x | BZ24: 5 | CA24: x | CB24: 3 | CC24: x | CE24: x | CG24: 1 | CI24: 1 | CJ24: x
A25: =A24+1 -> 17 | B25: Loriot 98 | D25: =(H25*5+I25*3+J25*1) -> 15 | F25: =COUNTIF(N25:FF25,"<>") -> 8 | H25: =COUNTIF(N25:FF25,"=1") -> 3 | I25: =COUNTIF(N25:FF25,"=2") -> 0 | J25: =COUNTIF(N25:FF25,"=3") -> 0 | K25: =COUNTIF(N25:FF25,"=4") -> 0 | L25: =COUNTIF(N25:FF25,"=5") -> 1 | EG25: x | EH25: 5 | EI25: x | EJ25: 1 | EK25: 1 | EL25: 1 | EM25: x | EN25: x
A26: =A25+1 -> 18 | B26: gründi | D26: =(H26*5+I26*3+J26*1) -> 13 | F26: =COUNTIF(N26:FF26,"<>") -> 24 | H26: =COUNTIF(N26:FF26,"=1") -> 2 | I26: =COUNTIF(N26:FF26,"=2") -> 1 | J26: =COUNTIF(N26:FF26,"=3") -> 0 | K26: =COUNTIF(N26:FF26,"=4") -> 2 | L26: =COUNTIF(N26:FF26,"=5") -> 0 | AJ26: 4 | AL26: x | AM26: 2 | DZ26: x | EB26: x | EC26: 4 | EH26: x | EI26: x | EJ26: x | EK26: x | EN26: x | EP26: x | EQ26: x | ER26: x | ES26: x | ET26: 1 | EU26: x | EV26: x | EW26: x | EX26: 1 | EY26: x | FD26: x | FE26: x | FF26: x
A27: =A26+1 -> 19 | B27: KuK | D27: =(H27*5+I27*3+J27*1) -> 13 | F27: =COUNTIF(N27:FF27,"<>") -> 29 | H27: =COUNTIF(N27:FF27,"=1") -> 0 | I27: =COUNTIF(N27:FF27,"=2") -> 3 | J27: =COUNTIF(N27:FF27,"=3") -> 4 | K27: =COUNTIF(N27:FF27,"=4") -> 4 | L27: =COUNTIF(N27:FF27,"=5") -> 1 | R27: x | U27: 4 | V27: x | X27: x | Y27: 3 | AA27: x | AB27: 4 | AC27: 2 | AE27: x | AH27: x | AI27: 4 | AJ27: x | AK27: x | AL27: x | AM27: x | AY27: 5 | AZ27: x | BB27: x | BD27: x | BI27: 2 | BJ27: 2 | BQ27: x | BR27: x | BS27: 4 | BT27: 3 | BU27: 3 | BV27: x | BW27: x | BX27: 3
A28: =A27+1 -> 20 | B28: pumuckl | D28: =(H28*5+I28*3+J28*1) -> 6 | F28: =COUNTIF(N28:FF28,"<>") -> 3 | H28: =COUNTIF(N28:FF28,"=1") -> 1 | I28: =COUNTIF(N28:FF28,"=2") -> 0 | J28: =COUNTIF(N28:FF28,"=3") -> 1 | K28: =COUNTIF(N28:FF28,"=4") -> 0 | L28: =COUNTIF(N28:FF28,"=5") -> 0 | CA28: 1 | EW28: x | EX28: 3
A29: =A28+1 -> 21 | B29: rainer | D29: =(H29*5+I29*3+J29*1) -> 5 | F29: =COUNTIF(N29:FF29,"<>") -> 7 | H29: =COUNTIF(N29:FF29,"=1") -> 1 | I29: =COUNTIF(N29:FF29,"=2") -> 0 | J29: =COUNTIF(N29:FF29,"=3") -> 0 | K29: =COUNTIF(N29:FF29,"=4") -> 2 | L29: =COUNTIF(N29:FF29,"=5") -> 0 | O29: x | R29: x | T29: 1 | U29: x | V29: x | W29: 4 | Y29: 4
A30: =A29+1 -> 22 | B30: Leseratte1957 | D30: =(H30*5+I30*3+J30*1) -> 5 | F30: =COUNTIF(N30:FF30,"<>") -> 7 | H30: =COUNTIF(N30:FF30,"=1") -> 1 | I30: =COUNTIF(N30:FF30,"=2") -> 0 | J30: =COUNTIF(N30:FF30,"=3") -> 0 | K30: =COUNTIF(N30:FF30,"=4") -> 0 | L30: =COUNTIF(N30:FF30,"=5") -> 1 | AW30: 5 | CF30: x | CH30: x | ES30: x | EV30: x | EX30: x | EZ30: 1
A31: =A30+1 -> 23 | B31: Braunbear | D31: =(H31*5+I31*3+J31*1) -> 5 | F31: =COUNTIF(N31:FF31,"<>") -> 4 | H31: =COUNTIF(N31:FF31,"=1") -> 1 | I31: =COUNTIF(N31:FF31,"=2") -> 0 | J31: =COUNTIF(N31:FF31,"=3") -> 0 | K31: =COUNTIF(N31:FF31,"=4") -> 0 | L31: =COUNTIF(N31:FF31,"=5") -> 0 | EF31: x | FC31: x | FE31: x | FF31: 1
A32: =A31+1 -> 24 | B32: scorpio | D32: =(H32*5+I32*3+J32*1) -> 3 | F32: =COUNTIF(N32:FF32,"<>") -> 6 | H32: =COUNTIF(N32:FF32,"=1") -> 0 | I32: =COUNTIF(N32:FF32,"=2") -> 1 | J32: =COUNTIF(N32:FF32,"=3") -> 0 | K32: =COUNTIF(N32:FF32,"=4") -> 1 | L32: =COUNTIF(N32:FF32,"=5") -> 1 | EH32: x | EP32: 2 | EU32: 5 | FD32: x | FE32: x | FF32: 4
A33: =A32+1 -> 25 | B33: Lujowe73 | D33: =(H33*5+I33*3+J33*1) -> 3 | F33: =COUNTIF(N33:FF33,"<>") -> 7 | H33: =COUNTIF(N33:FF33,"=1") -> 0 | I33: =COUNTIF(N33:FF33,"=2") -> 1 | J33: =COUNTIF(N33:FF33,"=3") -> 0 | K33: =COUNTIF(N33:FF33,"=4") -> 0 | L33: =COUNTIF(N33:FF33,"=5") -> 1 | EV33: 5 | EW33: x | EY33: x | FC33: x | FD33: x | FE33: x | FF33: 2
A34: =A33+1 -> 26 | B34: axbuhr | D34: =(H34*5+I34*3+J34*1) -> 1 | F34: =COUNTIF(N34:FF34,"<>") -> 7 | H34: =COUNTIF(N34:FF34,"=1") -> 0 | I34: =COUNTIF(N34:FF34,"=2") -> 0 | J34: =COUNTIF(N34:FF34,"=3") -> 1 | K34: =COUNTIF(N34:FF34,"=4") -> 0 | L34: =COUNTIF(N34:FF34,"=5") -> 1 | EY34: x | EZ34: 3 | FA34: 5 | FB34: x | FC34: x | FE34: x | FF34: x
A35: =A34+1 -> 27 | B35: hd82hd | D35: =(H35*5+I35*3+J35*1) -> 0 | F35: =COUNTIF(N35:FF35,"<>") -> 1 | H35: =COUNTIF(N35:FF35,"=1") -> 0 | I35: =COUNTIF(N35:FF35,"=2") -> 0 | J35: =COUNTIF(N35:FF35,"=3") -> 0 | K35: =COUNTIF(N35:FF35,"=4") -> 1 | L35: =COUNTIF(N35:FF35,"=5") -> 0 | EP35: 4
A36: =A35+1 -> 28 | B36: KArnoldBln | D36: =(H36*5+I36*3+J36*1) -> 0 | F36: =COUNTIF(N36:FF36,"<>") -> 5 | H36: =COUNTIF(N36:FF36,"=1") -> 0 | I36: =COUNTIF(N36:FF36,"=2") -> 0 | J36: =COUNTIF(N36:FF36,"=3") -> 0 | K36: =COUNTIF(N36:FF36,"=4") -> 0 | L36: =COUNTIF(N36:FF36,"=5") -> 0 | DP36: x | ER36: x | EZ36: x | FC36: x | FF36: x
A37: =A36+1 -> 29 | B37: IVIichi | D37: =(H37*5+I37*3+J37*1) -> 0 | F37: =COUNTIF(N37:FF37,"<>") -> 4 | H37: =COUNTIF(N37:FF37,"=1") -> 0 | I37: =COUNTIF(N37:FF37,"=2") -> 0 | J37: =COUNTIF(N37:FF37,"=3") -> 0 | K37: =COUNTIF(N37:FF37,"=4") -> 0 | L37: =COUNTIF(N37:FF37,"=5") -> 0 | FA37: x | FC37: x | FE37: x | FF37: x
A38: =A37+1 -> 30 | B38: Schimmel | D38: =(H38*5+I38*3+J38*1) -> 0 | F38: =COUNTIF(N38:FF38,"<>") -> 4 | H38: =COUNTIF(N38:FF38,"=1") -> 0 | I38: =COUNTIF(N38:FF38,"=2") -> 0 | J38: =COUNTIF(N38:FF38,"=3") -> 0 | K38: =COUNTIF(N38:FF38,"=4") -> 0 | L38: =COUNTIF(N38:FF38,"=5") -> 0 | AZ38: x | BA38: x | ET38: x
A39: =A38+1 -> 31 | B39: BUND | D39: =(H39*5+I39*3+J39*1) -> 0 | F39: =COUNTIF(N39:FF39,"<>") -> 2 | H39: =COUNTIF(N39:FF39,"=1") -> 0 | I39: =COUNTIF(N39:FF39,"=2") -> 0 | J39: =COUNTIF(N39:FF39,"=3") -> 0 | K39: =COUNTIF(N39:FF39,"=4") -> 0 | L39: =COUNTIF(N39:FF39,"=5") -> 0 | EE39: x | EQ39: x
A40: =A39+1 -> 32 | B40: basmah | D40: =(H40*5+I40*3+J40*1) -> 0 | F40: =COUNTIF(N40:FF40,"<>") -> 1 | H40: =COUNTIF(N40:FF40,"=1") -> 0 | I40: =COUNTIF(N40:FF40,"=2") -> 0 | J40: =COUNTIF(N40:FF40,"=3") -> 0 | K40: =COUNTIF(N40:FF40,"=4") -> 0 | L40: =COUNTIF(N40:FF40,"=5") -> 0 | EZ40: x
A41: =A40+1 -> 33 | B41: Tobias | D41: =(H41*5+I41*3+J41*1) -> 0 | F41: =COUNTIF(N41:FF41,"<>") -> 1 | H41: =COUNTIF(N41:FF41,"=1") -> 0 | I41: =COUNTIF(N41:FF41,"=2") -> 0 | J41: =COUNTIF(N41:FF41,"=3") -> 0 | K41: =COUNTIF(N41:FF41,"=4") -> 0 | L41: =COUNTIF(N41:FF41,"=5") -> 0 | CF41: x
A42: =A41+1 -> 34 | B42: Uli | D42: =(H42*5+I42*3+J42*1) -> 0 | F42: =COUNTIF(N42:FF42,"<>") -> 1 | H42: =COUNTIF(N42:FF42,"=1") -> 0 | I42: =COUNTIF(N42:FF42,"=2") -> 0 | J42: =COUNTIF(N42:FF42,"=3") -> 0 | K42: =COUNTIF(N42:FF42,"=4") -> 0 | L42: =COUNTIF(N42:FF42,"=5") -> 0 | FE42: x
B44: Tipps am Spieltag | N44: =COUNTIF(N9:N42,">0")+COUNTIF(N9:N42,"=x") -> 0 | O44: =COUNTIF(O9:O42,">0")+COUNTIF(O9:O42,"=x") -> 8 | P44: =COUNTIF(P9:P42,">0")+COUNTIF(P9:P42,"=x") -> 9 | Q44: =COUNTIF(Q9:Q42,">0")+COUNTIF(Q9:Q42,"=x") -> 11 | R44: =COUNTIF(R9:R42,">0")+COUNTIF(R9:R42,"=x") -> 11 | S44: =COUNTIF(S9:S42,">0")+COUNTIF(S9:S42,"=x") -> 9 | T44: =COUNTIF(T9:T42,">0")+COUNTIF(T9:T42,"=x") -> 9 | U44: =COUNTIF(U9:U42,">0")+COUNTIF(U9:U42,"=x") -> 10 | ... FF44: =COUNTIF(FF9:FF42,">0")+COUNTIF(FF9:FF42,"=x") -> 19

Sheet 2015 Test Quartal
K3: Quartal 1 | Q3: Quartal 2 | W3: Quartal 3 | AC3: Quartal 4
D6: Spiele | F6: 1. | G6: 2. | H6: 3. | I6: 4. | AI6: Spiel | AJ6: Spiel | AK6: Spiel | AL6: Spiel | AM6: Spiel | AN6: Spiel | AO6: Spiel | AP6: Spiel | AQ6: Spiel | AR6: Spiel | AS6: Spiel | AT6: Spiel | AU6: Spiel | AV6: Spiel | AW6: Spiel | AX6: Spiel | AY6: Spiel | AZ6: Spiel | BA6: Spiel | BB6: Spiel | BC6: Spiel | BD6: Spiel | BE6: Spiel | BF6: Spiel | BG6: Spiel | BH6: Spiel | BI6: Spiel | BJ6: Spiel | BK6: Spiel | BL6: Spiel | BM6: Spiel | BN6: Spiel | BO6: Spiel | BP6: Spiel | BQ6: Spiel | BR6: Spiel | BS6: Spiel | BT6: Spiel | BU6: Spiel | BV6: Spiel | BW6: Spiel | BX6: Spiel | BY6: Spiel | BZ6: Spiel | CA6: Spiel | CB6: Spiel | CC6: Spiel | CD6: Spiel | CE6: Spiel | CF6: Spiel | CG6: Spiel | CH6: Spiel | CI6: Spiel | CJ6: Spiel | CK6: Spiel | CL6: Spiel | CM6: Spiel | CN6: Spiel | CO6: Spiel | CP6: Spiel | CQ6: Spiel | CR6: Spiel | CS6: Spiel | CT6: Spiel | CU6: Spiel | CV6: Spiel | CW6: Spiel | CX6: Spiel | CY6: Spiel | CZ6: Spiel | DA6: Spiel | DB6: Spiel | DC6: Spiel | DD6: Spiel | DE6: Spiel | DF6: Spiel | DG6: Spiel | DH6: Spiel | DI6: Spiel | DJ6: Spiel | DK6: Spiel | DL6: Spiel | DM6: Spiel | DN6: Spiel | DO6: Spiel | DP6: Spiel | DQ6: Spiel | DR6: Spiel | DS6: Spiel | DT6: Spiel | DU6: Spiel | DV6: Spiel | DW6: Spiel | DX6: Spiel | DY6: Spiel | DZ6: Spiel | EA6: Spiel | EB6: Spiel | EC6: Spiel | ED6: Spiel | EE6: Spiel | EF6: Spiel | EG6: Spiel | EH6: Spiel | EI6: Spiel | EJ6: Spiel | EK6: Spiel | EL6: Spiel | EM6: Spiel | EN6: Spiel | EO6: Spiel | EP6: Spiel | EQ6: Spiel | ER6: Spiel | ES6: Spiel | ET6: Spiel | EU6: Spiel | EV6: Spiel | EW6: Spiel | EX6: Spiel | EY6: Spiel | EZ6: Spiel | FA6: Spiel | FB6: Spiel | FC6: Spiel | FD6: Spiel | FE6: Spiel | FF6: Spiel | FG6: Spiel | FH6: Spiel | FI6: Spiel | FJ6: Spiel | FK6: Spiel | FL6: Spiel | FM6: Spiel | FN6: Spiel | FO6: Spiel | FP6: Spiel | FQ6: Spiel | FR6: Spiel | FS6: Spiel | FT6: Spiel | FU6: Spiel | FV6: Spiel | FW6: Spiel | FX6: Spiel | FY6: Spiel | FZ6: Spiel | GA6: Spiel
A7: Platz | B7: Tipper(in) | D7: getippt | F7: Quart. | G7: Quart. | H7: Quart. | I7: Quart. | K7: 1. Pl. | L7: 2. Pl. | M7: 3. Pl. | N7: 4. Pl. | O7: 5. Pl. | Q7: 1. Pl. | R7: 2. Pl. | S7: 3. Pl. | T7: 4. Pl. | U7: 5. Pl. | W7: 1. Pl. | X7: 2. Pl. | Y7: 3. Pl. | Z7: 4. Pl. | AA7: 5. Pl. | AC7: 1. Pl. | AD7: 2. Pl. | AE7: 3. Pl. | AF7: 4. Pl. | AG7: 5. Pl. | AI7: =AJ7+1 -> 149 | AJ7: =AK7+1 -> 148 | AK7: =AL7+1 -> 147 | AL7: =AM7+1 -> 146 | AM7: =AN7+1 -> 145 | AN7: =AO7+1 -> 144 | AO7: =AP7+1 -> 143 | AP7: =AQ7+1 -> 142 | ... FZ7: =GA7+1 -> 2 | GA7: 1
A9: =A8+1 -> 1 | B9: Wolffi | D9: =COUNTIF(AI9:GA9,"<>") -> 143 | F9: =K9*5+L9*4+M9*3+N9+2+O9*1 -> 49 | G9: =Q9*5+R9*4+S9*3+T9*2+U9*1 -> 62 | H9: =W9*5+X9*4+Y9*3+Z9*2+AA9*1 -> 51 | I9: =AC9*5+AD9*4+AE9*3+AF9*2+AG9*1 -> 73 | K9: =COUNTIF(EO9:GA9,"=1") -> 4 | L9: =COUNTIF(EO9:GA9,"=2") -> 2 | M9: =COUNTIF(EO9:GA9,"=3") -> 5 | N9: =COUNTIF(EO9:GA9,"=4") -> 0 | O9: =COUNTIF(EO9:GA9,"=5") -> 4 | Q9: =COUNTIF(DG9:EN9,"=1") -> 4 | R9: =COUNTIF(DG9:EN9,"=2") -> 4 | S9: =COUNTIF(DG9:EN9,"=3") -> 5 | T9: =COUNTIF(DG9:EN9,"=4") -> 4 | U9: =COUNTIF(DG9:EN9,"=5") -> 3 | W9: =COUNTIF(BW9:DF9,"=1") -> 1 | X9: =COUNTIF(BW9:DF9,"=2") -> 6 | Y9: =COUNTIF(BW9:DF9,"=3") -> 4 | Z9: =COUNTIF(BW9:DF9,"=4") -> 4 | AA9: =COUNTIF(BW9:DF9,"=5") -> 2 | AC9: =COUNTIF(AJ9:BV9,"=1") -> 6 | AD9: =COUNTIF(AJ9:BV9,"=2") -> 6 | AE9: =COUNTIF(AJ9:BV9,"=3") -> 1 | AF9: =COUNTIF(AJ9:BV9,"=4") -> 5 | AG9: =COUNTIF(AJ9:BV9,"=5") -> 6 | AJ9: 5 | AK9: 5 | AL9: 5 | AM9: 1 | AN9: x | AO9: 2 | AP9: x | AQ9: 5 | AR9: x | AS9: 4 | AT9: x | AU9: 5 | AV9: 1 | AW9: x | AX9: x | AY9: x | AZ9: x | BA9: x | BB9: x | BC9: x | BD9: x | BE9: x | BF9: x | BG9: 5 | BH9: x | BI9: 3 | BJ9: 4 | BK9: 4 | BL9: 1 | BM9: 1 | BN9: 1 | BO9: 2 | BP9: 2 | BQ9: 2 | BR9: 1 | BS9: 2 | BT9: 4 | BU9: 4 | BV9: 2 | BW9: x | BX9: 5 | BY9: x | BZ9: 1 | CA9: 5 | CB9: 2 | CD9: x | CE9: x | CF9: x | CG9: x | CH9: x | CI9: 4 | CJ9: x | CK9: x | CL9: 2 | CM9: 3 | CN9: x | CO9: x | CP9: 2 | CQ9: x | CR9: x | CS9: 4 | CT9: x | CU9: 4 | CV9: x | CW9: 2 | CX9: 4 | CZ9: 3 | DA9: 2 | DB9: 3 | DC9: x | DD9: 2 | DE9: x | DF9: 3 | DG9: x | DH9: 5 | DJ9: x | DK9: x | DL9: 4 | DM9: 3 | DN9: 4 | DO9: 1 | DP9: x | DQ9: x | DR9: x | DS9: 3 | DT9: 3 | DU9: 1 | DV9: 4 | DW9: x | DX9: 3 | DY9: 2 | DZ9: x | EB9: x | EC9: x | ED9: x | EE9: 2 | EF9: 2 | EG9: 1 | EH9: 1 | EI9: 5 | EJ9: x | EK9: 4 | EL9: 3 | EM9: 2 | EN9: 5 | EP9: x | EQ9: x | ER9: x | ES9: 3 | ET9: 1 | EU9: 1 | EV9: 3 | EW9: 3 | EX9: 3 | EY9: 1 | EZ9: x | FA9: x | FB9: x | FC9: x | FD9: x | FE9: x | FF9: x | FG9: x | FH9: 5 | FI9: x | FJ9: x | FK9: 5 | FL9: x | FM9: 3 | FN9: 5 | FO9: x | FP9: 2 | FQ9: x | FR9: x | FS9: x | FT9: 2 | FU9: x | FV9: x | FW9: x | FX9: 1 | FY9: 5 | FZ9: x | GA9: x
A10: =A9+1 -> 2 | B10: muesli | D10: =COUNTIF(AI10:GA10,"<>") -> 142 | F10: =K10*5+L10*4+M10*3+N10+2+O10*1 -> 39 | G10: =Q10*5+R10*4+S10*3+T10*2+U10*1 -> 60 | H10: =W10*5+X10*4+Y10*3+Z10*2+AA10*1 -> 68 | I10: =AC10*5+AD10*4+AE10*3+AF10*2+AG10*1 -> 47 | K10: =COUNTIF(EO10:GA10,"=1") -> 1 | L10: =COUNTIF(EO10:GA10,"=2") -> 6 | M10: =COUNTIF(EO10:GA10,"=3") -> 1 | N10: =COUNTIF(EO10:GA10,"=4") -> 4 | O10: =COUNTIF(EO10:GA10,"=5") -> 1 | Q10: =COUNTIF(DG10:EN10,"=1") -> 3 | R10: =COUNTIF(DG10:EN10,"=2") -> 7 | S10: =COUNTIF(DG10:EN10,"=3") -> 2 | T10: =COUNTIF(DG10:EN10,"=4") -> 4 | U10: =COUNTIF(DG10:EN10,"=5") -> 3 | W10: =COUNTIF(BW10:DF10,"=1") -> 6 | X10: =COUNTIF(BW10:DF10,"=2") -> 5 | Y10: =COUNTIF(BW10:DF10,"=3") -> 3 | Z10: =COUNTIF(BW10:DF10,"=4") -> 4 | AA10: =COUNTIF(BW10:DF10,"=5") -> 1 | AC10: =COUNTIF(AJ10:BV10,"=1") -> 3 | AD10: =COUNTIF(AJ10:BV10,"=2") -> 3 | AE10: =COUNTIF(AJ10:BV10,"=3") -> 4 | AF10: =COUNTIF(AJ10:BV10,"=4") -> 3 | AG10: =COUNTIF(AJ10:BV10,"=5") -> 2 | AJ10: x | AK10: 2 | AL10: x | AM10: x | AN10: 4 | AO10: x | AP10: 1 | AR10: 3 | AS10: 2 | AT10: x | AU10: x | AV10: x | AX10: x | AY10: x | AZ10: x | BA10: x | BB10: 4 | BC10: x | BD10: x | BE10: 5 | BF10: x | BG10: 4 | BH10: x | BI10: x | BJ10: x | BK10: 3 | BL10: 5 | BM10: 3 | BN10: x | BO10: 1 | BP10: 1 | BQ10: x | BR10: 2 | BS10: x | BT10: x | BU10: 3 | BW10: 2 | BX10: 4 | BY10: 2 | BZ10: x | CA10: 4 | CB10: x | CC10: x | CD10: x | CE10: 1 | CF10: 3 | CG10: x | CH10: 3 | CI10: x | CJ10: x | CK10: x | CL10: 1 | CM10: 4 | CN10: x | CO10: 2 | CQ10: x | CR10: x | CS10: 1 | CT10: 1 | CU10: 1 | CV10: 2 | CW10: 4 | CX10: 3 | CY10: x | CZ10: x | DA10: 2 | DB10: x | DC10: 5 | DD10: x | DE10: x | DF10: 1 | DG10: 2 | DH10: 1 | DI10: 4 | DJ10: 5 | DK10: 3 | DL10: 2 | DM10: x | DN10: 2 | DO10: 4 | DP10: 2 | DQ10: 2 | DR10: x | DS10: 5 | DT10: 4 | DU10: x | DV10: x | DW10: 4 | DX10: x | DY10: x | DZ10: x | EA10: x | EB10: 3 | EC10: 1 | ED10: 5 | EE10: x | EG10: 2 | EH10: x | EI10: 2 | EJ10: 1 | EK10: x | EL10: x | EM10: x | EN10: x | EO10: x | EP10: x | EQ10: x | ER10: x | ES10: 4 | ET10: x | EU10: x | EV10: x | EW10: x | EY10: 5 | EZ10: 2 | FA10: 4 | FB10: x | FC10: 3 | FD10: x | FE10: x | FF10: x | FG10: x | FH10: x | FI10: x | FJ10: 4 | FK10: x | FL10: 2 | FM10: 1 | FN10: 4 | FO10: x | FP10: x | FQ10: 2 | FR10: x | FS10: x | FT10: x | FU10: x | FV10: 2 | FW10: 2 | FX10: x | FY10: x | FZ10: 2 | GA10: x
A11: =A10+1 -> 3 | B11: Claude D. | D11: =COUNTIF(AI11:GA11,"<>") -> 133 | F11: =K11*5+L11*4+M11*3+N11+2+O11*1 -> 41 | G11: =Q11*5+R11*4+S11*3+T11*2+U11*1 -> 46 | H11: =W11*5+X11*4+Y11*3+Z11*2+AA11*1 -> 31 | I11: =AC11*5+AD11*4+AE11*3+AF11*2+AG11*1 -> 65 | K11: =COUNTIF(EO11:GA11,"=1") -> 3 | L11: =COUNTIF(EO11:GA11,"=2") -> 4 | M11: =COUNTIF(EO11:GA11,"=3") -> 1 | N11: =COUNTIF(EO11:GA11,"=4") -> 2 | O11: =COUNTIF(EO11:GA11,"=5") -> 3 | Q11: =COUNTIF(DG11:EN11,"=1") -> 3 | R11: =COUNTIF(DG11:EN11,"=2") -> 4 | S11: =COUNTIF(DG11:EN11,"=3") -> 3 | T11: =COUNTIF(DG11:EN11,"=4") -> 2 | U11: =COUNTIF(DG11:EN11,"=5") -> 2 | W11: =COUNTIF(BW11:DF11,"=1") -> 2 | X11: =COUNTIF(BW11:DF11,"=2") -> 2 | Y11: =COUNTIF(BW11:DF11,"=3") -> 2 | Z11: =COUNTIF(BW11:DF11,"=4") -> 1 | AA11: =COUNTIF(BW11:DF11,"=5") -> 5 | AC11: =COUNTIF(AJ11:BV11,"=1") -> 4 | AD11: =COUNTIF(AJ11:BV11,"=2") -> 6 | AE11: =COUNTIF(AJ11:BV11,"=3") -> 6 | AF11: =COUNTIF(AJ11:BV11,"=4") -> 1 | AG11: =COUNTIF(AJ11:BV11,"=5") -> 1 | AJ11: x | AL11: x | AM11: 3 | AN11: 2 | AO11: x | AQ11: 2 | AR11: 2 | AS11: x | AT11: 2 | AU11: 3 | AV11: x | AX11: x | AY11: 1 | AZ11: 3 | BB11: 1 | BC11: 2 | BD11: x | BE11: x | BF11: x | BG11: x | BH11: 4 | BI11: 1 | BJ11: x | BK11: 1 | BL11: 2 | BM11: x | BN11: x | BO11: 3 | BP11: 3 | BQ11: 5 | BR11: x | BS11: x | BT11: x | BU11: x | BV11: 3 | BX11: 1 | BY11: 1 | CA11: 2 | CB11: x | CC11: 5 | CD11: 4 | CE11: 5 | CF11: x | CG11: 2 | CH11: x | CI11: 5 | CJ11: x | CK11: x | CO11: x | CP11: 5 | CQ11: x | CR11: 3 | CT11: x | CV11: x | CW11: x | CX11: x | CZ11: 5 | DA11: x | DB11: x | DC11: x | DD11: x | DE11: 3 | DF11: x | DG11: 3 | DH11: x | DI11: x | DJ11: x | DK11: x | DL11: x | DM11: 2 | DN11: 5 | DO11: 5 | DP11: 3 | DQ11: x | DR11: 1 | DS11: x | DT11: x | DU11: x | DV11: x | DW11: x | DX11: x | DY11: 1 | DZ11: 2 | EA11: 2 | EB11: x | EC11: x | ED11: 1 | EE11: x | EF11: x | EG11: 3 | EH11: x | EJ11: x | EK11: x | EL11: 2 | EM11: 4 | EN11: 4 | EO11: 2 | EP11: 2 | EQ11: x | ER11: 4 | ES11: 1 | ET11: x | EU11: x | EV11: x | EW11: x | EX11: x | EY11: x | EZ11: 1 | FA11: 5 | FB11: 2 | FC11: x | FE11: x | FF11: x | FG11: x | FH11: x | FI11: x | FJ11: x | FK11: x | FL11: 3 | FM11: 5 | FN11: 1 | FP11: x | FQ11: x | FR11: x | FS11: 5 | FT11: x | FU11: x | FV11: x | FW11: x | FX11: 2 | FY11: 4 | FZ11: x | GA11: x
A12: =A11+1 -> 4 | B12: säulenkaktus | D12: =COUNTIF(AI12:GA12,"<>") -> 129 | F12: =K12*5+L12*4+M12*3+N12+2+O12*1 -> 28 | G12: =Q12*5+R12*4+S12*3+T12*2+U12*1 -> 39 | H12: =W12*5+X12*4+Y12*3+Z12*2+AA12*1 -> 46 | I12: =AC12*5+AD12*4+AE12*3+AF12*2+AG12*1 -> 45 | K12: =COUNTIF(EO12:GA12,"=1") -> 0 | L12: =COUNTIF(EO12:GA12,"=2") -> 5 | M12: =COUNTIF(EO12:GA12,"=3") -> 1 | N12: =COUNTIF(EO12:GA12,"=4") -> 1 | O12: =COUNTIF(EO12:GA12,"=5") -> 2 | Q12: =COUNTIF(DG12:EN12,"=1") -> 3 | R12: =COUNTIF(DG12:EN12,"=2") -> 0 | S12: =COUNTIF(DG12:EN12,"=3") -> 6 | T12: =COUNTIF(DG12:EN12,"=4") -> 2 | U12: =COUNTIF(DG12:EN12,"=5") -> 2 | W12: =COUNTIF(BW12:DF12,"=1") -> 4 | X12: =COUNTIF(BW12:DF12,"=2") -> 3 | Y12: =COUNTIF(BW12:DF12,"=3") -> 2 | Z12: =COUNTIF(BW12:DF12,"=4") -> 3 | AA12: =COUNTIF(BW12:DF12,"=5") -> 2 | AC12: =COUNTIF(AJ12:BV12,"=1") -> 2 | AD12: =COUNTIF(AJ12:BV12,"=2") -> 3 | AE12: =COUNTIF(AJ12:BV12,"=3") -> 4 | AF12: =COUNTIF(AJ12:BV12,"=4") -> 4 | AG12: =COUNTIF(AJ12:BV12,"=5") -> 3 | AJ12: 4 | AK12: x | AL12: 3 | AM12: x | AN12: x | AO12: 4 | AP12: x | AQ12: x | AR12: x | AS12: 5 | AU12: x | AV12: x | AW12: 2 | AX12: x | AY12: x | AZ12: x | BA12: 3 | BC12: 1 | BD12: 3 | BE12: 3 | BF12: 5 | BG12: 1 | BH12: x | BI12: 5 | BJ12: x | BK12: 2 | BL12: x | BM12: x | BN12: x | BO12: x | BP12: x | BQ12: 4 | BR12: 4 | BS12: x | BT12: 2 | BU12: x | BW12: 4 | BX12: x | BY12: x | BZ12: 1 | CA12: x | CB12: 4 | CC12: 1 | CD12: 1 | CF12: 2 | CG12: 4 | CH12: x | CI12: x | CJ12: 5 | CK12: 3 | CM12: 1 | CN12: x | CO12: x | CP12: x | CQ12: x | CR12: x | CS12: 2 | CU12: x | CV12: x | CW12: x | CY12: x | CZ12: 2 | DA12: 5 | DD12: 3 | DE12: x | DF12: x | DG12: x | DH12: x | DJ12: 3 | DK12: 4 | DL12: 5 | DN12: x | DO12: 3 | DQ12: x | DR12: x | DS12: 1 | DT12: x | DU12: 4 | DV12: x | DX12: x | DZ12: 3 | EA12: x | EB12: x | EC12: 3 | ED12: x | EE12: x | EG12: x | EH12: x | EI12: 1 | EJ12: 3 | EK12: 1 | EL12: 5 | EM12: 3 | EN12: x | EP12: 3 | EQ12: x | ER12: 2 | ES12: x | ET12: x | EW12: 2 | EX12: x | EY12: x | EZ12: x | FA12: x | FB12: x | FC12: x | FD12: x | FE12: 2 | FF12: 4 | FG12: 2 | FH12: x | FI12: 2 | FJ12: x | FK12: x | FL12: x | FM12: x | FN12: x | FO12: 5 | FP12: x | FQ12: x | FR12: x | FS12: x | FT12: 5 | FU12: x | FV12: x | FX12: x | FY12: x | FZ12: x | GA12: x
A13: =A12+1 -> 5 | B13: Lothar | D13: =COUNTIF(AI13:GA13,"<>") -> 126 | F13: =K13*5+L13*4+M13*3+N13+2+O13*1 -> 38 | G13: =Q13*5+R13*4+S13*3+T13*2+U13*1 -> 26 | H13: =W13*5+X13*4+Y13*3+Z13*2+AA13*1 -> 67 | I13: =AC13*5+AD13*4+AE13*3+AF13*2+AG13*1 -> 62 | K13: =COUNTIF(EO13:GA13,"=1") -> 2 | L13: =COUNTIF(EO13:GA13,"=2") -> 2 | M13: =COUNTIF(EO13:GA13,"=3") -> 4 | N13: =COUNTIF(EO13:GA13,"=4") -> 3 | O13: =COUNTIF(EO13:GA13,"=5") -> 3 | Q13: =COUNTIF(DG13:EN13,"=1") -> 3 | R13: =COUNTIF(DG13:EN13,"=2") -> 0 | S13: =COUNTIF(DG13:EN13,"=3") -> 2 | T13: =COUNTIF(DG13:EN13,"=4") -> 2 | U13: =COUNTIF(DG13:EN13,"=5") -> 1 | W13: =COUNTIF(BW13:DF13,"=1") -> 4 | X13: =COUNTIF(BW13:DF13,"=2") -> 4 | Y13: =COUNTIF(BW13:DF13,"=3") -> 5 | Z13: =COUNTIF(BW13:DF13,"=4") -> 6 | AA13: =COUNTIF(BW13:DF13,"=5") -> 4 | AC13: =COUNTIF(AJ13:BV13,"=1") -> 3 | AD13: =COUNTIF(AJ13:BV13,"=2") -> 3 | AE13: =COUNTIF(AJ13:BV13,"=3") -> 5 | AF13: =COUNTIF(AJ13:BV13,"=4") -> 7 | AG13: =COUNTIF(AJ13:BV13,"=5") -> 6 | AK13: x | AL13: 2 | AM13: 5 | AN13: 5 | AO13: 5 | AP13: 3 | AQ13: 3 | AR13: x | AS13: x | AU13: 1 | AV13: 4 | AW13: x | AX13: 4 | AY13: 5 | BA13: x | BB13: x | BC13: 3 | BD13: 5 | BE13: 2 | BF13: x | BG13: x | BH13: 3 | BI13: 4 | BJ13: x | BK13: 5 | BL13: x | BM13: 4 | BN13: 2 | BO13: 4 | BP13: x | BQ13: 1 | BR13: 3 | BS13: 4 | BT13: x | BU13: 1 | BV13: 4 | BW13: 3 | BX13: x | BY13: 4 | BZ13: 3 | CA13: 3 | CC13: 2 | CD13: 3 | CE13: x | CF13: 4 | CG13: 3 | CH13: 1 | CI13: 1 | CJ13: x | CK13: 1 | CL13: x | CM13: 5 | CN13: x | CO13: 4 | CQ13: 4 | CR13: 1 | CS13: 5 | CT13: 4 | CU13: x | CV13: 5 | CW13: 5 | CX13: x | CY13: x | DA13: 2 | DB13: 2 | DC13: x | DD13: x | DE13: 4 | DF13: 2 | DG13: 1 | DH13: x | DI13: x | DJ13: x | DO13: x | DP13: x | DQ13: 3 | DR13: x | DS13: x | DT13: x | DV13: 3 | DW13: 1 | DX13: 5 | DY13: x | DZ13: x | EA13: x | EB13: x | EC13: x | ED13: x | EE13: x | EG13: x | EH13: 4 | EJ13: 4 | EK13: x | EL13: 1 | EN13: x | EP13: 5 | EQ13: 1 | ER13: x | ET13: x | EU13: 3 | EV13: 5 | EY13: x | EZ13: x | FA13: x | FB13: x | FD13: 4 | FE13: x | FF13: 2 | FG13: x | FH13: 3 | FJ13: x | FK13: x | FL13: 4 | FM13: x | FN13: 3 | FP13: x | FQ13: 3 | FR13: x | FS13: 2 | FT13: 1 | FU13: x | FV13: x | FW13: x | FY13: x | FZ13: 4 | GA13: 5
A14: =A13+1 -> 6 | B14: Vichy | D14: =COUNTIF(AI14:GA14,"<>") -> 114 | F14: =K14*5+L14*4+M14*3+N14+2+O14*1 -> 60 | G14: =Q14*5+R14*4+S14*3+T14*2+U14*1 -> 18 | H14: =W14*5+X14*4+Y14*3+Z14*2+AA14*1 -> 50 | I14: =AC14*5+AD14*4+AE14*3+AF14*2+AG14*1 -> 16 | K14: =COUNTIF(EO14:GA14,"=1") -> 4 | L14: =COUNTIF(EO14:GA14,"=2") -> 4 | M14: =COUNTIF(EO14:GA14,"=3") -> 6 | N14: =COUNTIF(EO14:GA14,"=4") -> 2 | O14: =COUNTIF(EO14:GA14,"=5") -> 2 | Q14: =COUNTIF(DG14:EN14,"=1") -> 0 | R14: =COUNTIF(DG14:EN14,"=2") -> 1 | S14: =COUNTIF(DG14:EN14,"=3") -> 3 | T14: =COUNTIF(DG14:EN14,"=4") -> 2 | U14: =COUNTIF(DG14:EN14,"=5") -> 1 | W14: =COUNTIF(BW14:DF14,"=1") -> 4 | X14: =COUNTIF(BW14:DF14,"=2") -> 5 | Y14: =COUNTIF(BW14:DF14,"=3") -> 2 | Z14: =COUNTIF(BW14:DF14,"=4") -> 1 | AA14: =COUNTIF(BW14:DF14,"=5") -> 2 | AC14: =COUNTIF(AJ14:BV14,"=1") -> 0 | AD14: =COUNTIF(AJ14:BV14,"=2") -> 0 | AE14: =COUNTIF(AJ14:BV14,"=3") -> 3 | AF14: =COUNTIF(AJ14:BV14,"=4") -> 2 | AG14: =COUNTIF(AJ14:BV14,"=5") -> 3 | AK14: 3 | AL14: x | AX14: 3 | AZ14: x | BG14: x | BJ14: 5 | BK14: x | BL14: x | BM14: x | BN14: 4 | BP14: 4 | BR14: x | BS14: 5 | BT14: 3 | BU14: 5 | BV14: x | BW14: x | BX14: 2 | BY14: 5 | BZ14: x | CB14: 3 | CC14: x | CD14: x | CE14: x | CF14: 1 | CG14: x | CH14: 2 | CI14: 2 | CJ14: 1 | CK14: x | CL14: x | CM14: 2 | CN14: x | CO14: 5 | CP14: 4 | CQ14: x | CR14: x | CS14: x | CT14: x | CU14: x | CV14: x | CW14: 1 | CX14: 2 | CY14: x | CZ14: x | DA14: x | DB14: x | DC14: 3 | DD14: x | DE14: 1 | DH14: 4 | DI14: x | DJ14: x | DK14: x | DL14: x | DN14: 3 | DO14: x | DP14: x | DQ14: 5 | DT14: x | DU14: x | DV14: x | DW14: x | DX14: 2 | EA14: 3 | EB14: x | EC14: x | ED14: x | EE14: 3 | EF14: x | EG14: x | EH14: x | EI14: x | EJ14: x | EL14: 4 | EM14: x | EN14: x | EO14: 3 | EP14: x | EQ14: 3 | ER14: x | ES14: x | EU14: x | EV14: 1 | EW14: x | EX14: 2 | EY14: 4 | EZ14: 4 | FA14: x | FB14: 5 | FC14: x | FD14: 3 | FE14: x | FF14: x | FG14: 3 | FH14: x | FI14: x | FJ14: 1 | FK14: x | FL14: x | FM14: 2 | FN14: x | FO14: x | FP14: 3 | FQ14: x | FR14: 2 | FS14: x | FT14: x | FU14: 2 | FV14: 3 | FW14: 1 | FX14: 5 | FZ14: 1 | GA14: x
A15: =A14+1 -> 7 | B15: kartenhai | D15: =COUNTIF(AI15:GA15,"<>") -> 108 | F15: =K15*5+L15*4+M15*3+N15+2+O15*1 -> 19 | G15: =Q15*5+R15*4+S15*3+T15*2+U15*1 -> 51 | H15: =W15*5+X15*4+Y15*3+Z15*2+AA15*1 -> 41 | I15: =AC15*5+AD15*4+AE15*3+AF15*2+AG15*1 -> 60 | K15: =COUNTIF(EO15:GA15,"=1") -> 2 | L15: =COUNTIF(EO15:GA15,"=2") -> 0 | M15: =COUNTIF(EO15:GA15,"=3") -> 1 | N15: =COUNTIF(EO15:GA15,"=4") -> 2 | O15: =COUNTIF(EO15:GA15,"=5") -> 2 | Q15: =COUNTIF(DG15:EN15,"=1") -> 6 | R15: =COUNTIF(DG15:EN15,"=2") -> 3 | S15: =COUNTIF(DG15:EN15,"=3") -> 1 | T15: =COUNTIF(DG15:EN15,"=4") -> 2 | U15: =COUNTIF(DG15:EN15,"=5") -> 2 | W15: =COUNTIF(BW15:DF15,"=1") -> 5 | X15: =COUNTIF(BW15:DF15,"=2") -> 1 | Y15: =COUNTIF(BW15:DF15,"=3") -> 2 | Z15: =COUNTIF(BW15:DF15,"=4") -> 1 | AA15: =COUNTIF(BW15:DF15,"=5") -> 4 | AC15: =COUNTIF(AJ15:BV15,"=1") -> 10 | AD15: =COUNTIF(AJ15:BV15,"=2") -> 2 | AE15: =COUNTIF(AJ15:BV15,"=3") -> 0 | AF15: =COUNTIF(AJ15:BV15,"=4") -> 1 | AG15: =COUNTIF(AJ15:BV15,"=5") -> 0 | AJ15: 1 | AK15: x | AL15: 1 | AM15: x | AN15: x | AP15: x | AQ15: 4 | AR15: 1 | AS15: 1 | AT15: x | AW15: x | AY15: x | AZ15: x | BA15: 1 | BC15: x | BD15: 2 | BE15: x | BF15: 1 | BI15: x | BJ15: 1 | BK15: x | BL15: x | BM15: x | BN15: x | BO15: x | BP15: x | BQ15: x | BR15: x | BS15: 1 | BT15: 1 | BU15: 2 | BV15: 1 | BW15: 1 | BY15: x | BZ15: x | CB15: x | CC15: 4 | CD15: 5 | CE15: 3 | CF15: x | CG15: x | CH15: x | CI15: x | CJ15: x | CK15: 5 | CL15: x | CM15: x | CO15: x | CP15: x | CQ15: 3 | CR15: 1 | CU15: 2 | CX15: 1 | CY15: 5 | CZ15: 1 | DA15: x | DB15: x | DC15: 1 | DD15: 5 | DF15: x | DH15: 2 | DI15: x | DJ15: 1 | DK15: 2 | DM15: 1 | DN15: 1 | DP15: 1 | DQ15: x | DR15: x | DS15: x | DT15: 5 | DV15: x | DW15: 2 | DY15: 3 | DZ15: x | EA15: x | EB15: 1 | EC15: 4 | ED15: 4 | EF15: 1 | EG15: x | EI15: x | EK15: 5 | EQ15: 5 | ER15: x | ES15: x | EU15: x | EV15: x | EX15: x | EY15: x | EZ15: x | FA15: x | FB15: 4 | FC15: 4 | FD15: x | FG15: x | FH15: x | FI15: x | FJ15: 5 | FK15: x | FL15: 1 | FR15: x | FS15: x | FT15: x | FV15: x | FY15: 1 | FZ15: 3 | GA15: x
A16: =A15+1 -> 8 | B16: ja2911 | D16: =COUNTIF(AI16:GA16,"<>") -> 105 | F16: =K16*5+L16*4+M16*3+N16+2+O16*1 -> 28 | G16: =Q16*5+R16*4+S16*3+T16*2+U16*1 -> 54 | H16: =W16*5+X16*4+Y16*3+Z16*2+AA16*1 -> 20 | I16: =AC16*5+AD16*4+AE16*3+AF16*2+AG16*1 -> 29 | K16: =COUNTIF(EO16:GA16,"=1") -> 0 | L16: =COUNTIF(EO16:GA16,"=2") -> 4 | M16: =COUNTIF(EO16:GA16,"=3") -> 2 | N16: =COUNTIF(EO16:GA16,"=4") -> 2 | O16: =COUNTIF(EO16:GA16,"=5") -> 2 | Q16: =COUNTIF(DG16:EN16,"=1") -> 3 | R16: =COUNTIF(DG16:EN16,"=2") -> 4 | S16: =COUNTIF(DG16:EN16,"=3") -> 6 | T16: =COUNTIF(DG16:EN16,"=4") -> 2 | U16: =COUNTIF(DG16:EN16,"=5") -> 1 | W16: =COUNTIF(BW16:DF16,"=1") -> 0 | X16: =COUNTIF(BW16:DF16,"=2") -> 3 | Y16: =COUNTIF(BW16:DF16,"=3") -> 1 | Z16: =COUNTIF(BW16:DF16,"=4") -> 2 | AA16: =COUNTIF(BW16:DF16,"=5") -> 1 | AC16: =COUNTIF(AJ16:BV16,"=1") -> 1 | AD16: =COUNTIF(AJ16:BV16,"=2") -> 2 | AE16: =COUNTIF(AJ16:BV16,"=3") -> 3 | AF16: =COUNTIF(AJ16:BV16,"=4") -> 3 | AG16: =COUNTIF(AJ16:BV16,"=5") -> 1 | AO16: x | AP16: x | AQ16: x | AR16: x | AS16: 3 | AT16: x | AU16: 4 | AV16: 2 | AW16: x | AX16: 5 | AY16: 4 | AZ16: 1 | BA16: 4 | BB16: x | BC16: x | BE16: x | BF16: 2 | BG16: x | BH16: x | BI16: x | BK16: x | BL16: 3 | BN16: 3 | BU16: x | BW16: x | BX16: 3 | BY16: x | CC16: x | CI16: x | CK16: 2 | CQ16: x | CR16: x | CU16: x | CV16: x | CW16: x | CY16: 2 | DA16: x | DB16: 4 | DC16: 2 | DD16: x | DE16: 5 | DF16: 4 | DG16: x | DH16: 3 | DI16: 3 | DJ16: 4 | DK16: x | DL16: 3 | DO16: 2 | DP16: x | DQ16: x | DR16: x | DS16: 2 | DT16: 2 | DU16: 3 | DV16: x | DX16: 1 | DY16: 4 | DZ16: 5 | EA16: x | EB16: x | EC16: x | ED16: x | EE16: 1 | EF16: x | EH16: 3 | EI16: 3 | EJ16: x | EK16: x | EL16: x | EM16: 1 | EN16: 2 | EO16: x | EP16: x | EQ16: x | ER16: x | ES16: 2 | ET16: 2 | EU16: x | EV16: x | EW16: x | EX16: x | EY16: 2 | FF16: 5 | FG16: x | FH16: x | FI16: x | FJ16: 3 | FK16: 3 | FL16: 5 | FM16: x | FN16: x | FO16: 2 | FP16: 4 | FQ16: x | FR16: x | FS16: x | FT16: x | FU16: x | FV16: 4 | FW16: x | FX16: x | FY16: x | FZ16: x | GA16: x
A17: =A16+1 -> 9 | B17: hallerc4 | D17: =COUNTIF(AI17:GA17,"<>") -> 105 | F17: =K17*5+L17*4+M17*3+N17+2+O17*1 -> 17 | G17: =Q17*5+R17*4+S17*3+T17*2+U17*1 -> 35 | H17: =W17*5+X17*4+Y17*3+Z17*2+AA17*1 -> 40 | I17: =AC17*5+AD17*4+AE17*3+AF17*2+AG17*1 -> 45 | K17: =COUNTIF(EO17:GA17,"=1") -> 1 | L17: =COUNTIF(EO17:GA17,"=2") -> 1 | M17: =COUNTIF(EO17:GA17,"=3") -> 1 | N17: =COUNTIF(EO17:GA17,"=4") -> 2 | O17: =COUNTIF(EO17:GA17,"=5") -> 1 | Q17: =COUNTIF(DG17:EN17,"=1") -> 2 | R17: =COUNTIF(DG17:EN17,"=2") -> 2 | S17: =COUNTIF(DG17:EN17,"=3") -> 2 | T17: =COUNTIF(DG17:EN17,"=4") -> 2 | U17: =COUNTIF(DG17:EN17,"=5") -> 7 | W17: =COUNTIF(BW17:DF17,"=1") -> 3 | X17: =COUNTIF(BW17:DF17,"=2") -> 2 | Y17: =COUNTIF(BW17:DF17,"=3") -> 2 | Z17: =COUNTIF(BW17:DF17,"=4") -> 5 | AA17: =COUNTIF(BW17:DF17,"=5") -> 1 | AC17: =COUNTIF(AJ17:BV17,"=1") -> 2 | AD17: =COUNTIF(AJ17:BV17,"=2") -> 6 | AE17: =COUNTIF(AJ17:BV17,"=3") -> 1 | AF17: =COUNTIF(AJ17:BV17,"=4") -> 1 | AG17: =COUNTIF(AJ17:BV17,"=5") -> 6 | AJ17: 2 | AL17: x | AM17: 4 | AO17: x | AP17: 2 | AR17: 5 | AS17: x | AT17: 5 | AU17: 2 | AV17: 5 | AW17: 1 | AX17: 1 | AZ17: x | BA17: 2 | BB17: 5 | BC17: x | BE17: x | BG17: 2 | BH17: x | BJ17: 2 | BK17: x | BL17: x | BM17: x | BN17: x | BO17: x | BP17: 5 | BQ17: 3 | BR17: x | BS17: x | BT17: x | BU17: x | BV17: 5 | BW17: x | BX17: x | BY17: x | BZ17: x | CA17: 1 | CB17: 1 | CC17: x | CD17: x | CE17: x | CF17: x | CG17: 4 | CH17: 4 | CQ17: 2 | CR17: 4 | CS17: x | CT17: x | CU17: 3 | CV17: 4 | CW17: x | CX17: 5 | CY17: 3 | CZ17: x | DA17: 1 | DC17: x | DD17: 4 | DE17: 2 | DG17: 5 | DH17: x | DJ17: x | DK17: 5 | DL17: x | DM17: 5 | DN17: x | DO17: x | DP17: 4 | DQ17: 1 | DR17: 3 | DS17: x | DT17: x | DU17: 5 | DV17: 2 | DW17: 5 | DX17: x | DY17: 5 | DZ17: x | EA17: x | EB17: 5 | EC17: x | ED17: x | EE17: x | EF17: 3 | EG17: x | EH17: 2 | EI17: 4 | EJ17: x | EK17: x | EM17: x | EN17: 1 | EQ17: x | ER17: 1 | ES17: x | ET17: x | EU17: 5 | EV17: 2 | EW17: 4 | EX17: x | EY17: x | EZ17: x | FB17: x | FC17: x | FD17: x | FE17: 3 | FH17: 4
A18: =A17+1 -> 10 | B18: 241264hsv-fan | D18: =COUNTIF(AI18:GA18,"<>") -> 104 | F18: =K18*5+L18*4+M18*3+N18+2+O18*1 -> 22 | G18: =Q18*5+R18*4+S18*3+T18*2+U18*1 -> 18 | H18: =W18*5+X18*4+Y18*3+Z18*2+AA18*1 -> 21 | I18: =AC18*5+AD18*4+AE18*3+AF18*2+AG18*1 -> 61 | K18: =COUNTIF(EO18:GA18,"=1") -> 0 | L18: =COUNTIF(EO18:GA18,"=2") -> 1 | M18: =COUNTIF(EO18:GA18,"=3") -> 2 | N18: =COUNTIF(EO18:GA18,"=4") -> 6 | O18: =COUNTIF(EO18:GA18,"=5") -> 4 | Q18: =COUNTIF(DG18:EN18,"=1") -> 0 | R18: =COUNTIF(DG18:EN18,"=2") -> 3 | S18: =COUNTIF(DG18:EN18,"=3") -> 0 | T18: =COUNTIF(DG18:EN18,"=4") -> 2 | U18: =COUNTIF(DG18:EN18,"=5") -> 2 | W18: =COUNTIF(BW18:DF18,"=1") -> 0 | X18: =COUNTIF(BW18:DF18,"=2") -> 1 | Y18: =COUNTIF(BW18:DF18,"=3") -> 3 | Z18: =COUNTIF(BW18:DF18,"=4") -> 3 | AA18: =COUNTIF(BW18:DF18,"=5") -> 2 | AC18: =COUNTIF(AJ18:BV18,"=1") -> 5 | AD18: =COUNTIF(AJ18:BV18,"=2") -> 5 | AE18: =COUNTIF(AJ18:BV18,"=3") -> 3 | AF18: =COUNTIF(AJ18:BV18,"=4") -> 3 | AG18: =COUNTIF(AJ18:BV18,"=5") -> 1 | AJ18: 3 | AK18: 4 | AL18: 4 | AM18: 2 | AN18: 1 | AQ18: 1 | AR18: x | AV18: 3 | AW18: 3 | AX18: x | AY18: 2 | AZ18: 1 | BB18: 2 | BC18: 4 | BD18: 1 | BE18: 1 | BH18: 5 | BI18: 2 | BJ18: x | BK18: x | BL18: x | BM18: 2 | BN18: x | BU18: x | BW18: 5 | BX18: x | BY18: x | BZ18: 4 | CA18: x | CD18: x | CF18: x | CG18: x | CH18: x | CI18: x | CJ18: 2 | CK18: 4 | CL18: 5 | CM18: x | CN18: 3 | CO18: x | CR18: 4 | CS18: x | CT18: 3 | CV18: 3 | CW18: x | CX18: x | CY18: x | CZ18: x | DA18: x | DC18: x | DD18: x | DE18: x | DG18: x | DH18: x | DI18: 5 | DJ18: x | DK18: x | DL18: x | DM18: 4 | DO18: x | DP18: x | DR18: 2 | DY18: x | DZ18: 4 | EA18: 5 | EB18: 2 | EC18: x | ED18: x | EH18: x | EJ18: 2 | EO18: 5 | EP18: x | EQ18: x | ER18: 3 | ES18: x | ET18: x | EV18: 4 | EW18: 5 | EX18: x | EZ18: x | FA18: x | FB18: x | FC18: x | FE18: x | FF18: x | FG18: 4 | FI18: 5 | FJ18: x | FK18: x | FL18: x | FM18: x | FN18: x | FO18: x | FQ18: 4 | FR18: 4 | FS18: x | FT18: 4 | FU18: x | FV18: x | FW18: 4 | FX18: x | FY18: 2 | FZ18: 5 | GA18: 3
A19: =A18+1 -> 11 | B19: am1937a | D19: =COUNTIF(AI19:GA19,"<>") -> 90 | F19: =K19*5+L19*4+M19*3+N19+2+O19*1 -> 25 | G19: =Q19*5+R19*4+S19*3+T19*2+U19*1 -> 5 | H19: =W19*5+X19*4+Y19*3+Z19*2+AA19*1 -> 22 | I19: =AC19*5+AD19*4+AE19*3+AF19*2+AG19*1 -> 34 | K19: =COUNTIF(EO19:GA19,"=1") -> 1 | L19: =COUNTIF(EO19:GA19,"=2") -> 2 | M19: =COUNTIF(EO19:GA19,"=3") -> 3 | N19: =COUNTIF(EO19:GA19,"=4") -> 1 | O19: =COUNTIF(EO19:GA19,"=5") -> 0 | Q19: =COUNTIF(DG19:EN19,"=1") -> 1 | R19: =COUNTIF(DG19:EN19,"=2") -> 0 | S19: =COUNTIF(DG19:EN19,"=3") -> 0 | T19: =COUNTIF(DG19:EN19,"=4") -> 0 | U19: =COUNTIF(DG19:EN19,"=5") -> 0 | W19: =COUNTIF(BW19:DF19,"=1") -> 1 | X19: =COUNTIF(BW19:DF19,"=2") -> 1 | Y19: =COUNTIF(BW19:DF19,"=3") -> 0 | Z19: =COUNTIF(BW19:DF19,"=4") -> 5 | AA19: =COUNTIF(BW19:DF19,"=5") -> 3 | AC19: =COUNTIF(AJ19:BV19,"=1") -> 3 | AD19: =COUNTIF(AJ19:BV19,"=2") -> 0 | AE19: =COUNTIF(AJ19:BV19,"=3") -> 3 | AF19: =COUNTIF(AJ19:BV19,"=4") -> 2 | AG19: =COUNTIF(AJ19:BV19,"=5") -> 6 | AK19: 1 | AL19: x | AN19: x | AO19: x | AP19: 5 | AT19: 1 | AY19: 3 | AZ19: 5 | BA19: 5 | BB19: 3 | BF19: 4 | BH19: 1 | BI19: x | BK19: x | BL19: 4 | BM19: 5 | BN19: 5 | BO19: 5 | BS19: 3 | BT19: x | BU19: x | BX19: x | CB19: x | CE19: 4 | CF19: 5 | CG19: x | CH19: 5 | CI19: x | CJ19: x | CL19: 4 | CM19: x | CN19: 5 | CQ19: 1 | CR19: x | CS19: x | CT19: 2 | CU19: x | CV19: x | CX19: x | CY19: 4 | DA19: x | DC19: 4 | DD19: x | DF19: 4 | DG19: x | DH19: x | DI19: 1 | DJ19: x | DP19: x | DS19: x | DT19: x | DW19: x | DX19: x | EA19: x | EB19: x | EC19: x | ED19: x | EE19: x | EF19: x | EI19: x | EK19: x | EP19: x | EQ19: x | ER19: x | ES19: x | EX19: x | EY19: x | EZ19: x | FA19: 1 | FB19: x | FC19: x | FD19: x | FE19: 3 | FF19: 3 | FG19: x | FH19: x | FI19: 4 | FJ19: 2 | FK19: x | FL19: x | FM19: x | FP19: x | FR19: x | FS19: x | FT19: x | FU19: x | FV19: x | FW19: 3 | FX19: 2 | FZ19: x
A20: =A19+1 -> 12 | B20: Nicht Profi | D20: =COUNTIF(AI20:GA20,"<>") -> 75 | F20: =K20*5+L20*4+M20*3+N20+2+O20*1 -> 38 | G20: =Q20*5+R20*4+S20*3+T20*2+U20*1 -> 21 | H20: =W20*5+X20*4+Y20*3+Z20*2+AA20*1 -> 5 | I20: =AC20*5+AD20*4+AE20*3+AF20*2+AG20*1 -> 16 | K20: =COUNTIF(EO20:GA20,"=1") -> 2 | L20: =COUNTIF(EO20:GA20,"=2") -> 2 | M20: =COUNTIF(EO20:GA20,"=3") -> 4 | N20: =COUNTIF(EO20:GA20,"=4") -> 1 | O20: =COUNTIF(EO20:GA20,"=5") -> 5 | Q20: =COUNTIF(DG20:EN20,"=1") -> 1 | R20: =COUNTIF(DG20:EN20,"=2") -> 1 | S20: =COUNTIF(DG20:EN20,"=3") -> 2 | T20: =COUNTIF(DG20:EN20,"=4") -> 1 | U20: =COUNTIF(DG20:EN20,"=5") -> 4 | W20: =COUNTIF(BW20:DF20,"=1") -> 1 | X20: =COUNTIF(BW20:DF20,"=2") -> 0 | Y20: =COUNTIF(BW20:DF20,"=3") -> 0 | Z20: =COUNTIF(BW20:DF20,"=4") -> 0 | AA20: =COUNTIF(BW20:DF20,"=5") -> 0 | AC20: =COUNTIF(AJ20:BV20,"=1") -> 0 | AD20: =COUNTIF(AJ20:BV20,"=2") -> 0 | AE20: =COUNTIF(AJ20:BV20,"=3") -> 4 | AF20: =COUNTIF(AJ20:BV20,"=4") -> 1 | AG20: =COUNTIF(AJ20:BV20,"=5") -> 2 | AK20: x | AL20: x | AM20: x | AN20: 3 | AR20: x | AT20: x | AV20: x | AW20: 5 | AZ20: 4 | BC20: 5 | BD20: x | BE20: x | BF20: 3 | BG20: 3 | BH20: x | BJ20: 3 | BT20: x | CA20: x | CB20: x | CC20: x | CE20: x | CF20: x | CG20: 1 | CN20: x | CO20: x | CP20: x | CS20: x | CU20: x | DP20: x | DQ20: 4 | DR20: 5 | DS20: x | DU20: 2 | DV20: 5 | DW20: x | EA20: 1 | EB20: x | EC20: x | ED20: x | EE20: x | EH20: x | EJ20: 5 | EK20: 3 | EL20: x | EM20: 5 | EN20: 3 | EP20: x | EQ20: 2 | ER20: 5 | ES20: 5 | ET20: 3 | EU20: 2 | EV20: x | EW20: 1 | EX20: 1 | EY20: 3 | EZ20: 3 | FA20: x | FB20: x | FD20: 5 | FG20: x | FJ20: x | FL20: x | FM20: 4 | FN20: x | FO20: 3 | FP20: x | FQ20: x | FR20: 5 | FU20: 5 | FV20: x | FX20: x | FY20: x | FZ20: x | GA20: x
A21: =A20+1 -> 13 | B21: Usul3 | D21: =COUNTIF(AI21:GA21,"<>") -> 60 | F21: =K21*5+L21*4+M21*3+N21+2+O21*1 -> 36 | G21: =Q21*5+R21*4+S21*3+T21*2+U21*1 -> 34 | H21: =W21*5+X21*4+Y21*3+Z21*2+AA21*1 -> 33 | I21: =AC21*5+AD21*4+AE21*3+AF21*2+AG21*1 -> 0 | K21: =COUNTIF(EO21:GA21,"=1") -> 4 | L21: =COUNTIF(EO21:GA21,"=2") -> 1 | M21: =COUNTIF(EO21:GA21,"=3") -> 2 | N21: =COUNTIF(EO21:GA21,"=4") -> 2 | O21: =COUNTIF(EO21:GA21,"=5") -> 2 | Q21: =COUNTIF(DG21:EN21,"=1") -> 4 | R21: =COUNTIF(DG21:EN21,"=2") -> 2 | S21: =COUNTIF(DG21:EN21,"=3") -> 2 | T21: =COUNTIF(DG21:EN21,"=4") -> 0 | U21: =COUNTIF(DG21:EN21,"=5") -> 0 | W21: =COUNTIF(BW21:DF21,"=1") -> 4 | X21: =COUNTIF(BW21:DF21,"=2") -> 0 | Y21: =COUNTIF(BW21:DF21,"=3") -> 2 | Z21: =COUNTIF(BW21:DF21,"=4") -> 3 | AA21: =COUNTIF(BW21:DF21,"=5") -> 1 | AC21: =COUNTIF(AJ21:BV21,"=1") -> 0 | AD21: =COUNTIF(AJ21:BV21,"=2") -> 0 | AE21: =COUNTIF(AJ21:BV21,"=3") -> 0 | AF21: =COUNTIF(AJ21:BV21,"=4") -> 0 | AG21: =COUNTIF(AJ21:BV21,"=5") -> 0 | BY21: 3 | BZ21: 4 | CC21: 3 | CE21: x | CH21: x | CI21: x | CJ21: 4 | CL21: x | CN21: 1 | CO21: 1 | CP21: 1 | CQ21: x | CT21: 5 | CU21: x | CV21: x | CY21: 1 | CZ21: 4 | DA21: x | DJ21: 2 | DK21: 1 | DL21: 1 | DN21: x | DP21: x | DR21: x | DS21: x | DT21: 1 | DV21: 1 | DW21: 3 | ED21: 3 | EJ21: x | EK21: 2 | EM21: x | EO21: 4 | EP21: 4 | EQ21: x | ER21: x | ET21: x | EW21: x | EX21: 5 | EZ21: x | FA21: 3 | FB21: 1 | FC21: x | FE21: x | FF21: x | FG21: x | FI21: 1 | FJ21: x | FK21: x | FN21: 2 | FO21: x | FQ21: 1 | FR21: 1 | FS21: x | FU21: x | FW21: 5 | FX21: x | FY21: 3 | FZ21: x | GA21: x
A22: =A21+1 -> 14 | B22: King_Franky | D22: =COUNTIF(AI22:GA22,"<>") -> 59 | F22: =K22*5+L22*4+M22*3+N22+2+O22*1 -> 56 | G22: =Q22*5+R22*4+S22*3+T22*2+U22*1 -> 28 | H22: =W22*5+X22*4+Y22*3+Z22*2+AA22*1 -> 2 | I22: =AC22*5+AD22*4+AE22*3+AF22*2+AG22*1 -> 0 | K22: =COUNTIF(EO22:GA22,"=1") -> 7 | L22: =COUNTIF(EO22:GA22,"=2") -> 1 | M22: =COUNTIF(EO22:GA22,"=3") -> 3 | N22: =COUNTIF(EO22:GA22,"=4") -> 5 | O22: =COUNTIF(EO22:GA22,"=5") -> 1 | Q22: =COUNTIF(DG22:EN22,"=1") -> 1 | R22: =COUNTIF(DG22:EN22,"=2") -> 2 | S22: =COUNTIF(DG22:EN22,"=3") -> 0 | T22: =COUNTIF(DG22:EN22,"=4") -> 6 | U22: =COUNTIF(DG22:EN22,"=5") -> 3 | W22: =COUNTIF(BW22:DF22,"=1") -> 0 | X22: =COUNTIF(BW22:DF22,"=2") -> 0 | Y22: =COUNTIF(BW22:DF22,"=3") -> 0 | Z22: =COUNTIF(BW22:DF22,"=4") -> 0 | AA22: =COUNTIF(BW22:DF22,"=5") -> 2 | AC22: =COUNTIF(AJ22:BV22,"=1") -> 0 | AD22: =COUNTIF(AJ22:BV22,"=2") -> 0 | AE22: =COUNTIF(AJ22:BV22,"=3") -> 0 | AF22: =COUNTIF(AJ22:BV22,"=4") -> 0 | AG22: =COUNTIF(AJ22:BV22,"=5") -> 0 | BU22: x | CB22: 5 | CC22: x | CV22: x | CW22: x | CX22: x | CY22: x | DB22: 5 | DD22: x | DG22: 4 | DI22: 2 | DO22: x | DP22: 5 | DR22: x | DS22: 4 | DW22: x | DX22: 4 | DY22: x | DZ22: x | EA22: 4 | EB22: 4 | EC22: 2 | ED22: 1 | EE22: 4 | EF22: 5 | EG22: 5 | EH22: x | EL22: x | EM22: x | EN22: x | EO22: 1 | EP22: 1 | EQ22: x | ET22: 4 | EU22: 4 | EX22: x | EY22: x | FA22: x | FB22: 3 | FC22: 2 | FD22: 1 | FE22: x | FF22: x | FG22: 5 | FH22: 1 | FI22: x | FJ22: x | FK22: 1 | FL22: x | FM22: x | FN22: x | FO22: 4 | FP22: 1 | FQ22: x | FR22: 3 | FS22: 4 | FT22: 3 | FU22: 4 | FV22: 1
A23: =A22+1 -> 15 | B23: Norrsken | D23: =COUNTIF(AI23:GA23,"<>") -> 47 | F23: =K23*5+L23*4+M23*3+N23+2+O23*1 -> 26 | G23: =Q23*5+R23*4+S23*3+T23*2+U23*1 -> 14 | H23: =W23*5+X23*4+Y23*3+Z23*2+AA23*1 -> 0 | I23: =AC23*5+AD23*4+AE23*3+AF23*2+AG23*1 -> 0 | K23: =COUNTIF(EO23:GA23,"=1") -> 1 | L23: =COUNTIF(EO23:GA23,"=2") -> 3 | M23: =COUNTIF(EO23:GA23,"=3") -> 1 | N23: =COUNTIF(EO23:GA23,"=4") -> 2 | O23: =COUNTIF(EO23:GA23,"=5") -> 2 | Q23: =COUNTIF(DG23:EN23,"=1") -> 1 | R23: =COUNTIF(DG23:EN23,"=2") -> 0 | S23: =COUNTIF(DG23:EN23,"=3") -> 0 | T23: =COUNTIF(DG23:EN23,"=4") -> 3 | U23: =COUNTIF(DG23:EN23,"=5") -> 3 | W23: =COUNTIF(BW23:DF23,"=1") -> 0 | X23: =COUNTIF(BW23:DF23,"=2") -> 0 | Y23: =COUNTIF(BW23:DF23,"=3") -> 0 | Z23: =COUNTIF(BW23:DF23,"=4") -> 0 | AA23: =COUNTIF(BW23:DF23,"=5") -> 0 | AC23: =COUNTIF(AJ23:BV23,"=1") -> 0 | AD23: =COUNTIF(AJ23:BV23,"=2") -> 0 | AE23: =COUNTIF(AJ23:BV23,"=3") -> 0 | AF23: =COUNTIF(AJ23:BV23,"=4") -> 0 | AG23: =COUNTIF(AJ23:BV23,"=5") -> 0 | DR23: 4 | DS23: x | DU23: x | DX23: x | DY23: x | DZ23: 1 | EA23: x | EB23: x | EC23: 5 | EE23: 5 | EF23: 4 | EG23: 4 | EH23: 5 | EK23: x | EL23: x | EM23: x | EP23: x | EQ23: 4 | ER23: x | ET23: 5 | EV23: x | EY23: x | EZ23: 5 | FA23: 2 | FC23: 1 | FD23: 2 | FE23: x | FF23: x | FG23: x | FH23: 2 | FI23: 3 | FJ23: x | FK23: x | FL23: x | FN23: x | FO23: x | FP23: x | FQ23: x | FR23: x | FT23: x | FU23: x | FV23: x | FW23: x | FX23: 4 | FY23: x | FZ23: x | GA23: x
A24: =A23+1 -> 16 | B24: KuK | D24: =COUNTIF(AI24:GA24,"<>") -> 29 | F24: =K24*5+L24*4+M24*3+N24+2+O24*1 -> 2 | G24: =Q24*5+R24*4+S24*3+T24*2+U24*1 -> 0 | H24: =W24*5+X24*4+Y24*3+Z24*2+AA24*1 -> 19 | I24: =AC24*5+AD24*4+AE24*3+AF24*2+AG24*1 -> 14 | K24: =COUNTIF(EO24:GA24,"=1") -> 0 | L24: =COUNTIF(EO24:GA24,"=2") -> 0 | M24: =COUNTIF(EO24:GA24,"=3") -> 0 | N24: =COUNTIF(EO24:GA24,"=4") -> 0 | O24: =COUNTIF(EO24:GA24,"=5") -> 0 | Q24: =COUNTIF(DG24:EN24,"=1") -> 0 | R24: =COUNTIF(DG24:EN24,"=2") -> 0 | S24: =COUNTIF(DG24:EN24,"=3") -> 0 | T24: =COUNTIF(DG24:EN24,"=4") -> 0 | U24: =COUNTIF(DG24:EN24,"=5") -> 0 | W24: =COUNTIF(BW24:DF24,"=1") -> 0 | X24: =COUNTIF(BW24:DF24,"=2") -> 2 | Y24: =COUNTIF(BW24:DF24,"=3") -> 3 | Z24: =COUNTIF(BW24:DF24,"=4") -> 1 | AA24: =COUNTIF(BW24:DF24,"=5") -> 0 | AC24: =COUNTIF(AJ24:BV24,"=1") -> 0 | AD24: =COUNTIF(AJ24:BV24,"=2") -> 1 | AE24: =COUNTIF(AJ24:BV24,"=3") -> 1 | AF24: =COUNTIF(AJ24:BV24,"=4") -> 3 | AG24: =COUNTIF(AJ24:BV24,"=5") -> 1 | AM24: x | AP24: 4 | AQ24: x | AS24: x | AT24: 3 | AV24: x | AW24: 4 | AX24: 2 | AZ24: x | BC24: x | BD24: 4 | BE24: x | BF24: x | BG24: x | BH24: x | BT24: 5 | BU24: x | BW24: x | BY24: x | CD24: 2 | CE24: 2 | CL24: x | CM24: x | CN24: 4 | CO24: 3 | CP24: 3 | CQ24: x | CR24: x | CS24: 3
A25: =A24+1 -> 17 | B25: gründi | D25: =COUNTIF(AI25:GA25,"<>") -> 24 | F25: =K25*5+L25*4+M25*3+N25+2+O25*1 -> 13 | G25: =Q25*5+R25*4+S25*3+T25*2+U25*1 -> 0 | H25: =W25*5+X25*4+Y25*3+Z25*2+AA25*1 -> 0 | I25: =AC25*5+AD25*4+AE25*3+AF25*2+AG25*1 -> 6 | K25: =COUNTIF(EO25:GA25,"=1") -> 2 | L25: =COUNTIF(EO25:GA25,"=2") -> 0 | M25: =COUNTIF(EO25:GA25,"=3") -> 0 | N25: =COUNTIF(EO25:GA25,"=4") -> 1 | O25: =COUNTIF(EO25:GA25,"=5") -> 0 | Q25: =COUNTIF(DG25:EN25,"=1") -> 0 | R25: =COUNTIF(DG25:EN25,"=2") -> 0 | S25: =COUNTIF(DG25:EN25,"=3") -> 0 | T25: =COUNTIF(DG25:EN25,"=4") -> 0 | U25: =COUNTIF(DG25:EN25,"=5") -> 0 | W25: =COUNTIF(BW25:DF25,"=1") -> 0 | X25: =COUNTIF(BW25:DF25,"=2") -> 0 | Y25: =COUNTIF(BW25:DF25,"=3") -> 0 | Z25: =COUNTIF(BW25:DF25,"=4") -> 0 | AA25: =COUNTIF(BW25:DF25,"=5") -> 0 | AC25: =COUNTIF(AJ25:BV25,"=1") -> 0 | AD25: =COUNTIF(AJ25:BV25,"=2") -> 1 | AE25: =COUNTIF(AJ25:BV25,"=3") -> 0 | AF25: =COUNTIF(AJ25:BV25,"=4") -> 1 | AG25: =COUNTIF(AJ25:BV25,"=5") -> 0 | BE25: 4 | BG25: x | BH25: 2 | EU25: x | EW25: x | EX25: 4 | FC25: x | FD25: x | FE25: x | FF25: x | FI25: x | FK25: x | FL25: x | FM25: x | FN25: x | FO25: 1 | FP25: x | FQ25: x | FR25: x | FS25: 1 | FT25: x | FY25: x | FZ25: x | GA25: x
A26: =A25+1 -> 18 | B26: Eisvogel | D26: =COUNTIF(AI26:GA26,"<>") -> 18 | F26: =K26*5+L26*4+M26*3+N26+2+O26*1 -> 2 | G26: =Q26*5+R26*4+S26*3+T26*2+U26*1 -> 0 | H26: =W26*5+X26*4+Y26*3+Z26*2+AA26*1 -> 28 | I26: =AC26*5+AD26*4+AE26*3+AF26*2+AG26*1 -> 0 | K26: =COUNTIF(EO26:GA26,"=1") -> 0 | L26: =COUNTIF(EO26:GA26,"=2") -> 0 | M26: =COUNTIF(EO26:GA26,"=3") -> 0 | N26: =COUNTIF(EO26:GA26,"=4") -> 0 | O26: =COUNTIF(EO26:GA26,"=5") -> 0 | Q26: =COUNTIF(DG26:EN26,"=1") -> 0 | R26: =COUNTIF(DG26:EN26,"=2") -> 0 | S26: =COUNTIF(DG26:EN26,"=3") -> 0 | T26: =COUNTIF(DG26:EN26,"=4") -> 0 | U26: =COUNTIF(DG26:EN26,"=5") -> 0 | W26: =COUNTIF(BW26:DF26,"=1") -> 2 | X26: =COUNTIF(BW26:DF26,"=2") -> 1 | Y26: =COUNTIF(BW26:DF26,"=3") -> 4 | Z26: =COUNTIF(BW26:DF26,"=4") -> 0 | AA26: =COUNTIF(BW26:DF26,"=5") -> 2 | AC26: =COUNTIF(AJ26:BV26,"=1") -> 0 | AD26: =COUNTIF(AJ26:BV26,"=2") -> 0 | AE26: =COUNTIF(AJ26:BV26,"=3") -> 0 | AF26: =COUNTIF(AJ26:BV26,"=4") -> 0 | AG26: =COUNTIF(AJ26:BV26,"=5") -> 0 | CE26: x | CI26: 3 | CJ26: 3 | CK26: x | CL26: 3 | CM26: x | CN26: 2 | CP26: x | CQ26: 5 | CR26: x | CU26: 5 | CV26: x | CW26: 3 | CX26: x | CZ26: x | DB26: 1 | DD26: 1 | DE26: x
A27: =A26+1 -> 19 | B27: Loriot 98 | D27: =COUNTIF(AI27:GA27,"<>") -> 8 | F27: =K27*5+L27*4+M27*3+N27+2+O27*1 -> 18 | G27: =Q27*5+R27*4+S27*3+T27*2+U27*1 -> 0 | H27: =W27*5+X27*4+Y27*3+Z27*2+AA27*1 -> 0 | I27: =AC27*5+AD27*4+AE27*3+AF27*2+AG27*1 -> 0 | K27: =COUNTIF(EO27:GA27,"=1") -> 3 | L27: =COUNTIF(EO27:GA27,"=2") -> 0 | M27: =COUNTIF(EO27:GA27,"=3") -> 0 | N27: =COUNTIF(EO27:GA27,"=4") -> 0 | O27: =COUNTIF(EO27:GA27,"=5") -> 1 | Q27: =COUNTIF(DG27:EN27,"=1") -> 0 | R27: =COUNTIF(DG27:EN27,"=2") -> 0 | S27: =COUNTIF(DG27:EN27,"=3") -> 0 | T27: =COUNTIF(DG27:EN27,"=4") -> 0 | U27: =COUNTIF(DG27:EN27,"=5") -> 0 | W27: =COUNTIF(BW27:DF27,"=1") -> 0 | X27: =COUNTIF(BW27:DF27,"=2") -> 0 | Y27: =COUNTIF(BW27:DF27,"=3") -> 0 | Z27: =COUNTIF(BW27:DF27,"=4") -> 0 | AA27: =COUNTIF(BW27:DF27,"=5") -> 0 | AC27: =COUNTIF(AJ27:BV27,"=1") -> 0 | AD27: =COUNTIF(AJ27:BV27,"=2") -> 0 | AE27: =COUNTIF(AJ27:BV27,"=3") -> 0 | AF27: =COUNTIF(AJ27:BV27,"=4") -> 0 | AG27: =COUNTIF(AJ27:BV27,"=5") -> 0 | FB27: x | FC27: 5 | FD27: x | FE27: 1 | FF27: 1 | FG27: 1 | FH27: x | FI27: x
A28: =A27+1 -> 20 | B28: axbuhr | D28: =COUNTIF(AI28:GA28,"<>") -> 7 | F28: =K28*5+L28*4+M28*3+N28+2+O28*1 -> 6 | G28: =Q28*5+R28*4+S28*3+T28*2+U28*1 -> 0 | H28: =W28*5+X28*4+Y28*3+Z28*2+AA28*1 -> 0 | I28: =AC28*5+AD28*4+AE28*3+AF28*2+AG28*1 -> 0 | K28: =COUNTIF(EO28:GA28,"=1") -> 0 | L28: =COUNTIF(EO28:GA28,"=2") -> 0 | M28: =COUNTIF(EO28:GA28,"=3") -> 1 | N28: =COUNTIF(EO28:GA28,"=4") -> 0 | O28: =COUNTIF(EO28:GA28,"=5") -> 1 | Q28: =COUNTIF(DG28:EN28,"=1") -> 0 | R28: =COUNTIF(DG28:EN28,"=2") -> 0 | S28: =COUNTIF(DG28:EN28,"=3") -> 0 | T28: =COUNTIF(DG28:EN28,"=4") -> 0 | U28: =COUNTIF(DG28:EN28,"=5") -> 0 | W28: =COUNTIF(BW28:DF28,"=1") -> 0 | X28: =COUNTIF(BW28:DF28,"=2") -> 0 | Y28: =COUNTIF(BW28:DF28,"=3") -> 0 | Z28: =COUNTIF(BW28:DF28,"=4") -> 0 | AA28: =COUNTIF(BW28:DF28,"=5") -> 0 | AC28: =COUNTIF(AJ28:BV28,"=1") -> 0 | AD28: =COUNTIF(AJ28:BV28,"=2") -> 0 | AE28: =COUNTIF(AJ28:BV28,"=3") -> 0 | AF28: =COUNTIF(AJ28:BV28,"=4") -> 0 | AG28: =COUNTIF(AJ28:BV28,"=5") -> 0 | FT28: x | FU28: 3 | FV28: 5 | FW28: x | FX28: x | FZ28: x | GA28: x
A29: =A28+1 -> 21 | B29: Lujowe73 | D29: =COUNTIF(AI29:GA29,"<>") -> 7 | F29: =K29*5+L29*4+M29*3+N29+2+O29*1 -> 7 | G29: =Q29*5+R29*4+S29*3+T29*2+U29*1 -> 0 | H29: =W29*5+X29*4+Y29*3+Z29*2+AA29*1 -> 0 | I29: =AC29*5+AD29*4+AE29*3+AF29*2+AG29*1 -> 0 | K29: =COUNTIF(EO29:GA29,"=1") -> 0 | L29: =COUNTIF(EO29:GA29,"=2") -> 1 | M29: =COUNTIF(EO29:GA29,"=3") -> 0 | N29: =COUNTIF(EO29:GA29,"=4") -> 0 | O29: =COUNTIF(EO29:GA29,"=5") -> 1 | Q29: =COUNTIF(DG29:EN29,"=1") -> 0 | R29: =COUNTIF(DG29:EN29,"=2") -> 0 | S29: =COUNTIF(DG29:EN29,"=3") -> 0 | T29: =COUNTIF(DG29:EN29,"=4") -> 0 | U29: =COUNTIF(DG29:EN29,"=5") -> 0 | W29: =COUNTIF(BW29:DF29,"=1") -> 0 | X29: =COUNTIF(BW29:DF29,"=2") -> 0 | Y29: =COUNTIF(BW29:DF29,"=3") -> 0 | Z29: =COUNTIF(BW29:DF29,"=4") -> 0 | AA29: =COUNTIF(BW29:DF29,"=5") -> 0 | AC29: =COUNTIF(AJ29:BV29,"=1") -> 0 | AD29: =COUNTIF(AJ29:BV29,"=2") -> 0 | AE29: =COUNTIF(AJ29:BV29,"=3") -> 0 | AF29: =COUNTIF(AJ29:BV29,"=4") -> 0 | AG29: =COUNTIF(AJ29:BV29,"=5") -> 0 | FQ29: 5 | FR29: x | FT29: x | FX29: x | FY29: x | FZ29: x | GA29: 2
A30: =A29+1 -> 22 | B30: Leseratte1957 | D30: =COUNTIF(AI30:GA30,"<>") -> 7 | F30: =K30*5+L30*4+M30*3+N30+2+O30*1 -> 7 | G30: =Q30*5+R30*4+S30*3+T30*2+U30*1 -> 0 | H30: =W30*5+X30*4+Y30*3+Z30*2+AA30*1 -> 0 | I30: =AC30*5+AD30*4+AE30*3+AF30*2+AG30*1 -> 1 | K30: =COUNTIF(EO30:GA30,"=1") -> 1 | L30: =COUNTIF(EO30:GA30,"=2") -> 0 | M30: =COUNTIF(EO30:GA30,"=3") -> 0 | N30: =COUNTIF(EO30:GA30,"=4") -> 0 | O30: =COUNTIF(EO30:GA30,"=5") -> 0 | Q30: =COUNTIF(DG30:EN30,"=1") -> 0 | R30: =COUNTIF(DG30:EN30,"=2") -> 0 | S30: =COUNTIF(DG30:EN30,"=3") -> 0 | T30: =COUNTIF(DG30:EN30,"=4") -> 0 | U30: =COUNTIF(DG30:EN30,"=5") -> 0 | W30: =COUNTIF(BW30:DF30,"=1") -> 0 | X30: =COUNTIF(BW30:DF30,"=2") -> 0 | Y30: =COUNTIF(BW30:DF30,"=3") -> 0 | Z30: =COUNTIF(BW30:DF30,"=4") -> 0 | AA30: =COUNTIF(BW30:DF30,"=5") -> 0 | AC30: =COUNTIF(AJ30:BV30,"=1") -> 0 | AD30: =COUNTIF(AJ30:BV30,"=2") -> 0 | AE30: =COUNTIF(AJ30:BV30,"=3") -> 0 | AF30: =COUNTIF(AJ30:BV30,"=4") -> 0 | AG30: =COUNTIF(AJ30:BV30,"=5") -> 1 | BR30: 5 | DA30: x | DC30: x | FN30: x | FQ30: x | FS30: x | FU30: 1
A31: =A30+1 -> 23 | B31: rainer | D31: =COUNTIF(AI31:GA31,"<>") -> 7 | F31: =K31*5+L31*4+M31*3+N31+2+O31*1 -> 2 | G31: =Q31*5+R31*4+S31*3+T31*2+U31*1 -> 0 | H31: =W31*5+X31*4+Y31*3+Z31*2+AA31*1 -> 0 | I31: =AC31*5+AD31*4+AE31*3+AF31*2+AG31*1 -> 9 | K31: =COUNTIF(EO31:GA31,"=1") -> 0 | L31: =COUNTIF(EO31:GA31,"=2") -> 0 | M31: =COUNTIF(EO31:GA31,"=3") -> 0 | N31: =COUNTIF(EO31:GA31,"=4") -> 0 | O31: =COUNTIF(EO31:GA31,"=5") -> 0 | Q31: =COUNTIF(DG31:EN31,"=1") -> 0 | R31: =COUNTIF(DG31:EN31,"=2") -> 0 | S31: =COUNTIF(DG31:EN31,"=3") -> 0 | T31: =COUNTIF(DG31:EN31,"=4") -> 0 | U31: =COUNTIF(DG31:EN31,"=5") -> 0 | W31: =COUNTIF(BW31:DF31,"=1") -> 0 | X31: =COUNTIF(BW31:DF31,"=2") -> 0 | Y31: =COUNTIF(BW31:DF31,"=3") -> 0 | Z31: =COUNTIF(BW31:DF31,"=4") -> 0 | AA31: =COUNTIF(BW31:DF31,"=5") -> 0 | AC31: =COUNTIF(AJ31:BV31,"=1") -> 1 | AD31: =COUNTIF(AJ31:BV31,"=2") -> 0 | AE31: =COUNTIF(AJ31:BV31,"=3") -> 0 | AF31: =COUNTIF(AJ31:BV31,"=4") -> 2 | AG31: =COUNTIF(AJ31:BV31,"=5") -> 0 | AJ31: x | AM31: x | AO31: 1 | AP31: x | AQ31: x | AR31: 4 | AT31: 4
A32: =A31+1 -> 24 | B32: scorpio | D32: =COUNTIF(AI32:GA32,"<>") -> 6 | F32: =K32*5+L32*4+M32*3+N32+2+O32*1 -> 8 | G32: =Q32*5+R32*4+S32*3+T32*2+U32*1 -> 0 | H32: =W32*5+X32*4+Y32*3+Z32*2+AA32*1 -> 0 | I32: =AC32*5+AD32*4+AE32*3+AF32*2+AG32*1 -> 0 | K32: =COUNTIF(EO32:GA32,"=1") -> 0 | L32: =COUNTIF(EO32:GA32,"=2") -> 1 | M32: =COUNTIF(EO32:GA32,"=3") -> 0 | N32: =COUNTIF(EO32:GA32,"=4") -> 1 | O32: =COUNTIF(EO32:GA32,"=5") -> 1 | Q32: =COUNTIF(DG32:EN32,"=1") -> 0 | R32: =COUNTIF(DG32:EN32,"=2") -> 0 | S32: =COUNTIF(DG32:EN32,"=3") -> 0 | T32: =COUNTIF(DG32:EN32,"=4") -> 0 | U32: =COUNTIF(DG32:EN32,"=5") -> 0 | W32: =COUNTIF(BW32:DF32,"=1") -> 0 | X32: =COUNTIF(BW32:DF32,"=2") -> 0 | Y32: =COUNTIF(BW32:DF32,"=3") -> 0 | Z32: =COUNTIF(BW32:DF32,"=4") -> 0 | AA32: =COUNTIF(BW32:DF32,"=5") -> 0 | AC32: =COUNTIF(AJ32:BV32,"=1") -> 0 | AD32: =COUNTIF(AJ32:BV32,"=2") -> 0 | AE32: =COUNTIF(AJ32:BV32,"=3") -> 0 | AF32: =COUNTIF(AJ32:BV32,"=4") -> 0 | AG32: =COUNTIF(AJ32:BV32,"=5") -> 0 | FC32: x | FK32: 2 | FP32: 5 | FY32: x | FZ32: x | GA32: 4
A33: =A32+1 -> 25 | B33: KArnoldBln | D33: =COUNTIF(AI33:GA33,"<>") -> 5 | F33: =K33*5+L33*4+M33*3+N33+2+O33*1 -> 2 | G33: =Q33*5+R33*4+S33*3+T33*2+U33*1 -> 0 | H33: =W33*5+X33*4+Y33*3+Z33*2+AA33*1 -> 0 | I33: =AC33*5+AD33*4+AE33*3+AF33*2+AG33*1 -> 0 | K33: =COUNTIF(EO33:GA33,"=1") -> 0 | L33: =COUNTIF(EO33:GA33,"=2") -> 0 | M33: =COUNTIF(EO33:GA33,"=3") -> 0 | N33: =COUNTIF(EO33:GA33,"=4") -> 0 | O33: =COUNTIF(EO33:GA33,"=5") -> 0 | Q33: =COUNTIF(DG33:EN33,"=1") -> 0 | R33: =COUNTIF(DG33:EN33,"=2") -> 0 | S33: =COUNTIF(DG33:EN33,"=3") -> 0 | T33: =COUNTIF(DG33:EN33,"=4") -> 0 | U33: =COUNTIF(DG33:EN33,"=5") -> 0 | W33: =COUNTIF(BW33:DF33,"=1") -> 0 | X33: =COUNTIF(BW33:DF33,"=2") -> 0 | Y33: =COUNTIF(BW33:DF33,"=3") -> 0 | Z33: =COUNTIF(BW33:DF33,"=4") -> 0 | AA33: =COUNTIF(BW33:DF33,"=5") -> 0 | AC33: =COUNTIF(AJ33:BV33,"=1") -> 0 | AD33: =COUNTIF(AJ33:BV33,"=2") -> 0 | AE33: =COUNTIF(AJ33:BV33,"=3") -> 0 | AF33: =COUNTIF(AJ33:BV33,"=4") -> 0 | AG33: =COUNTIF(AJ33:BV33,"=5") -> 0 | EK33: x | FM33: x | FU33: x | FX33: x | GA33: x
A34: =A33+1 -> 26 | B34: IVIichi | D34: =COUNTIF(AI34:GA34,"<>") -> 4 | F34: =K34*5+L34*4+M34*3+N34+2+O34*1 -> 2 | G34: =Q34*5+R34*4+S34*3+T34*2+U34*1 -> 0 | H34: =W34*5+X34*4+Y34*3+Z34*2+AA34*1 -> 0 | I34: =AC34*5+AD34*4+AE34*3+AF34*2+AG34*1 -> 0 | K34: =COUNTIF(EO34:GA34,"=1") -> 0 | L34: =COUNTIF(EO34:GA34,"=2") -> 0 | M34: =COUNTIF(EO34:GA34,"=3") -> 0 | N34: =COUNTIF(EO34:GA34,"=4") -> 0 | O34: =COUNTIF(EO34:GA34,"=5") -> 0 | Q34: =COUNTIF(DG34:EN34,"=1") -> 0 | R34: =COUNTIF(DG34:EN34,"=2") -> 0 | S34: =COUNTIF(DG34:EN34,"=3") -> 0 | T34: =COUNTIF(DG34:EN34,"=4") -> 0 | U34: =COUNTIF(DG34:EN34,"=5") -> 0 | W34: =COUNTIF(BW34:DF34,"=1") -> 0 | X34: =COUNTIF(BW34:DF34,"=2") -> 0 | Y34: =COUNTIF(BW34:DF34,"=3") -> 0 | Z34: =COUNTIF(BW34:DF34,"=4") -> 0 | AA34: =COUNTIF(BW34:DF34,"=5") -> 0 | AC34: =COUNTIF(AJ34:BV34,"=1") -> 0 | AD34: =COUNTIF(AJ34:BV34,"=2") -> 0 | AE34: =COUNTIF(AJ34:BV34,"=3") -> 0 | AF34: =COUNTIF(AJ34:BV34,"=4") -> 0 | AG34: =COUNTIF(AJ34:BV34,"=5") -> 0 | FV34: x | FX34: x | FZ34: x | GA34: x
A35: =A34+1 -> 27 | B35: Schimmel | D35: =COUNTIF(AI35:GA35,"<>") -> 4 | F35: =K35*5+L35*4+M35*3+N35+2+O35*1 -> 2 | G35: =Q35*5+R35*4+S35*3+T35*2+U35*1 -> 0 | H35: =W35*5+X35*4+Y35*3+Z35*2+AA35*1 -> 0 | I35: =AC35*5+AD35*4+AE35*3+AF35*2+AG35*1 -> 0 | K35: =COUNTIF(EO35:GA35,"=1") -> 0 | L35: =COUNTIF(EO35:GA35,"=2") -> 0 | M35: =COUNTIF(EO35:GA35,"=3") -> 0 | N35: =COUNTIF(EO35:GA35,"=4") -> 0 | O35: =COUNTIF(EO35:GA35,"=5") -> 0 | Q35: =COUNTIF(DG35:EN35,"=1") -> 0 | R35: =COUNTIF(DG35:EN35,"=2") -> 0 | S35: =COUNTIF(DG35:EN35,"=3") -> 0 | T35: =COUNTIF(DG35:EN35,"=4") -> 0 | U35: =COUNTIF(DG35:EN35,"=5") -> 0 | W35: =COUNTIF(BW35:DF35,"=1") -> 0 | X35: =COUNTIF(BW35:DF35,"=2") -> 0 | Y35: =COUNTIF(BW35:DF35,"=3") -> 0 | Z35: =COUNTIF(BW35:DF35,"=4") -> 0 | AA35: =COUNTIF(BW35:DF35,"=5") -> 0 | AC35: =COUNTIF(AJ35:BV35,"=1") -> 0 | AD35: =COUNTIF(AJ35:BV35,"=2") -> 0 | AE35: =COUNTIF(AJ35:BV35,"=3") -> 0 | AF35: =COUNTIF(AJ35:BV35,"=4") -> 0 | AG35: =COUNTIF(AJ35:BV35,"=5") -> 0 | BU35: x | BV35: x | FO35: x
A36: =A35+1 -> 28 | B36: Braunbear | D36: =COUNTIF(AI36:GA36,"<>") -> 4 | F36: =K36*5+L36*4+M36*3+N36+2+O36*1 -> 7 | G36: =Q36*5+R36*4+S36*3+T36*2+U36*1 -> 0 | H36: =W36*5+X36*4+Y36*3+Z36*2+AA36*1 -> 0 | I36: =AC36*5+AD36*4+AE36*3+AF36*2+AG36*1 -> 0 | K36: =COUNTIF(EO36:GA36,"=1") -> 1 | L36: =COUNTIF(EO36:GA36,"=2") -> 0 | M36: =COUNTIF(EO36:GA36,"=3") -> 0 | N36: =COUNTIF(EO36:GA36,"=4") -> 0 | O36: =COUNTIF(EO36:GA36,"=5") -> 0 | Q36: =COUNTIF(DG36:EN36,"=1") -> 0 | R36: =COUNTIF(DG36:EN36,"=2") -> 0 | S36: =COUNTIF(DG36:EN36,"=3") -> 0 | T36: =COUNTIF(DG36:EN36,"=4") -> 0 | U36: =COUNTIF(DG36:EN36,"=5") -> 0 | W36: =COUNTIF(BW36:DF36,"=1") -> 0 | X36: =COUNTIF(BW36:DF36,"=2") -> 0 | Y36: =COUNTIF(BW36:DF36,"=3") -> 0 | Z36: =COUNTIF(BW36:DF36,"=4") -> 0 | AA36: =COUNTIF(BW36:DF36,"=5") -> 0 | AC36: =COUNTIF(AJ36:BV36,"=1") -> 0 | AD36: =COUNTIF(AJ36:BV36,"=2") -> 0 | AE36: =COUNTIF(AJ36:BV36,"=3") -> 0 | AF36: =COUNTIF(AJ36:BV36,"=4") -> 0 | AG36: =COUNTIF(AJ36:BV36,"=5") -> 0 | FA36: x | FX36: x | FZ36: x | GA36: 1
A37: =A36+1 -> 29 | B37: pumuckl | D37: =COUNTIF(AI37:GA37,"<>") -> 3 | F37: =K37*5+L37*4+M37*3+N37+2+O37*1 -> 5 | G37: =Q37*5+R37*4+S37*3+T37*2+U37*1 -> 0 | H37: =W37*5+X37*4+Y37*3+Z37*2+AA37*1 -> 5 | I37: =AC37*5+AD37*4+AE37*3+AF37*2+AG37*1 -> 0 | K37: =COUNTIF(EO37:GA37,"=1") -> 0 | L37: =COUNTIF(EO37:GA37,"=2") -> 0 | M37: =COUNTIF(EO37:GA37,"=3") -> 1 | N37: =COUNTIF(EO37:GA37,"=4") -> 0 | O37: =COUNTIF(EO37:GA37,"=5") -> 0 | Q37: =COUNTIF(DG37:EN37,"=1") -> 0 | R37: =COUNTIF(DG37:EN37,"=2") -> 0 | S37: =COUNTIF(DG37:EN37,"=3") -> 0 | T37: =COUNTIF(DG37:EN37,"=4") -> 0 | U37: =COUNTIF(DG37:EN37,"=5") -> 0 | W37: =COUNTIF(BW37:DF37,"=1") -> 1 | X37: =COUNTIF(BW37:DF37,"=2") -> 0 | Y37: =COUNTIF(BW37:DF37,"=3") -> 0 | Z37: =COUNTIF(BW37:DF37,"=4") -> 0 | AA37: =COUNTIF(BW37:DF37,"=5") -> 0 | AC37: =COUNTIF(AJ37:BV37,"=1") -> 0 | AD37: =COUNTIF(AJ37:BV37,"=2") -> 0 | AE37: =COUNTIF(AJ37:BV37,"=3") -> 0 | AF37: =COUNTIF(AJ37:BV37,"=4") -> 0 | AG37: =COUNTIF(AJ37:BV37,"=5") -> 0 | CV37: 1 | FR37: x | FS37: 3
A38: =A37+1 -> 30 | B38: BUND | D38: =COUNTIF(AI38:GA38,"<>") -> 2 | F38: =K38*5+L38*4+M38*3+N38+2+O38*1 -> 2 | G38: =Q38*5+R38*4+S38*3+T38*2+U38*1 -> 0 | H38: =W38*5+X38*4+Y38*3+Z38*2+AA38*1 -> 0 | I38: =AC38*5+AD38*4+AE38*3+AF38*2+AG38*1 -> 0 | K38: =COUNTIF(EO38:GA38,"=1") -> 0 | L38: =COUNTIF(EO38:GA38,"=2") -> 0 | M38: =COUNTIF(EO38:GA38,"=3") -> 0 | N38: =COUNTIF(EO38:GA38,"=4") -> 0 | O38: =COUNTIF(EO38:GA38,"=5") -> 0 | Q38: =COUNTIF(DG38:EN38,"=1") -> 0 | R38: =COUNTIF(DG38:EN38,"=2") -> 0 | S38: =COUNTIF(DG38:EN38,"=3") -> 0 | T38: =COUNTIF(DG38:EN38,"=4") -> 0 | U38: =COUNTIF(DG38:EN38,"=5") -> 0 | W38: =COUNTIF(BW38:DF38,"=1") -> 0 | X38: =COUNTIF(BW38:DF38,"=2") -> 0 | Y38: =COUNTIF(BW38:DF38,"=3") -> 0 | Z38: =COUNTIF(BW38:DF38,"=4") -> 0 | AA38: =COUNTIF(BW38:DF38,"=5") -> 0 | AC38: =COUNTIF(AJ38:BV38,"=1") -> 0 | AD38: =COUNTIF(AJ38:BV38,"=2") -> 0 | AE38: =COUNTIF(AJ38:BV38,"=3") -> 0 | AF38: =COUNTIF(AJ38:BV38,"=4") -> 0 | AG38: =COUNTIF(AJ38:BV38,"=5") -> 0 | EZ38: x | FL38: x
A39: =A38+1 -> 31 | B39: basmah | D39: =COUNTIF(AI39:GA39,"<>") -> 1 | F39: =K39*5+L39*4+M39*3+N39+2+O39*1 -> 2 | G39: =Q39*5+R39*4+S39*3+T39*2+U39*1 -> 0 | H39: =W39*5+X39*4+Y39*3+Z39*2+AA39*1 -> 0 | I39: =AC39*5+AD39*4+AE39*3+AF39*2+AG39*1 -> 0 | K39: =COUNTIF(EO39:GA39,"=1") -> 0 | L39: =COUNTIF(EO39:GA39,"=2") -> 0 | M39: =COUNTIF(EO39:GA39,"=3") -> 0 | N39: =COUNTIF(EO39:GA39,"=4") -> 0 | O39: =COUNTIF(EO39:GA39,"=5") -> 0 | Q39: =COUNTIF(DG39:EN39,"=1") -> 0 | R39: =COUNTIF(DG39:EN39,"=2") -> 0 | S39: =COUNTIF(DG39:EN39,"=3") -> 0 | T39: =COUNTIF(DG39:EN39,"=4") -> 0 | U39: =COUNTIF(DG39:EN39,"=5") -> 0 | W39: =COUNTIF(BW39:DF39,"=1") -> 0 | X39: =COUNTIF(BW39:DF39,"=2") -> 0 | Y39: =COUNTIF(BW39:DF39,"=3") -> 0 | Z39: =COUNTIF(BW39:DF39,"=4") -> 0 | AA39: =COUNTIF(BW39:DF39,"=5") -> 0 | AC39: =COUNTIF(AJ39:BV39,"=1") -> 0 | AD39: =COUNTIF(AJ39:BV39,"=2") -> 0 | AE39: =COUNTIF(AJ39:BV39,"=3") -> 0 | AF39: =COUNTIF(AJ39:BV39,"=4") -> 0 | AG39: =COUNTIF(AJ39:BV39,"=5") -> 0 | FU39: x
A40: =A39+1 -> 32 | B40: Tobias | D40: =COUNTIF(AI40:GA40,"<>") -> 1 | F40: =K40*5+L40*4+M40*3+N40+2+O40*1 -> 2 | G40: =Q40*5+R40*4+S40*3+T40*2+U40*1 -> 0 | H40: =W40*5+X40*4+Y40*3+Z40*2+AA40*1 -> 0 | I40: =AC40*5+AD40*4+AE40*3+AF40*2+AG40*1 -> 0 | K40: =COUNTIF(EO40:GA40,"=1") -> 0 | L40: =COUNTIF(EO40:GA40,"=2") -> 0 | M40: =COUNTIF(EO40:GA40,"=3") -> 0 | N40: =COUNTIF(EO40:GA40,"=4") -> 0 | O40: =COUNTIF(EO40:GA40,"=5") -> 0 | Q40: =COUNTIF(DG40:EN40,"=1") -> 0 | R40: =COUNTIF(DG40:EN40,"=2") -> 0 | S40: =COUNTIF(DG40:EN40,"=3") -> 0 | T40: =COUNTIF(DG40:EN40,"=4") -> 0 | U40: =COUNTIF(DG40:EN40,"=5") -> 0 | W40: =COUNTIF(BW40:DF40,"=1") -> 0 | X40: =COUNTIF(BW40:DF40,"=2") -> 0 | Y40: =COUNTIF(BW40:DF40,"=3") -> 0 | Z40: =COUNTIF(BW40:DF40,"=4") -> 0 | AA40: =COUNTIF(BW40:DF40,"=5") -> 0 | AC40: =COUNTIF(AJ40:BV40,"=1") -> 0 | AD40: =COUNTIF(AJ40:BV40,"=2") -> 0 | AE40: =COUNTIF(AJ40:BV40,"=3") -> 0 | AF40: =COUNTIF(AJ40:BV40,"=4") -> 0 | AG40: =COUNTIF(AJ40:BV40,"=5") -> 0 | DA40: x
A41: =A40+1 -> 33 | B41: Uli | D41: =COUNTIF(AI41:GA41,"<>") -> 1 | F41: =K41*5+L41*4+M41*3+N41+2+O41*1 -> 2 | G41: =Q41*5+R41*4+S41*3+T41*2+U41*1 -> 0 | H41: =W41*5+X41*4+Y41*3+Z41*2+AA41*1 -> 0 | I41: =AC41*5+AD41*4+AE41*3+AF41*2+AG41*1 -> 0 | K41: =COUNTIF(EO41:GA41,"=1") -> 0 | L41: =COUNTIF(EO41:GA41,"=2") -> 0 | M41: =COUNTIF(EO41:GA41,"=3") -> 0 | N41: =COUNTIF(EO41:GA41,"=4") -> 0 | O41: =COUNTIF(EO41:GA41,"=5") -> 0 | Q41: =COUNTIF(DG41:EN41,"=1") -> 0 | R41: =COUNTIF(DG41:EN41,"=2") -> 0 | S41: =COUNTIF(DG41:EN41,"=3") -> 0 | T41: =COUNTIF(DG41:EN41,"=4") -> 0 | U41: =COUNTIF(DG41:EN41,"=5") -> 0 | W41: =COUNTIF(BW41:DF41,"=1") -> 0 | X41: =COUNTIF(BW41:DF41,"=2") -> 0 | Y41: =COUNTIF(BW41:DF41,"=3") -> 0 | Z41: =COUNTIF(BW41:DF41,"=4") -> 0 | AA41: =COUNTIF(BW41:DF41,"=5") -> 0 | AC41: =COUNTIF(AJ41:BV41,"=1") -> 0 | AD41: =COUNTIF(AJ41:BV41,"=2") -> 0 | AE41: =COUNTIF(AJ41:BV41,"=3") -> 0 | AF41: =COUNTIF(AJ41:BV41,"=4") -> 0 | AG41: =COUNTIF(AJ41:BV41,"=5") -> 0 | FZ41: x
A42: =A41+1 -> 34 | B42: hd82hd | D42: =COUNTIF(AI42:GA42,"<>") -> 1 | F42: =K42*5+L42*4+M42*3+N42+2+O42*1 -> 3 | G42: =Q42*5+R42*4+S42*3+T42*2+U42*1 -> 0 | H42: =W42*5+X42*4+Y42*3+Z42*2+AA42*1 -> 0 | I42: =AC42*5+AD42*4+AE42*3+AF42*2+AG42*1 -> 0 | K42: =COUNTIF(EO42:GA42,"=1") -> 0 | L42: =COUNTIF(EO42:GA42,"=2") -> 0 | M42: =COUNTIF(EO42:GA42,"=3") -> 0 | N42: =COUNTIF(EO42:GA42,"=4") -> 1 | O42: =COUNTIF(EO42:GA42,"=5") -> 0 | Q42: =COUNTIF(DG42:EN42,"=1") -> 0 | R42: =COUNTIF(DG42:EN42,"=2") -> 0 | S42: =COUNTIF(DG42:EN42,"=3") -> 0 | T42: =COUNTIF(DG42:EN42,"=4") -> 0 | U42: =COUNTIF(DG42:EN42,"=5") -> 0 | W42: =COUNTIF(BW42:DF42,"=1") -> 0 | X42: =COUNTIF(BW42:DF42,"=2") -> 0 | Y42: =COUNTIF(BW42:DF42,"=3") -> 0 | Z42: =COUNTIF(BW42:DF42,"=4") -> 0 | AA42: =COUNTIF(BW42:DF42,"=5") -> 0 | AC42: =COUNTIF(AJ42:BV42,"=1") -> 0 | AD42: =COUNTIF(AJ42:BV42,"=2") -> 0 | AE42: =COUNTIF(AJ42:BV42,"=3") -> 0 | AF42: =COUNTIF(AJ42:BV42,"=4") -> 0 | AG42: =COUNTIF(AJ42:BV42,"=5") -> 0 | FK42: 4
B44: Tipps am Spieltag | AI44: =COUNTIF(AI9:AI42,">0")+COUNTIF(AI9:AI42,"=x") -> 0 | AJ44: =COUNTIF(AJ9:AJ42,">0")+COUNTIF(AJ9:AJ42,"=x") -> 8 | AK44: =COUNTIF(AK9:AK42,">0")+COUNTIF(AK9:AK42,"=x") -> 9 | AL44: =COUNTIF(AL9:AL42,">0")+COUNTIF(AL9:AL42,"=x") -> 11 | AM44: =COUNTIF(AM9:AM42,">0")+COUNTIF(AM9:AM42,"=x") -> 11 | AN44: =COUNTIF(AN9:AN42,">0")+COUNTIF(AN9:AN42,"=x") -> 9 | AO44: =COUNTIF(AO9:AO42,">0")+COUNTIF(AO9:AO42,"=x") -> 9 | AP44: =COUNTIF(AP9:AP42,">0")+COUNTIF(AP9:AP42,"=x") -> 10 | ... GA44: =COUNTIF(GA9:GA42,">0")+COUNTIF(GA9:GA42,"=x") -> 19

Sheet 2015 Übern.
A1: Übernahme Vichy
D6: Spiele | L6: Spiel | M6: Spiel | N6: Spiel | O6: Spiel | P6: Spiel | Q6: Spiel | R6: Spiel | S6: Spiel | T6: Spiel | U6: Spiel | V6: Spiel | W6: Spiel | X6: Spiel | Y6: Spiel | Z6: Spiel | AA6: Spiel | AB6: Spiel | AC6: Spiel | AD6: Spiel | AE6: Spiel | AF6: Spiel | AG6: Spiel | AH6: Spiel | AI6: Spiel | AJ6: Spiel | AK6: Spiel | AL6: Spiel | AM6: Spiel | AN6: Spiel | AO6: Spiel | AP6: Spiel | AQ6: Spiel | AR6: Spiel | AS6: Spiel | AT6: Spiel | AU6: Spiel | AV6: Spiel | AW6: Spiel | AX6: Spiel | AY6: Spiel | AZ6: Spiel | BA6: Spiel | BB6: Spiel | BC6: Spiel | BD6: Spiel | BE6: Spiel | BF6: Spiel | BG6: Spiel | BH6: Spiel | BI6: Spiel | BJ6: Spiel | BK6: Spiel | BL6: Spiel | BM6: Spiel | BN6: Spiel | BO6: Spiel | BP6: Spiel | BQ6: Spiel | BR6: Spiel | BS6: Spiel | BT6: Spiel | BU6: Spiel | BV6: Spiel | BW6: Spiel | BX6: Spiel | BY6: Spiel | BZ6: Spiel | CA6: Spiel | CB6: Spiel | CC6: Spiel | CD6: Spiel | CE6: Spiel | CF6: Spiel | CG6: Spiel | CH6: Spiel | CI6: Spiel | CJ6: Spiel | CK6: Spiel | CL6: Spiel | CM6: Spiel | CN6: Spiel | CO6: Spiel | CP6: Spiel | CQ6: Spiel | CR6: Spiel | CS6: Spiel | CT6: Spiel | CU6: Spiel | CV6: Spiel | CW6: Spiel | CX6: Spiel | CY6: Spiel | CZ6: Spiel | DA6: Spiel | DB6: Spiel | DC6: Spiel | DD6: Spiel | DE6: Spiel | DF6: Spiel | DG6: Spiel | DH6: Spiel | DI6: Spiel | DJ6: Spiel | DK6: Spiel | DL6: Spiel | DM6: Spiel | DN6: Spiel | DO6: Spiel | DP6: Spiel | DQ6: Spiel | DR6: Spiel | DS6: Spiel | DT6: Spiel | DU6: Spiel | DV6: Spiel | DW6: Spiel | DX6: Spiel | DY6: Spiel | DZ6: Spiel | EA6: Spiel | EB6: Spiel | EC6: Spiel | ED6: Spiel | EE6: Spiel | EF6: Spiel | EG6: Spiel | EH6: Spiel | EI6: Spiel | EJ6: Spiel | EK6: Spiel | EL6: Spiel | EM6: Spiel | EN6: Spiel | EO6: Spiel | EP6: Spiel | EQ6: Spiel | ER6: Spiel | ES6: Spiel | ET6: Spiel | EU6: Spiel
A7: Tipper(in) | C7: Punkte | D7: getippt | F7: 1. Pl. | G7: 2. Pl. | H7: 3. Pl. | I7: 4. Pl. | J7: 5. Pl. | L7: =M7+1 -> 140 | M7: =N7+1 -> 139 | N7: =O7+1 -> 138 | O7: =P7+1 -> 137 | P7: =Q7+1 -> 136 | Q7: =R7+1 -> 135 | R7: =S7+1 -> 134 | S7: =T7+1 -> 133 | ... ET7: =EU7+1 -> 2 | EU7: 1
A9: muesli | C9: =(F9*5+G9*3+H9*1) -> 119 | D9: =COUNTIF(L9:ABK9,"<>") -> 112 | F9: =COUNTIF(L9:ABN9,"=1") -> 11 | G9: =COUNTIF(L9:ABN9,"=2") -> 19 | H9: =COUNTIF(L9:ABN9,"=3") -> 7 | I9: =COUNTIF(L9:ABL9,"=4") -> 12 | J9: =COUNTIF(L9:ABL9,"=5") -> 5 | AJ9: 1 | AK9: x | AL9: 2 | AM9: x | AN9: x | AO9: 3 | AQ9: 2 | AR9: 4 | AS9: 2 | AT9: x | AU9: 4 | AV9: x | AW9: x | AX9: x | AY9: 1 | AZ9: 3 | BA9: x | BB9: 3 | BC9: x | BD9: x | BE9: x | BF9: 1 | BG9: 4 | BH9: x | BI9: 2 | BK9: x | BL9: x | BM9: 1 | BN9: 1 | BO9: 1 | BP9: 2 | BQ9: 4 | BR9: 3 | BS9: x | BT9: x | BU9: 2 | BV9: x | BW9: 5 | BX9: x | BY9: x | BZ9: 1 | CA9: 2 | CB9: 1 | CC9: 4 | CD9: 5 | CE9: 3 | CF9: 2 | CG9: x | CH9: 2 | CI9: 4 | CJ9: 2 | CK9: 2 | CL9: x | CM9: 5 | CN9: 4 | CO9: x | CP9: x | CQ9: 4 | CR9: x | CS9: x | CT9: x | CU9: x | CV9: 3 | CW9: 1 | CX9: 5 | CY9: x | DA9: 2 | DB9: x | DC9: 2 | DD9: 1 | DE9: x | DF9: x | DG9: x | DH9: x | DI9: x | DJ9: x | DK9: x | DL9: x | DM9: 4 | DN9: x | DO9: x | DP9: x | DQ9: x | DS9: 5 | DT9: 2 | DU9: 4 | DV9: x | DW9: 3 | DX9: x | DY9: x | DZ9: x | EA9: x | EB9: x | EC9: x | ED9: 4 | EE9: x | EF9: 2 | EG9: 1 | EH9: 4 | EI9: x | EJ9: x | EK9: 2 | EL9: x | EM9: x | EN9: x | EO9: x | EP9: 2 | EQ9: 2 | ER9: x | ES9: x | ET9: 2 | EU9: x
A10: Wolffi | C10: =(F10*5+G10*3+H10*1) -> 112 | D10: =COUNTIF(L10:ABK10,"<>") -> 111 | F10: =COUNTIF(L10:ABN10,"=1") -> 10 | G10: =COUNTIF(L10:ABN10,"=2") -> 16 | H10: =COUNTIF(L10:ABN10,"=3") -> 14 | I10: =COUNTIF(L10:ABL10,"=4") -> 10 | J10: =COUNTIF(L10:ABL10,"=5") -> 9 | AJ10: 2 | AK10: 2 | AL10: 1 | AM10: 2 | AN10: 4 | AO10: 4 | AP10: 2 | AQ10: x | AR10: 5 | AS10: x | AT10: 1 | AU10: 5 | AV10: 2 | AX10: x | AY10: x | AZ10: x | BA10: x | BB10: x | BC10: 4 | BD10: x | BE10: x | BF10: 2 | BG10: 3 | BH10: x | BI10: x | BJ10: 2 | BK10: x | BL10: x | BM10: 4 | BN10: x | BO10: 4 | BP10: x | BQ10: 2 | BR10: 4 | BT10: 3 | BU10: 2 | BV10: 3 | BW10: x | BX10: 2 | BY10: x | BZ10: 3 | CA10: x | CB10: 5 | CD10: x | CE10: x | CF10: 4 | CG10: 3 | CH10: 4 | CI10: 1 | CJ10: x | CK10: x | CL10: x | CM10: 3 | CN10: 3 | CO10: 1 | CP10: 4 | CQ10: x | CR10: 3 | CS10: 2 | CT10: x | CV10: x | CW10: x | CX10: x | CY10: 2 | CZ10: 2 | DA10: 1 | DB10: 1 | DC10: 5 | DD10: x | DE10: 4 | DF10: 3 | DG10: 2 | DH10: 5 | DJ10: x | DK10: x | DL10: x | DM10: 3 | DN10: 1 | DO10: 1 | DP10: 3 | DQ10: 3 | DR10: 3 | DS10: 1 | DT10: x | DU10: x | DV10: x | DW10: x | DX10: x | DY10: x | DZ10: x | EA10: x | EB10: 5 | EC10: x | ED10: x | EE10: 5 | EF10: x | EG10: 3 | EH10: 5 | EI10: x | EJ10: 2 | EK10: x | EL10: x | EM10: x | EN10: 2 | EO10: x | EP10: x | EQ10: x | ER10: 1 | ES10: 5 | ET10: x | EU10: x
A11: kartenhai | C11: =(F11*5+G11*3+H11*1) -> 99 | D11: =COUNTIF(L11:ABK11,"<>") -> 83 | F11: =COUNTIF(L11:ABN11,"=1") -> 16 | G11: =COUNTIF(L11:ABN11,"=2") -> 5 | H11: =COUNTIF(L11:ABN11,"=3") -> 4 | I11: =COUNTIF(L11:ABL11,"=4") -> 5 | J11: =COUNTIF(L11:ABL11,"=5") -> 8 | AJ11: x | AK11: x | AL11: x | AM11: 1 | AN11: 1 | AO11: 2 | AP11: 1 | AQ11: 1 | AS11: x | AT11: x | AV11: x | AW11: 4 | AX11: 5 | AY11: 3 | AZ11: x | BA11: x | BB11: x | BC11: x | BD11: x | BE11: 5 | BF11: x | BG11: x | BI11: x | BJ11: x | BK11: 3 | BL11: 1 | BO11: 2 | BR11: 1 | BS11: 5 | BT11: 1 | BU11: x | BV11: x | BW11: 1 | BX11: 5 | BZ11: x | CB11: 2 | CC11: x | CD11: 1 | CE11: 2 | CG11: 1 | CH11: 1 | CJ11: 1 | CK11: x | CL11: x | CM11: x | CN11: 5 | CP11: x | CQ11: 2 | CS11: 3 | CT11: x | CU11: x | CV11: 1 | CW11: 4 | CX11: 4 | CZ11: 1 | DA11: x | DC11: x | DE11: 5 | DK11: 5 | DL11: x | DM11: x | DO11: x | DP11: x | DR11: x | DS11: x | DT11: x | DU11: x | DV11: 4 | DW11: 4 | DX11: x | EA11: x | EB11: x | EC11: x | ED11: 5 | EE11: x | EF11: 1 | EL11: x | EM11: x | EN11: x | EP11: x | ES11: 1 | ET11: 3 | EU11: x
A12: Lothar | C12: =(F12*5+G12*3+H12*1) -> 85 | D12: =COUNTIF(L12:ABK12,"<>") -> 97 | F12: =COUNTIF(L12:ABN12,"=1") -> 11 | G12: =COUNTIF(L12:ABN12,"=2") -> 6 | H12: =COUNTIF(L12:ABN12,"=3") -> 12 | I12: =COUNTIF(L12:ABL12,"=4") -> 13 | J12: =COUNTIF(L12:ABL12,"=5") -> 8 | AJ12: x | AK12: 1 | AL12: 3 | AM12: 4 | AN12: x | AO12: 1 | AP12: 4 | AQ12: 3 | AR12: x | AS12: 4 | AT12: 3 | AU12: 3 | AW12: 2 | AX12: 3 | AY12: x | AZ12: 4 | BA12: 3 | BB12: 1 | BC12: 1 | BD12: x | BE12: 1 | BF12: x | BG12: 5 | BH12: x | BI12: 4 | BK12: 4 | BL12: 1 | BM12: 5 | BN12: 4 | BO12: x | BP12: 5 | BQ12: 5 | BR12: x | BS12: x | BU12: 2 | BV12: 2 | BW12: x | BX12: x | BY12: 4 | BZ12: 2 | CA12: 1 | CB12: x | CC12: x | CD12: x | CI12: x | CJ12: x | CK12: 3 | CL12: x | CM12: x | CN12: x | CP12: 3 | CQ12: 1 | CR12: 5 | CS12: x | CT12: x | CU12: x | CV12: x | CW12: x | CX12: x | CY12: x | DA12: x | DB12: 4 | DD12: 4 | DE12: x | DF12: 1 | DH12: x | DJ12: 5 | DK12: 1 | DL12: x | DN12: x | DO12: 3 | DP12: 5 | DS12: x | DT12: x | DU12: x | DV12: x | DX12: 4 | DY12: x | DZ12: 2 | EA12: x | EB12: 3 | ED12: x | EE12: x | EF12: 4 | EG12: x | EH12: 3 | EJ12: x | EK12: 3 | EL12: x | EM12: 2 | EN12: 1 | EO12: x | EP12: x | EQ12: x | ES12: x | ET12: 4 | EU12: 5
A13: Vichy | C13: =(F13*5+G13*3+H13*1) -> 82 | D13: =COUNTIF(L13:ABK13,"<>") -> 104 | F13: =COUNTIF(L13:ABN13,"=1") -> 8 | G13: =COUNTIF(L13:ABN13,"=2") -> 10 | H13: =COUNTIF(L13:ABN13,"=3") -> 12 | I13: =COUNTIF(L13:ABL13,"=4") -> 6 | J13: =COUNTIF(L13:ABL13,"=5") -> 7 | AJ13: 4 | AL13: x | AM13: 5 | AN13: 3 | AO13: 5 | AP13: x | AQ13: x | AR13: 2 | AS13: 5 | AT13: x | AV13: 3 | AW13: x | AX13: x | AY13: x | AZ13: 1 | BA13: x | BB13: 2 | BC13: 2 | BD13: 1 | BE13: x | BF13: x | BG13: 2 | BH13: x | BI13: 5 | BJ13: 4 | BK13: x | BL13: x | BM13: x | BN13: x | BO13: x | BP13: x | BQ13: 1 | BR13: 2 | BS13: x | BT13: x | BU13: x | BV13: x | BW13: 3 | BX13: x | BY13: 1 | CB13: 4 | CC13: x | CD13: x | CE13: x | CF13: x | CH13: 3 | CI13: x | CJ13: x | CK13: 5 | CN13: x | CO13: x | CP13: x | CQ13: x | CR13: 2 | CU13: 3 | CV13: x | CW13: x | CX13: x | CY13: 3 | CZ13: x | DA13: x | DB13: x | DC13: x | DD13: x | DF13: 4 | DG13: x | DH13: x | DI13: 3 | DJ13: x | DK13: 3 | DL13: x | DM13: x | DO13: x | DP13: 1 | DQ13: x | DR13: 2 | DS13: 4 | DT13: 4 | DU13: x | DV13: 5 | DW13: x | DX13: 3 | DY13: x | DZ13: x | EA13: 3 | EB13: x | EC13: x | ED13: 1 | EE13: x | EF13: x | EG13: 2 | EH13: x | EI13: x | EJ13: 3 | EK13: x | EL13: 2 | EM13: x | EN13: x | EO13: 2 | EP13: 3 | EQ13: 1 | ER13: 5 | ET13: 1 | EU13: x
A14: Claude D. | C14: =(F14*5+G14*3+H14*1) -> 78 | D14: =COUNTIF(L14:ABK14,"<>") -> 105 | F14: =COUNTIF(L14:ABN14,"=1") -> 8 | G14: =COUNTIF(L14:ABN14,"=2") -> 10 | H14: =COUNTIF(L14:ABN14,"=3") -> 8 | I14: =COUNTIF(L14:ABL14,"=4") -> 5 | J14: =COUNTIF(L14:ABL14,"=5") -> 11 | AJ14: 3 | AK14: 5 | AL14: x | AM14: x | AN14: x | AO14: x | AP14: 3 | AR14: 1 | AS14: 1 | AU14: 2 | AV14: x | AW14: 5 | AX14: 4 | AY14: 5 | AZ14: x | BA14: 2 | BB14: x | BC14: 5 | BD14: x | BE14: x | BI14: x | BJ14: 5 | BK14: x | BL14: 3 | BN14: x | BP14: x | BQ14: x | BR14: x | BT14: 5 | BU14: x | BV14: x | BW14: x | BX14: x | BY14: 3 | BZ14: x | CA14: 3 | CB14: x | CC14: x | CD14: x | CE14: x | CF14: x | CG14: 2 | CH14: 5 | CI14: 5 | CJ14: 3 | CK14: x | CL14: 1 | CM14: x | CN14: x | CO14: x | CP14: x | CQ14: x | CR14: x | CS14: 1 | CT14: 2 | CU14: 2 | CV14: x | CW14: x | CX14: 1 | CY14: x | CZ14: x | DA14: 3 | DB14: x | DD14: x | DE14: x | DF14: 2 | DG14: 4 | DH14: 4 | DI14: 2 | DJ14: 2 | DK14: x | DL14: 4 | DM14: 1 | DN14: x | DO14: x | DP14: x | DQ14: x | DR14: x | DS14: x | DT14: 1 | DU14: 5 | DV14: 2 | DW14: x | DY14: x | DZ14: x | EA14: x | EB14: x | EC14: x | ED14: x | EE14: x | EF14: 3 | EG14: 5 | EH14: 1 | EJ14: x | EK14: x | EL14: x | EM14: 5 | EN14: x | EO14: x | EP14: x | EQ14: x | ER14: 2 | ES14: 4 | ET14: x | EU14: x
A15: Usul3 | C15: =(F15*5+G15*3+H15*1) -> 75 | D15: =COUNTIF(L15:ABK15,"<>") -> 60 | F15: =COUNTIF(L15:ABN15,"=1") -> 12 | G15: =COUNTIF(L15:ABN15,"=2") -> 3 | H15: =COUNTIF(L15:ABN15,"=3") -> 6 | I15: =COUNTIF(L15:ABL15,"=4") -> 5 | J15: =COUNTIF(L15:ABL15,"=5") -> 3 | AS15: 3 | AT15: 4 | AW15: 3 | AY15: x | BB15: x | BC15: x | BD15: 4 | BF15: x | BH15: 1 | BI15: 1 | BJ15: 1 | BK15: x | BN15: 5 | BO15: x | BP15: x | BS15: 1 | BT15: 4 | BU15: x | CD15: 2 | CE15: 1 | CF15: 1 | CH15: x | CJ15: x | CL15: x | CM15: x | CN15: 1 | CP15: 1 | CQ15: 3 | CX15: 3 | DD15: x | DE15: 2 | DG15: x | DI15: 4 | DJ15: 4 | DK15: x | DL15: x | DN15: x | DQ15: x | DR15: 5 | DT15: x | DU15: 3 | DV15: 1 | DW15: x | DY15: x | DZ15: x | EA15: x | EC15: 1 | ED15: x | EE15: x | EH15: 2 | EI15: x | EK15: 1 | EL15: 1 | EM15: x | EO15: x | EQ15: 5 | ER15: x | ES15: 3 | ET15: x | EU15: x
A16: säulenkaktus | C16: =(F16*5+G16*3+H16*1) -> 71 | D16: =COUNTIF(L16:ABK16,"<>") -> 99 | F16: =COUNTIF(L16:ABN16,"=1") -> 7 | G16: =COUNTIF(L16:ABN16,"=2") -> 9 | H16: =COUNTIF(L16:ABN16,"=3") -> 9 | I16: =COUNTIF(L16:ABL16,"=4") -> 8 | J16: =COUNTIF(L16:ABL16,"=5") -> 6 | AJ16: x | AK16: 4 | AL16: 4 | AM16: x | AN16: 2 | AO16: x | AQ16: 4 | AR16: x | AS16: x | AT16: 1 | AU16: x | AV16: 4 | AW16: 1 | AX16: 1 | AZ16: 2 | BA16: 4 | BB16: x | BC16: x | BD16: 5 | BE16: 3 | BG16: 1 | BH16: x | BI16: x | BJ16: x | BK16: x | BL16: x | BM16: 2 | BO16: x | BP16: x | BQ16: x | BS16: x | BT16: 2 | BU16: 5 | BX16: 3 | BY16: x | BZ16: x | CA16: x | CB16: x | CD16: 3 | CE16: 4 | CF16: 5 | CH16: x | CI16: 3 | CK16: x | CL16: x | CM16: 1 | CN16: x | CO16: 4 | CP16: x | CR16: x | CT16: 3 | CU16: x | CV16: x | CW16: 3 | CX16: x | CY16: x | DA16: x | DB16: x | DC16: 1 | DD16: 3 | DE16: 1 | DF16: 5 | DG16: 3 | DH16: x | DJ16: 3 | DK16: x | DL16: 2 | DM16: x | DN16: x | DQ16: 2 | DR16: x | DS16: x | DT16: x | DU16: x | DV16: x | DW16: x | DX16: x | DY16: 2 | DZ16: 4 | EA16: 2 | EB16: x | EC16: 2 | ED16: x | EE16: x | EF16: x | EG16: x | EH16: x | EI16: 5 | EJ16: x | EK16: x | EL16: x | EM16: x | EN16: 5 | EO16: x | EP16: x | ER16: x | ES16: x | ET16: x | EU16: x
A17: ja2911 | C17: =(F17*5+G17*3+H17*1) -> 57 | D17: =COUNTIF(L17:ABK17,"<>") -> 82 | F17: =COUNTIF(L17:ABN17,"=1") -> 3 | G17: =COUNTIF(L17:ABN17,"=2") -> 11 | H17: =COUNTIF(L17:ABN17,"=3") -> 9 | I17: =COUNTIF(L17:ABL17,"=4") -> 6 | J17: =COUNTIF(L17:ABL17,"=5") -> 4 | AO17: x | AQ17: x | AR17: 3 | AS17: x | AW17: x | BC17: x | BE17: 2 | BK17: x | BL17: x | BO17: x | BP17: x | BQ17: x | BS17: 2 | BU17: x | BV17: 4 | BW17: 2 | BX17: x | BY17: 5 | BZ17: 4 | CA17: x | CB17: 3 | CC17: 3 | CD17: 4 | CE17: x | CF17: 3 | CI17: 2 | CJ17: x | CK17: x | CL17: x | CM17: 2 | CN17: 2 | CO17: 3 | CP17: x | CR17: 1 | CS17: 4 | CT17: 5 | CU17: x | CV17: x | CW17: x | CX17: x | CY17: 1 | CZ17: x | DB17: 3 | DC17: 3 | DD17: x | DE17: x | DF17: x | DG17: 1 | DH17: 2 | DI17: x | DJ17: x | DK17: x | DL17: x | DM17: 2 | DN17: 2 | DO17: x | DP17: x | DQ17: x | DR17: x | DS17: 2 | DZ17: 5 | EA17: x | EB17: x | EC17: x | ED17: 3 | EE17: 3 | EF17: 5 | EG17: x | EH17: x | EI17: 2 | EJ17: 4 | EK17: x | EL17: x | EM17: x | EN17: x | EO17: x | EP17: 4 | EQ17: x | ER17: x | ES17: x | ET17: x | EU17: x
A18: hallerc4 | C18: =(F18*5+G18*3+H18*1) -> 51 | D18: =COUNTIF(L18:ABK18,"<>") -> 80 | F18: =COUNTIF(L18:ABN18,"=1") -> 6 | G18: =COUNTIF(L18:ABN18,"=2") -> 5 | H18: =COUNTIF(L18:ABN18,"=3") -> 6 | I18: =COUNTIF(L18:ABL18,"=4") -> 9 | J18: =COUNTIF(L18:ABL18,"=5") -> 11 | AJ18: 5 | AK18: 3 | AL18: x | AM18: x | AN18: x | AO18: x | AP18: 5 | AQ18: x | AR18: x | AS18: x | AT18: x | AU18: 1 | AV18: 1 | AW18: x | AX18: x | AY18: x | AZ18: x | BA18: 4 | BB18: 4 | BK18: 2 | BL18: 4 | BM18: x | BN18: x | BO18: 3 | BP18: 4 | BQ18: x | BR18: 5 | BS18: 3 | BT18: x | BU18: 1 | BW18: x | BX18: 4 | BY18: 2 | CA18: 5 | CB18: x | CD18: x | CE18: 5 | CF18: x | CG18: 5 | CH18: x | CI18: x | CJ18: 4 | CK18: 1 | CL18: 3 | CM18: x | CN18: x | CO18: 5 | CP18: 2 | CQ18: 5 | CR18: x | CS18: 5 | CT18: x | CU18: x | CV18: 5 | CW18: x | CX18: x | CY18: x | CZ18: 3 | DA18: x | DB18: 2 | DC18: 4 | DD18: x | DE18: x | DG18: x | DH18: 1 | DK18: x | DL18: 1 | DM18: x | DN18: x | DO18: 5 | DP18: 2 | DQ18: 4 | DR18: x | DS18: x | DT18: x | DV18: x | DW18: x | DX18: x | DY18: 3 | EB18: 4
A19: King_Franky | C19: =(F19*5+G19*3+H19*1) -> 52 | D19: =COUNTIF(L19:ABK19,"<>") -> 59 | F19: =COUNTIF(L19:ABN19,"=1") -> 8 | G19: =COUNTIF(L19:ABN19,"=2") -> 3 | H19: =COUNTIF(L19:ABN19,"=3") -> 3 | I19: =COUNTIF(L19:ABL19,"=4") -> 11 | J19: =COUNTIF(L19:ABL19,"=5") -> 6 | AO19: x | AV19: 5 | AW19: x | BP19: x | BQ19: x | BR19: x | BS19: x | BV19: 5 | BX19: x | CA19: 4 | CC19: 2 | CI19: x | CJ19: 5 | CL19: x | CM19: 4 | CQ19: x | CR19: 4 | CS19: x | CT19: x | CU19: 4 | CV19: 4 | CW19: 2 | CX19: 1 | CY19: 4 | CZ19: 5 | DA19: 5 | DB19: x | DF19: x | DG19: x | DH19: x | DI19: 1 | DJ19: 1 | DK19: x | DN19: 4 | DO19: 4 | DR19: x | DS19: x | DU19: x | DV19: 3 | DW19: 2 | DX19: 1 | DY19: x | DZ19: x | EA19: 5 | EB19: 1 | EC19: x | ED19: x | EE19: 1 | EF19: x | EG19: x | EH19: x | EI19: 4 | EJ19: 1 | EK19: x | EL19: 3 | EM19: 4 | EN19: 3 | EO19: 4 | EP19: 1
A20: Nicht Profi | C20: =(F20*5+G20*3+H20*1) -> 35 | D20: =COUNTIF(L20:ABK20,"<>") -> 59 | F20: =COUNTIF(L20:ABN20,"=1") -> 4 | G20: =COUNTIF(L20:ABN20,"=2") -> 3 | H20: =COUNTIF(L20:ABN20,"=3") -> 6 | I20: =COUNTIF(L20:ABL20,"=4") -> 2 | J20: =COUNTIF(L20:ABL20,"=5") -> 9 | AN20: x | AU20: x | AV20: x | AW20: x | AY20: x | AZ20: x | BA20: 1 | BH20: x | BI20: x | BJ20: x | BM20: x | BO20: x | CJ20: x | CK20: 4 | CL20: 5 | CM20: x | CO20: 2 | CP20: 5 | CQ20: x | CU20: 1 | CV20: x | CW20: x | CX20: x | CY20: x | DB20: x | DD20: 5 | DE20: 3 | DF20: x | DG20: 5 | DH20: 3 | DJ20: x | DK20: 2 | DL20: 5 | DM20: 5 | DN20: 3 | DO20: 2 | DP20: x | DQ20: 1 | DR20: 1 | DS20: 3 | DT20: 3 | DU20: x | DV20: x | DX20: 5 | EA20: x | ED20: x | EF20: x | EG20: 4 | EH20: x | EI20: 3 | EJ20: x | EK20: x | EL20: 5 | EO20: 5 | EP20: x | ER20: x | ES20: x | ET20: x | EU20: x
A21: am1937a | C21: =(F21*5+G21*3+H21*1) -> 28 | D21: =COUNTIF(L21:ABK21,"<>") -> 72 | F21: =COUNTIF(L21:ABN21,"=1") -> 3 | G21: =COUNTIF(L21:ABN21,"=2") -> 3 | H21: =COUNTIF(L21:ABN21,"=3") -> 4 | I21: =COUNTIF(L21:ABL21,"=4") -> 6 | J21: =COUNTIF(L21:ABL21,"=5") -> 3 | AM21: 3 | AN21: x | AO21: x | AR21: x | AV21: x | AY21: 4 | AZ21: 5 | BA21: x | BB21: 5 | BC21: x | BD21: x | BF21: 4 | BG21: x | BH21: 5 | BK21: 1 | BL21: x | BM21: x | BN21: 2 | BO21: x | BP21: x | BR21: x | BS21: 4 | BU21: x | BW21: 4 | BX21: x | BZ21: 4 | CA21: x | CB21: x | CC21: 1 | CD21: x | CJ21: x | CM21: x | CN21: x | CQ21: x | CR21: x | CU21: x | CV21: x | CW21: x | CX21: x | CY21: x | CZ21: x | DC21: x | DE21: x | DJ21: x | DK21: x | DL21: x | DM21: x | DR21: x | DS21: x | DT21: x | DU21: 1 | DV21: x | DW21: x | DX21: x | DY21: 3 | DZ21: 3 | EA21: x | EB21: x | EC21: 4 | ED21: 2 | EE21: x | EF21: x | EG21: x | EJ21: x | EL21: x | EM21: x | EN21: x | EO21: x | EP21: x | EQ21: 3 | ER21: 2 | ET21: x
A22: 241264hsv-fan | C22: =(F22*5+G22*3+H22*1) -> 20 | D22: =COUNTIF(L22:ABK22,"<>") -> 81 | F22: =COUNTIF(L22:ABN22,"=1") -> 0 | G22: =COUNTIF(L22:ABN22,"=2") -> 5 | H22: =COUNTIF(L22:ABN22,"=3") -> 5 | I22: =COUNTIF(L22:ABL22,"=4") -> 11 | J22: =COUNTIF(L22:ABL22,"=5") -> 8 | AO22: x | AQ22: 5 | AR22: x | AS22: x | AT22: 4 | AU22: x | AX22: x | AZ22: x | BA22: x | BB22: x | BC22: x | BD22: 2 | BE22: 4 | BF22: 5 | BG22: x | BH22: 3 | BI22: x | BL22: 4 | BM22: x | BN22: 3 | BP22: 3 | BQ22: x | BR22: x | BS22: x | BT22: x | BU22: x | BW22: x | BX22: x | BY22: x | CA22: x | CB22: x | CC22: 5 | CD22: x | CE22: x | CF22: x | CG22: 4 | CI22: x | CJ22: x | CL22: 2 | CS22: x | CT22: 4 | CU22: 5 | CV22: 2 | CW22: x | CX22: x | DB22: x | DD22: 2 | DI22: 5 | DJ22: x | DK22: x | DL22: 3 | DM22: x | DN22: x | DP22: 4 | DQ22: 5 | DR22: x | DT22: x | DU22: x | DV22: x | DW22: x | DY22: x | DZ22: x | EA22: 4 | EC22: 5 | ED22: x | EE22: x | EF22: x | EG22: x | EH22: x | EI22: x | EK22: 4 | EL22: 4 | EM22: x | EN22: 4 | EO22: x | EP22: x | EQ22: 4 | ER22: x | ES22: 2 | ET22: 5 | EU22: 3
A23: Norrsken | C23: =(F23*5+G23*3+H23*1) -> 20 | D23: =COUNTIF(L23:ABK23,"<>") -> 47 | F23: =COUNTIF(L23:ABN23,"=1") -> 2 | G23: =COUNTIF(L23:ABN23,"=2") -> 3 | H23: =COUNTIF(L23:ABN23,"=3") -> 1 | I23: =COUNTIF(L23:ABL23,"=4") -> 5 | J23: =COUNTIF(L23:ABL23,"=5") -> 5 | CL23: 4 | CM23: x | CO23: x | CR23: x | CS23: x | CT23: 1 | CU23: x | CV23: x | CW23: 5 | CY23: 5 | CZ23: 4 | DA23: 4 | DB23: 5 | DE23: x | DF23: x | DG23: x | DJ23: x | DK23: 4 | DL23: x | DN23: 5 | DP23: x | DS23: x | DT23: 5 | DU23: 2 | DW23: 1 | DX23: 2 | DY23: x | DZ23: x | EA23: x | EB23: 2 | EC23: 3 | ED23: x | EE23: x | EF23: x | EH23: x | EI23: x | EJ23: x | EK23: x | EL23: x | EN23: x | EO23: x | EP23: x | EQ23: x | ER23: 4 | ES23: x | ET23: x | EU23: x
A24: Eisvogel | C24: =(F24*5+G24*3+H24*1) -> 17 | D24: =COUNTIF(L24:ABK24,"<>") -> 18 | F24: =COUNTIF(L24:ABN24,"=1") -> 2 | G24: =COUNTIF(L24:ABN24,"=2") -> 1 | H24: =COUNTIF(L24:ABN24,"=3") -> 4 | I24: =COUNTIF(L24:ABL24,"=4") -> 0 | J24: =COUNTIF(L24:ABL24,"=5") -> 2 | AY24: x | BC24: 3 | BD24: 3 | BE24: x | BF24: 3 | BG24: x | BH24: 2 | BJ24: x | BK24: 5 | BL24: x | BO24: 5 | BP24: x | BQ24: 3 | BR24: x | BT24: x | BV24: 1 | BX24: 1 | BY24: x
A25: Loriot 98 | C25: =(F25*5+G25*3+H25*1) -> 15 | D25: =COUNTIF(L25:ABK25,"<>") -> 8 | F25: =COUNTIF(L25:ABN25,"=1") -> 3 | G25: =COUNTIF(L25:ABN25,"=2") -> 0 | H25: =COUNTIF(L25:ABN25,"=3") -> 0 | I25: =COUNTIF(L25:ABL25,"=4") -> 0 | J25: =COUNTIF(L25:ABL25,"=5") -> 1 | DV25: x | DW25: 5 | DX25: x | DY25: 1 | DZ25: 1 | EA25: 1 | EB25: x | EC25: x
A26: gründi | C26: =(F26*5+G26*3+H26*1) -> 10 | D26: =COUNTIF(L26:ABK26,"<>") -> 21 | F26: =COUNTIF(L26:ABN26,"=1") -> 2 | G26: =COUNTIF(L26:ABN26,"=2") -> 0 | H26: =COUNTIF(L26:ABN26,"=3") -> 0 | I26: =COUNTIF(L26:ABL26,"=4") -> 1 | J26: =COUNTIF(L26:ABL26,"=5") -> 0 | DO26: x | DQ26: x | DR26: 4 | DW26: x | DX26: x | DY26: x | DZ26: x | EC26: x | EE26: x | EF26: x | EG26: x | EH26: x | EI26: 1 | EJ26: x | EK26: x | EL26: x | EM26: 1 | EN26: x | ES26: x | ET26: x | EU26: x
A27: KuK | C27: =(F27*5+G27*3+H27*1) -> 9 | D27: =COUNTIF(L27:ABK27,"<>") -> 14 | F27: =COUNTIF(L27:ABN27,"=1") -> 0 | G27: =COUNTIF(L27:ABN27,"=2") -> 2 | H27: =COUNTIF(L27:ABN27,"=3") -> 3 | I27: =COUNTIF(L27:ABL27,"=4") -> 1 | J27: =COUNTIF(L27:ABL27,"=5") -> 1 | AN27: 5 | AO27: x | AQ27: x | AS27: x | AX27: 2 | AY27: 2 | BF27: x | BG27: x | BH27: 4 | BI27: 3 | BJ27: 3 | BK27: x | BL27: x | BM27: 3
A28: pumuckl | C28: =(F28*5+G28*3+H28*1) -> 6 | D28: =COUNTIF(L28:ABK28,"<>") -> 3 | F28: =COUNTIF(L28:ABN28,"=1") -> 1 | G28: =COUNTIF(L28:ABN28,"=2") -> 0 | H28: =COUNTIF(L28:ABN28,"=3") -> 1 | I28: =COUNTIF(L28:ABL28,"=4") -> 0 | J28: =COUNTIF(L28:ABL28,"=5") -> 0 | BP28: 1 | EL28: x | EM28: 3
A29: Braunbear | C29: =(F29*5+G29*3+H29*1) -> 5 | D29: =COUNTIF(L29:ABK29,"<>") -> 4 | F29: =COUNTIF(L29:ABN29,"=1") -> 1 | G29: =COUNTIF(L29:ABN29,"=2") -> 0 | H29: =COUNTIF(L29:ABN29,"=3") -> 0 | I29: =COUNTIF(L29:ABL29,"=4") -> 0 | J29: =COUNTIF(L29:ABL29,"=5") -> 0 | DU29: x | ER29: x | ET29: x | EU29: 1
A30: Leseratte1957 | C30: =(F30*5+G30*3+H30*1) -> 5 | D30: =COUNTIF(L30:ABK30,"<>") -> 7 | F30: =COUNTIF(L30:ABN30,"=1") -> 1 | G30: =COUNTIF(L30:ABN30,"=2") -> 0 | H30: =COUNTIF(L30:ABN30,"=3") -> 0 | I30: =COUNTIF(L30:ABL30,"=4") -> 0 | J30: =COUNTIF(L30:ABL30,"=5") -> 1 | AL30: 5 | BU30: x | BW30: x | EH30: x | EK30: x | EM30: x | EO30: 1
A31: Lujowe73 | C31: =(F31*5+G31*3+H31*1) -> 3 | D31: =COUNTIF(L31:ABK31,"<>") -> 7 | F31: =COUNTIF(L31:ABN31,"=1") -> 0 | G31: =COUNTIF(L31:ABN31,"=2") -> 1 | H31: =COUNTIF(L31:ABN31,"=3") -> 0 | I31: =COUNTIF(L31:ABL31,"=4") -> 0 | J31: =COUNTIF(L31:ABL31,"=5") -> 1 | EK31: 5 | EL31: x | EN31: x | ER31: x | ES31: x | ET31: x | EU31: 2
A32: scorpio | C32: =(F32*5+G32*3+H32*1) -> 3 | D32: =COUNTIF(L32:ABK32,"<>") -> 6 | F32: =COUNTIF(L32:ABN32,"=1") -> 0 | G32: =COUNTIF(L32:ABN32,"=2") -> 1 | H32: =COUNTIF(L32:ABN32,"=3") -> 0 | I32: =COUNTIF(L32:ABL32,"=4") -> 1 | J32: =COUNTIF(L32:ABL32,"=5") -> 1 | DW32: x | EE32: 2 | EJ32: 5 | ES32: x | ET32: x | EU32: 4
A33: axbuhr | C33: =(F33*5+G33*3+H33*1) -> 1 | D33: =COUNTIF(L33:ABK33,"<>") -> 7 | F33: =COUNTIF(L33:ABN33,"=1") -> 0 | G33: =COUNTIF(L33:ABN33,"=2") -> 0 | H33: =COUNTIF(L33:ABN33,"=3") -> 1 | I33: =COUNTIF(L33:ABL33,"=4") -> 0 | J33: =COUNTIF(L33:ABL33,"=5") -> 1 | EN33: x | EO33: 3 | EP33: 5 | EQ33: x | ER33: x | ET33: x | EU33: x
A34: basmah | C34: =(F34*5+G34*3+H34*1) -> 0 | D34: =COUNTIF(L34:ABK34,"<>") -> 1 | F34: =COUNTIF(L34:ABN34,"=1") -> 0 | G34: =COUNTIF(L34:ABN34,"=2") -> 0 | H34: =COUNTIF(L34:ABN34,"=3") -> 0 | I34: =COUNTIF(L34:ABL34,"=4") -> 0 | J34: =COUNTIF(L34:ABL34,"=5") -> 0 | EO34: x
A35: BUND | C35: =(F35*5+G35*3+H35*1) -> 0 | D35: =COUNTIF(L35:ABK35,"<>") -> 2 | F35: =COUNTIF(L35:ABN35,"=1") -> 0 | G35: =COUNTIF(L35:ABN35,"=2") -> 0 | H35: =COUNTIF(L35:ABN35,"=3") -> 0 | I35: =COUNTIF(L35:ABL35,"=4") -> 0 | J35: =COUNTIF(L35:ABL35,"=5") -> 0 | DT35: x | EF35: x
A36: hd82hd | C36: =(F36*5+G36*3+H36*1) -> 0 | D36: =COUNTIF(L36:ABK36,"<>") -> 1 | F36: =COUNTIF(L36:ABN36,"=1") -> 0 | G36: =COUNTIF(L36:ABN36,"=2") -> 0 | H36: =COUNTIF(L36:ABN36,"=3") -> 0 | I36: =COUNTIF(L36:ABL36,"=4") -> 1 | J36: =COUNTIF(L36:ABL36,"=5") -> 0 | EE36: 4
A37: IVIichi | C37: =(F37*5+G37*3+H37*1) -> 0 | D37: =COUNTIF(L37:ABK37,"<>") -> 4 | F37: =COUNTIF(L37:ABN37,"=1") -> 0 | G37: =COUNTIF(L37:ABN37,"=2") -> 0 | H37: =COUNTIF(L37:ABN37,"=3") -> 0 | I37: =COUNTIF(L37:ABL37,"=4") -> 0 | J37: =COUNTIF(L37:ABL37,"=5") -> 0 | EP37: x | ER37: x | ET37: x | EU37: x
A38: KArnoldBln | C38: =(F38*5+G38*3+H38*1) -> 0 | D38: =COUNTIF(L38:ABK38,"<>") -> 5 | F38: =COUNTIF(L38:ABN38,"=1") -> 0 | G38: =COUNTIF(L38:ABN38,"=2") -> 0 | H38: =COUNTIF(L38:ABN38,"=3") -> 0 | I38: =COUNTIF(L38:ABL38,"=4") -> 0 | J38: =COUNTIF(L38:ABL38,"=5") -> 0 | DE38: x | EG38: x | EO38: x | ER38: x | EU38: x
A39: Schimmel | C39: =(F39*5+G39*3+H39*1) -> 0 | D39: =COUNTIF(L39:ABK39,"<>") -> 3 | F39: =COUNTIF(L39:ABN39,"=1") -> 0 | G39: =COUNTIF(L39:ABN39,"=2") -> 0 | H39: =COUNTIF(L39:ABN39,"=3") -> 0 | I39: =COUNTIF(L39:ABL39,"=4") -> 0 | J39: =COUNTIF(L39:ABL39,"=5") -> 0 | AO39: x | AP39: x | EI39: x
A40: Tobias | C40: =(F40*5+G40*3+H40*1) -> 0 | D40: =COUNTIF(L40:ABK40,"<>") -> 1 | F40: =COUNTIF(L40:ABN40,"=1") -> 0 | G40: =COUNTIF(L40:ABN40,"=2") -> 0 | H40: =COUNTIF(L40:ABN40,"=3") -> 0 | I40: =COUNTIF(L40:ABL40,"=4") -> 0 | J40: =COUNTIF(L40:ABL40,"=5") -> 0 | BU40: x
A41: Uli | C41: =(F41*5+G41*3+H41*1) -> 0 | D41: =COUNTIF(L41:ABK41,"<>") -> 1 | F41: =COUNTIF(L41:ABN41,"=1") -> 0 | G41: =COUNTIF(L41:ABN41,"=2") -> 0 | H41: =COUNTIF(L41:ABN41,"=3") -> 0 | I41: =COUNTIF(L41:ABL41,"=4") -> 0 | J41: =COUNTIF(L41:ABL41,"=5") -> 0 | ET41: x
A43: Tipps am Spieltag | L43: =COUNTIF(L9:L41,">0")+COUNTIF(L9:L41,"=x") -> 0 | M43: =COUNTIF(M9:M41,">0")+COUNTIF(M9:M41,"=x") -> 0 | N43: =COUNTIF(N9:N41,">0")+COUNTIF(N9:N41,"=x") -> 0 | O43: =COUNTIF(O9:O41,">0")+COUNTIF(O9:O41,"=x") -> 0 | P43: =COUNTIF(P9:P41,">0")+COUNTIF(P9:P41,"=x") -> 0 | Q43: =COUNTIF(Q9:Q41,">0")+COUNTIF(Q9:Q41,"=x") -> 0 | R43: =COUNTIF(R9:R41,">0")+COUNTIF(R9:R41,"=x") -> 0 | S43: =COUNTIF(S9:S41,">0")+COUNTIF(S9:S41,"=x") -> 0 | ... EU43: =COUNTIF(EU9:EU41,">0")+COUNTIF(EU9:EU41,"=x") -> 19

Sheet Platzierung
D2: Ergebnis
D3: 56
B5: kartenhai: 55,- € | C5: 55 | D5: =C5-D$3 -> -1 | E5: -1 | F5: =D5*E5 -> 1
B6: muesli: 52 € | C6: 52 | D6: =C6-D$3 -> -4 | E6: -1 | F6: =D6*E6 -> 4
B7: Wolffi: 51,- € | C7: 51 | D7: =C7-D$3 -> -5 | E7: -1 | F7: =D7*E7 -> 5
B8: Vichy 49,- | C8: 49 | D8: =C8-D$3 -> -7 | E8: -1 | F8: =D8*E8 -> 7
B9: Ramirez: 48,-- € | C9: 48 | D9: =C9-D$3 -> -8 | E9: -1 | F9: =D9*E9 -> 8
B10: uli hermann 44 € | C10: 44 | D10: =C10-D$3 -> -12 | E10: -1 | F10: =D10*E10 -> 12
B11: säulenkaktus: 42,-€ | C11: 42 | D11: =C11-D$3 -> -14 | E11: -1 | F11: =D11*E11 -> 14
B12: Lothar 40 € | C12: 40 | D12: =C12-D$3 -> -16 | E12: -1 | F12: =D12*E12 -> 16
B13: Nicht Profi: 39,- € | C13: 39 | D13: =C13-D$3 -> -17 | E13: -1 | F13: =D13*E13 -> 17
B14: Thor75S: 37,- € | C14: 37 | D14: =C14-D$3 -> -19 | E14: -1 | F14: =D14*E14 -> 19
B15: Claude D.: 35.- € | C15: 35 | D15: =C15-D$3 -> -21 | E15: -1 | F15: =D15*E15 -> 21
B16: Hallerc4: 33 € | C16: 33 | D16: =C16-D$3 -> -23 | E16: -1 | F16: =D16*E16 -> 23
... B19: ja2911: 6 € | C19: 6 | D19: =C19-D$3 -> -50 | E19: -1 | F19: =D19*E19 -> 50
E23: -1
B28: [B]Endergebnis: [SIZE=16] 56,- €[/SIZE][/B]
B30: kartenhai: 55,- €
B31: muesli: 52 €
B32: Wolffi: 51,- €
B34: Vichy 49,-
B35: Ramirez: 48,-- €
B37: Glückwunsch an die Gewinner.
B38: Nach Kontrolle bitte weiter mit Spiel 16.
